Felt | Verdi |
2014-04-02T21:58:19+02:00 File 95858 edit april 2, 14.tif saved
2014-04-02T22:01:56+02:00 File Rfit 0567. april 2, 2014.tif saved
2014-04-02T22:03+02:00 File 811y, snow.jpg saved
AlreadyApplied | True |
Aperture | 8.0 |
ApertureValue | 8.0 |
ApproximateFocusDistance | 36.8 |
Artist | Elisabeth Broch |
AutoLateralCA | 0 |
AutoWhiteVersion | 134348800 |
BitsPerSample (1) | 16 16 16 |
BitsPerSample | 8 |
Blacks2012 | -8 |
BlueHue | 0 |
BlueSaturation | 0 |
By-line | Elisabeth Broch |
CameraProfile | ACR 4.4 |
CircleOfConfusion | 0.023 mm |
Clarity2012 | -44 |
ColorComponents | 1 |
ColorMode | RGB |
ColorNoiseReduction | 0 |
ColorSpace | sRGB |
Contrast2012 | -4 |
ConvertToGrayscale | True |
Copyright | Copyright Elisabeth Broch |
CopyrightFlag | True |
CopyrightNotice | Copyright Elisabeth Broch |
CreateDate | 2011:02:26 14:36:34 |
Creator | Elisabeth Broch |
CreatorTool | Adobe Photoshop Lightroom 5.3 (Macintosh) |
DateCreated (1) | 2011:02:26 |
DateCreated | 2011:02:26 14:36:34.052 |
DateTimeOriginal | 2011:02:26 14:36:34 |
DOF | 13.02 m (31.41 - 44.43 m) |
ExifImageHeight | 800 |
ExifImageWidth | 1200 |
Exposure2012 | 0.00 |
ExposureCompensation | +1/2 |
ExposureMode | Auto |
ExposureProgram | Shutter speed priority AE |
ExposureTime | 1/180 |
Firmware | 1.3.0 |
Flash | No Flash |
FlashCompensation | 0 |
FNumber | 8.0 |
FocalLength | 200.0 mm |
FocalLength35efl | 200.0 mm (35 mm equivalent: 256.3 mm) |
Format | image/jpeg |
FOV | 8.0 deg |
GrainAmount | 0 |
GrayMixerAqua | -20 |
GrayMixerBlue | +6 |
GrayMixerGreen | -24 |
GrayMixerMagenta | +5 |
GrayMixerOrange | -14 |
GrayMixerPurple | +13 |
GrayMixerRed | -6 |
GrayMixerYellow | -18 |
GreenHue | 0 |
GreenSaturation | 0 |
HasCrop | False |
HasSettings | True |
Highlights2012 | +23 |
HyperfocalDistance | 213.24 m |
ICCProfileName | sRGB IEC61966-2.1 |
ImageHeight (1) | 2592 |
ImageHeight | 800 |
ImageNumber | 0 |
ImageSize | 1200x800 |
ImageWidth (1) | 3888 |
ImageWidth | 1200 |
IncrementalTemperature | 0 |
IncrementalTint | 0 |
ISO | 1600 |
Lens | EF70-200mm f/2.8L IS USM |
LensID (1) | 224 |
LensID | Canon EF 70-200mm f/2.8L IS USM |
LensInfo | 70-200mm f/? |
LensManualDistortionAmount | 0 |
LensModel | EF70-200mm f/2.8L IS USM |
LensProfileEnable | 0 |
LensProfileSetup | LensDefaults |
LightValue | 9.5 |
LuminanceNoiseReductionContrast | 0 |
LuminanceNoiseReductionDetail | 50 |
LuminanceSmoothing | 14 |
Make | Canon |
Marked | True |
MaxApertureValue | 2.8 |
Megapixels | 0.960 |
MeteringMode | Multi-segment |
Model | Canon EOS-1D Mark III |
ModifyDate (1) | 2014:04:02 22:03+02:00 |
ModifyDate | 2014:04:02 22:03:00 |
ObjectName | 04u snow |
Orientation | Horizontal (normal) |
ParametricDarks | -16 |
ParametricHighlights | -42 |
ParametricHighlightSplit | 75 |
ParametricLights | +39 |
ParametricMidtoneSplit | 50 |
ParametricShadows | -11 |
ParametricShadowSplit | 25 |
PerspectiveAspect | 0 |
PerspectiveHorizontal | 0 |
PerspectiveRotate | 0.0 |
PerspectiveScale | 100 |
PerspectiveUpright | 0 |
PerspectiveVertical | 0 |
PhotometricInterpretation | RGB |
PlanarConfiguration | Chunky |
PostCropVignetteAmount | 0 |
ProcessVersion | 6.7 |
ProfileDescription | sRGB IEC61966-2.1 |
RedHue | 0 |
RedSaturation | 0 |
Rights | Copyright Elisabeth Broch |
ScaleFactor35efl | 1.3 |
SceneCaptureType | Standard |
SerialNumber | 537691 |
Shadows2012 | +53 |
ShadowTint | 0 |
SharpenDetail | 25 |
SharpenEdgeMasking | 0 |
SharpenRadius | +1.0 |
Sharpness | 2 |
ShutterSpeed | 1/180 |
ShutterSpeedValue | 1/180 |
Software | Adobe Photoshop CS6 (Macintosh) |
SplitToningBalance | 0 |
SplitToningHighlightHue | 0 |
SplitToningHighlightSaturation | 0 |
SplitToningShadowHue | 0 |
SplitToningShadowSaturation | 0 |
Title | 04u snow |
ToneCurveName2012 | Linear |
ToneCurvePV2012 | 0, 0, 255, 255 |
ToneCurvePV2012Blue | 0, 0, 255, 255 |
ToneCurvePV2012Green | 0, 0, 255, 255 |
ToneCurvePV2012Red | 0, 0, 255, 255 |
URL_List | |
Version | 8.3 |
VignetteAmount | 0 |
WhiteBalance (1) | As Shot |
WhiteBalance | Auto |
Whites2012 | 0 |