Felt | Verdi |
AlreadyApplied | True |
Aperture | 4.0 |
ApertureValue | 4.0 |
ApproximateFocusDistance | 2.99 |
AutoLateralCA | 0 |
BitsPerSample | 8 |
Blacks2012 | -16 |
BlueHue | 0 |
BlueSaturation | 0 |
CameraProfile | Adobe Standard |
CFAPattern | [Red,Green][Green,Blue] |
CircleOfConfusion | 0.020 mm |
Clarity2012 | +72 |
ColorComponents | 1 |
ColorNoiseReduction | 25 |
ColorNoiseReductionDetail | 50 |
ColorTemperature | 4150 |
Contrast | Normal |
Contrast2012 | +54 |
ConvertToGrayscale | True |
CreateDate (1) | 2013:10:06 13:51:21.20 |
CreateDate | 2013:10:06 13:51:21 |
CreatorTool | Adobe Photoshop Lightroom 4.4 (Macintosh) |
CropAngle | 0 |
CropBottom | 0.862898 |
CropConstrainToWarp | 0 |
CropHeight | 2136 |
CropLeft | 0.162602 |
CropRight | 0.784442 |
CropTop | 0.208589 |
CropUnit | pixels |
CropWidth | 3064 |
CustomRendered | Normal |
DateCreated (1) | 2013:10:06 |
DateCreated | 2013:10:06 13:51:21.20 |
DateTimeOriginal | 2013:10:06 13:51:21 |
DigitalZoomRatio | 1 |
DOF | 0.29 m (2.85 - 3.14 m) |
Exposure2012 | +0.20 |
ExposureCompensation | 0 |
ExposureMode | Auto |
ExposureProgram | Aperture-priority AE |
ExposureTime | 1/15 |
Flash | Off, Did not fire |
FNumber | 4.0 |
FocalLength | 70.0 mm |
FocalLength35efl | 70.0 mm (35 mm equivalent: 105.0 mm) |
FocalLengthIn35mmFormat | 105 mm |
Format | image/jpeg |
FOV | 19.5 deg |
GainControl | Low gain up |
GrainAmount | 0 |
GrayMixerAqua | -17 |
GrayMixerBlue | +11 |
GrayMixerGreen | -26 |
GrayMixerMagenta | +4 |
GrayMixerOrange | -18 |
GrayMixerPurple | +16 |
GrayMixerRed | -9 |
GrayMixerYellow | -21 |
GreenHue | 0 |
GreenSaturation | 0 |
HasCrop | True |
HasSettings | True |
Highlights2012 | -75 |
HyperfocalDistance | 61.16 m |
ImageHeight | 2136 |
ImageNumber | 16545 |
ImageSize | 3064x2136 |
ImageWidth | 3064 |
ISO | 400 |
Lens | 17.0-70.0 mm f/2.8-4.0 |
LensID (1) | 160 |
LensID | Sigma 17-70mm F2.8-4 DC Macro OS HSM |
LensInfo | 17-70mm f/2.8-4 |
LensManualDistortionAmount | 0 |
LensModel | 17.0-70.0 mm f/2.8-4.0 |
LensProfileEnable | 0 |
LensProfileSetup | LensDefaults |
LightSource | Unknown |
LightValue | 5.9 |
LuminanceSmoothing | 0 |
Make | NIKON CORPORATION |
MaxApertureValue | 4.0 |
Megapixels | 6.5 |
MeteringMode | Multi-segment |
Model | NIKON D7000 |
ModifyDate (1) | 2013:10:14 20:59:24+02:00 |
ModifyDate | 2013:10:14 20:59:24 |
ParametricDarks | 0 |
ParametricHighlights | 0 |
ParametricHighlightSplit | 75 |
ParametricLights | 0 |
ParametricMidtoneSplit | 50 |
ParametricShadows | 0 |
ParametricShadowSplit | 25 |
PerspectiveHorizontal | 0 |
PerspectiveRotate | 0.0 |
PerspectiveScale | 100 |
PerspectiveVertical | 0 |
PostCropVignetteAmount | -19 |
PostCropVignetteFeather | 90 |
PostCropVignetteHighlightContrast | 0 |
PostCropVignetteMidpoint | 15 |
PostCropVignetteRoundness | 0 |
PostCropVignetteStyle | 1 |
ProcessVersion | 6.7 |
ProfileDescription | sRGB IEC61966-2.1 |
RedHue | 0 |
RedSaturation | 0 |
Saturation | Normal |
ScaleFactor35efl | 1.5 |
SceneCaptureType | Standard |
SceneType | Directly photographed |
SensingMethod | One-chip color area |
SensitivityType | Recommended Exposure Index |
SerialNumber | 6254626 |
Shadows2012 | +74 |
ShadowTint | 0 |
SharpenDetail | 25 |
SharpenEdgeMasking | 0 |
SharpenRadius | +1.0 |
Sharpness (1) | 25 |
Sharpness | Normal |
ShutterSpeed | 1/15 |
ShutterSpeedValue | 1/15 |
Software | Adobe Photoshop Lightroom 4.4 (Macintosh) |
SplitToningBalance | 0 |
SplitToningHighlightHue | 0 |
SplitToningHighlightSaturation | 0 |
SplitToningShadowHue | 0 |
SplitToningShadowSaturation | 0 |
SubjectDistanceRange | Unknown |
Tint | +35 |
ToneCurveName2012 | Linear |
ToneCurvePV2012 | 0, 0, 255, 255 |
ToneCurvePV2012Blue | 0, 0, 255, 255 |
ToneCurvePV2012Green | 0, 0, 255, 255 |
ToneCurvePV2012Red | 0, 0, 255, 255 |
Version | 7.4 |
VignetteAmount | 0 |
WhiteBalance (1) | As Shot |
WhiteBalance | Auto |
Whites2012 | +17 |