Felt | Verdi |
AlreadyApplied | True |
Aperture | 2.4 |
ApertureValue | 2.4 |
ApproximateFocusDistance | 0.71 |
Artist | RUNE*NILSSEN |
AutoLateralCA | 0 |
BitsPerSample | 8 |
Blacks2012 | -17 |
BlueHue | 0 |
BlueSaturation | 0 |
Brightness | +50 |
By-line | RUNE*NILSSEN |
CameraProfile | Adobe Standard |
CFAPattern | [Blue,Green][Green,Red] |
CircleOfConfusion | 0.020 mm |
Clarity | 0 |
Clarity2012 | 0 |
ColorComponents | 3 |
ColorMode | RGB |
ColorNoiseReduction | 25 |
ColorNoiseReductionDetail | 50 |
ColorSpace | sRGB |
ColorTemperature | 6100 |
Contrast (1) | +25 |
Contrast | Normal |
Contrast2012 | +13 |
ConvertToGrayscale | False |
Copyright | Rune*Nilssen |
CopyrightNotice | Rune*Nilssen |
CreateDate | 2013:02:09 12:53:26 |
Creator | RUNE*NILSSEN |
CreatorTool | K-5 Ver 1.14 |
CropAngle | 0 |
CropBottom | 0.870301 |
CropConstrainToWarp | 0 |
CropLeft | 0.262765 |
CropRight | 0.688667 |
CropTop | 0.005639 |
CustomRendered | Normal |
DateCreated (1) | 2013:02:09 |
DateCreated | 2013:02:09 12:53:26 |
DateTimeOriginal | 2013:02:09 12:53:26 |
Defringe | 0 |
DOF | 0.009 m (0.706 - 0.714 m) |
ExifImageHeight | 1024 |
ExifImageWidth | 762 |
Exposure | 0.00 |
Exposure2012 | -0.05 |
ExposureCompensation | 0 |
ExposureMode | Auto |
ExposureProgram | Aperture-priority AE |
ExposureTime | 1/1500 |
FillLight | 0 |
Flash | Off, Did not fire |
FNumber | 2.4 |
FocalLength | 70.0 mm |
FocalLength35efl | 70.0 mm (35 mm equivalent: 105.0 mm) |
FocalLengthIn35mmFormat | 105 mm |
Format | image/jpeg |
FOV | 19.5 deg |
GrainAmount | 0 |
GreenHue | 0 |
GreenSaturation | 0 |
HasCrop | True |
HasSettings | True |
HighlightRecovery | 0 |
Highlights2012 | 0 |
HueAdjustmentAqua | 0 |
HueAdjustmentBlue | 0 |
HueAdjustmentGreen | 0 |
HueAdjustmentMagenta | 0 |
HueAdjustmentOrange | 0 |
HueAdjustmentPurple | 0 |
HueAdjustmentRed | 0 |
HueAdjustmentYellow | 0 |
HyperfocalDistance | 101.93 m |
ICCProfileName | sRGB IEC61966-2.1 |
ImageHeight | 1024 |
ImageSize | 762x1024 |
ImageWidth | 762 |
ISO | 80 |
Lens | smc PENTAX-DA 70mm F2.4 Limited |
LensID (1) | 7 243 |
LensID | smc PENTAX-DA 70mm F2.4 Limited |
LensInfo | 70mm f/2.4 |
LensManualDistortionAmount | 0 |
LensModel | smc PENTAX-DA 70mm F2.4 Limited |
LensProfileChromaticAberrationScale | 100 |
LensProfileDistortionScale | 100 |
LensProfileEnable | 1 |
LensProfileFilename | PENTAX (smc PENTAX-DA 70mm F2.4 Limited).lcp |
LensProfileName | Adobe (smc PENTAX-DA 70mm F2.4 Limited) |
LensProfileSetup | LensDefaults |
LensProfileVignettingScale | 100 |
LightValue | 13.4 |
LuminanceAdjustmentAqua | 0 |
LuminanceAdjustmentBlue | 0 |
LuminanceAdjustmentGreen | 0 |
LuminanceAdjustmentMagenta | 0 |
LuminanceAdjustmentOrange | 0 |
LuminanceAdjustmentPurple | 0 |
LuminanceAdjustmentRed | 0 |
LuminanceAdjustmentYellow | 0 |
LuminanceSmoothing | 0 |
Make | PENTAX |
Megapixels | 0.780 |
MeteringMode | Spot |
Model | PENTAX K-5 |
ModifyDate (1) | 2013:02:09 23:29:08+01:00 |
ModifyDate | 2013:02:09 23:29:08 |
Orientation | Horizontal (normal) |
ParametricDarks | 0 |
ParametricHighlights | 0 |
ParametricHighlightSplit | 75 |
ParametricLights | 0 |
ParametricMidtoneSplit | 50 |
ParametricShadows | 0 |
ParametricShadowSplit | 25 |
PerspectiveHorizontal | 0 |
PerspectiveRotate | 0.0 |
PerspectiveScale | 100 |
PerspectiveVertical | 0 |
PostCropVignetteAmount | 0 |
ProcessVersion | 6.7 |
ProfileDescription | sRGB IEC61966-2.1 |
Rating | 0 |
RawFileName | RUNE3300.PEF |
RedHue | 0 |
RedSaturation | 0 |
Rights | Rune*Nilssen |
Saturation (1) | 0 |
Saturation | Normal |
SaturationAdjustmentAqua | 0 |
SaturationAdjustmentBlue | 0 |
SaturationAdjustmentGreen | 0 |
SaturationAdjustmentMagenta | 0 |
SaturationAdjustmentOrange | 0 |
SaturationAdjustmentPurple | 0 |
SaturationAdjustmentRed | 0 |
SaturationAdjustmentYellow | 0 |
ScaleFactor35efl | 1.5 |
SceneCaptureType | Standard |
SensingMethod | One-chip color area |
Shadows | 5 |
Shadows2012 | 0 |
ShadowTint | 0 |
SharpenDetail | 25 |
SharpenEdgeMasking | 0 |
SharpenRadius | +1.0 |
Sharpness (1) | 0 |
Sharpness | Normal |
ShutterSpeed | 1/1500 |
ShutterSpeedValue | 1/1500 |
Software | Adobe Photoshop CS6 (Windows) |
SplitToningBalance | 0 |
SplitToningHighlightHue | 0 |
SplitToningHighlightSaturation | 0 |
SplitToningShadowHue | 0 |
SplitToningShadowSaturation | 0 |
SubjectDistanceRange | Macro |
Tint | +19 |
ToneCurve | 0, 0, 32, 22, 64, 56, 128, 128, 192, 196, 255, 255 |
ToneCurveBlue | 0, 0, 255, 255 |
ToneCurveGreen | 0, 0, 255, 255 |
ToneCurveName | Medium Contrast |
ToneCurveName2012 | Linear |
ToneCurvePV2012 | 0, 0, 255, 255 |
ToneCurvePV2012Blue | 0, 0, 255, 255 |
ToneCurvePV2012Green | 0, 0, 255, 255 |
ToneCurvePV2012Red | 0, 0, 255, 255 |
ToneCurveRed | 0, 0, 255, 255 |
URL_List | |
Version | 7.0 |
Vibrance | 0 |
VignetteAmount | 0 |
WhiteBalance (1) | As Shot |
WhiteBalance | Auto |
Whites2012 | +36 |