Felt | Verdi |
AlreadyApplied | True |
Aperture | 7.1 |
ApertureValue | 7.1 |
BitsPerSample | 8 |
BlueHue | 0 |
BlueSaturation | 0 |
Brightness | 0 |
CameraProfile | Embedded |
Caption-Abstract | Model: www.mjranum-stock.deviantart.com/art |
ChromaticAberrationB | 0 |
ChromaticAberrationR | 0 |
CircleOfConfusion | 0.019 mm |
Clarity | +18 |
ColorComponents | 3 |
ColorMode | RGB |
ColorNoiseReduction | 0 |
ColorSpace | sRGB |
Contrast | 0 |
ConvertToGrayscale | False |
Copyright | Copyright Birgitta Sjöstedt |
CopyrightFlag | True |
CopyrightNotice | Copyright Birgitta Sjöstedt |
CreateDate (1) | 2008:09:29 16:11:46+02:00 |
CreateDate | 2008:09:27 07:34:44 |
CreatorAddress | Smedvägen 4 |
CreatorCity | Handen |
CreatorCountry | Sverige |
CreatorPostalCode | 136 46 |
CreatorTool | Adobe Photoshop Lightroom |
CreatorWorkEmail | sjostedt.birgitta@telia.com |
CreatorWorkTelephone | 073-7071565 |
CustomRendered | Custom |
DateTimeOriginal (1) | 2008:09:27 07:34:44+02:00 |
DateTimeOriginal | 2008:09:27 07:34:44 |
Defringe | 0 |
Description | Model: www.mjranum-stock.deviantart.com/art |
ExifImageHeight | 2434 |
ExifImageWidth | 2434 |
Exposure | 0.00 |
ExposureCompensation | 0 |
ExposureMode | Auto |
ExposureProgram | Program AE |
ExposureTime | 1/100 |
FillLight | 7 |
Flash | Off, Did not fire |
FlashFired | False |
FlashFunction | False |
FlashMode | Off |
FlashRedEyeMode | False |
FlashReturn | No return detection |
FNumber | 7.1 |
FocalLength | 27.0 mm |
FocalLength35efl | 27.0 mm (35 mm equivalent: 43.7 mm) |
Format | image/jpeg |
FOV | 44.8 deg |
GrainAmount | 0 |
GreenHue | 0 |
GreenSaturation | 0 |
HasCrop | False |
HasSettings | True |
HighlightRecovery | 0 |
HueAdjustmentAqua | 0 |
HueAdjustmentBlue | 0 |
HueAdjustmentGreen | 0 |
HueAdjustmentMagenta | 0 |
HueAdjustmentOrange | 0 |
HueAdjustmentPurple | 0 |
HueAdjustmentRed | 0 |
HueAdjustmentYellow | 0 |
HyperfocalDistance | 5.53 m |
ICCProfileName | sRGB IEC61966-2.1 |
ImageDescription | Model: www.mjranum-stock.deviantart.com/art |
ImageHeight (1) | 2575 |
ImageHeight | 2434 |
ImageSize | 2434x2434 |
ImageWidth (1) | 3877 |
ImageWidth | 2434 |
IncrementalTemperature | 0 |
IncrementalTint | 0 |
ISO | 800 |
Keywords | Abstract, aged, art, backdrop, background, broken, bud, concrete, creative, cruel, dirty, down, drop, effect, fairy, flower, forest, grit, groove, grunge, grungy, history, iron, multi, mysterious, mystic, oak, orchid, paint, pattern, plaster, rough, run, rust, split, spring, stigma, spinney, tale, texture, textured, trash, tree, wall, weathered, wild |
LensManualDistortionAmount | 0 |
LensProfileEnable | 0 |
LensProfileSetup | LensDefaults |
LightValue | 9.3 |
LuminanceAdjustmentAqua | 0 |
LuminanceAdjustmentBlue | 0 |
LuminanceAdjustmentGreen | 0 |
LuminanceAdjustmentMagenta | 0 |
LuminanceAdjustmentOrange | 0 |
LuminanceAdjustmentPurple | 0 |
LuminanceAdjustmentRed | 0 |
LuminanceAdjustmentYellow | 0 |
LuminanceNoiseReductionContrast | 0 |
LuminanceNoiseReductionDetail | 50 |
LuminanceSmoothing | 1 |
Make | Canon |
Marked | True |
Megapixels | 5.9 |
MeteringMode | Multi-segment |
Model | Canon EOS 400D DIGITAL |
ModifyDate (1) | 2012:11:06 16:47:40+01:00 |
ModifyDate | 2012:11:06 16:47:40 |
ObjectName | Mystery tale. |
Orientation | Horizontal (normal) |
ParametricDarks | 0 |
ParametricHighlights | 0 |
ParametricHighlightSplit | 75 |
ParametricLights | 0 |
ParametricMidtoneSplit | 50 |
ParametricShadows | 0 |
ParametricShadowSplit | 25 |
PerspectiveHorizontal | 0 |
PerspectiveRotate | 0.0 |
PerspectiveScale | 100 |
PerspectiveVertical | 0 |
PostCropVignetteAmount | 0 |
ProcessVersion | 5.7 |
ProfileDescription | sRGB IEC61966-2.1 |
Rating | 2 |
RedHue | 0 |
RedSaturation | 0 |
Rights | Copyright Birgitta Sjöstedt |
Saturation | 0 |
SaturationAdjustmentAqua | 0 |
SaturationAdjustmentBlue | 0 |
SaturationAdjustmentGreen | 0 |
SaturationAdjustmentMagenta | 0 |
SaturationAdjustmentOrange | 0 |
SaturationAdjustmentPurple | 0 |
SaturationAdjustmentRed | 0 |
SaturationAdjustmentYellow | 0 |
ScaleFactor35efl | 1.6 |
SceneCaptureType | Standard |
Shadows | 10 |
ShadowTint | 0 |
SharpenDetail | 4 |
SharpenEdgeMasking | 20 |
SharpenRadius | +0.6 |
Sharpness | 1 |
ShutterSpeed | 1/100 |
ShutterSpeedValue | 1/100 |
Software | Adobe Photoshop Elements 10.0 Windows |
SplitToningBalance | 0 |
SplitToningHighlightHue | 0 |
SplitToningHighlightSaturation | 0 |
SplitToningShadowHue | 0 |
SplitToningShadowSaturation | 0 |
Subject | Abstract, aged, art, backdrop, background, broken, bud, concrete, creative, cruel, dirty, down, drop, effect, fairy, flower, forest, grit, groove, grunge, grungy, history, iron, multi, mysterious, mystic, oak, orchid, paint, pattern, plaster, rough, run, rust, split, spring, stigma, spinney, tale, texture, textured, trash, tree, wall, weathered, wild |
Title | Mystery tale. |
ToneCurve | 0, 0, 32, 22, 64, 56, 128, 128, 192, 196, 255, 255 |
ToneCurveName | Medium Contrast |
URL_List | |
UsageTerms | Ingen användning av något slag utan tillstånd av upprättsinnehavaren |
Version | 6.1 |
Vibrance | +18 |
VignetteAmount | 0 |
WhiteBalance (2) | As Shot |
WhiteBalance | Manual |