Felt | Verdi |
AlreadyApplied | True |
Aperture | 2.8 |
ApertureValue | 2.8 |
ApproximateFocusDistance | 1.5 |
BitsPerSample | 8 |
BlueHue | 0 |
BlueSaturation | 0 |
Brightness | +56 |
CameraProfile | Adobe Standard |
CFAPattern | [Red,Green][Green,Blue] |
ChromaticAberrationB | 0 |
ChromaticAberrationR | 0 |
CircleOfConfusion | 0.030 mm |
Clarity | -4 |
ColorComponents | 1 |
ColorMode | Grayscale |
ColorNoiseReduction | 25 |
ColorNoiseReductionDetail | 50 |
ColorSpace | Uncalibrated |
ColorTemperature | 4900 |
Contrast (1) | +33 |
Contrast | Normal |
ConvertToGrayscale | True |
CreateDate (1) | 2012:04:28 17:25:59.62+02:00 |
CreateDate | 2012:04:28 17:25:59 |
CreatorTool | Ver.1.02 |
CustomRendered | Normal |
DateCreated (1) | 2012:04:28 |
DateCreated | 2012:04:28 17:25:59.062 |
DateTimeOriginal | 2012:04:28 17:25:59 |
Defringe | 0 |
DigitalZoomRatio | 1 |
DOF | 0.019 m (1.491 - 1.510 m) |
ExifImageHeight | 3409 |
ExifImageWidth | 2436 |
Exposure | +1.45 |
ExposureCompensation | 0 |
ExposureMode | Auto |
ExposureProgram | Aperture-priority AE |
ExposureTime | 1/8000 |
FillLight | 0 |
Flash | No Flash |
FNumber | 2.8 |
FocalLength | 135.0 mm |
FocalLength35efl | 135.0 mm (35 mm equivalent: 135.0 mm) |
FocalLengthIn35mmFormat | 135 mm |
Format | image/jpeg |
FOV | 15.2 deg |
GainControl | Low gain up |
GrainAmount | 0 |
GrayMixerAqua | -17 |
GrayMixerBlue | +10 |
GrayMixerGreen | -25 |
GrayMixerMagenta | +4 |
GrayMixerOrange | -16 |
GrayMixerPurple | +15 |
GrayMixerRed | -8 |
GrayMixerYellow | -20 |
GreenHue | 0 |
GreenSaturation | 0 |
HasCrop | False |
HasSettings | True |
HighlightRecovery | 0 |
HyperfocalDistance | 216.63 m |
ICCProfileName | Gray Gamma 2.2 |
ImageHeight | 3409 |
ImageNumber | 20027 |
ImageSize | 2436x3409 |
ImageWidth | 2436 |
ISO | 800 |
Lens | 135.0 mm f/2.0 |
LensID (1) | 78 |
LensID | AF DC-Nikkor 135mm f/2D |
LensInfo | 135mm f/2 |
LensManualDistortionAmount | 0 |
LensModel | 135.0 mm f/2.0 |
LensProfileEnable | 0 |
LensProfileSetup | LensDefaults |
LightSource | Shade |
LightValue | 12.9 |
LuminanceSmoothing | 0 |
Make | NIKON CORPORATION |
MaxApertureValue | 2.0 |
Megapixels | 8.3 |
MeteringMode | Multi-segment |
Model | NIKON D700 |
ModifyDate (1) | 2012:05:03 22:01:17+02:00 |
ModifyDate | 2012:05:03 22:01:17 |
Orientation | Horizontal (normal) |
ParametricDarks | +18 |
ParametricHighlights | 0 |
ParametricHighlightSplit | 75 |
ParametricLights | 0 |
ParametricMidtoneSplit | 50 |
ParametricShadows | +9 |
ParametricShadowSplit | 25 |
PerspectiveHorizontal | 0 |
PerspectiveRotate | 0.0 |
PerspectiveScale | 100 |
PerspectiveVertical | 0 |
PostCropVignetteAmount | 0 |
ProcessVersion | 5.7 |
ProfileDescription | Gray Gamma 2.2 |
Rating | 0 |
RawFileName | DSC_9763 - Kopi.NEF |
RedHue | 0 |
RedSaturation | 0 |
Saturation | Normal |
ScaleFactor35efl | 1.0 |
SceneCaptureType | Standard |
SceneType | Directly photographed |
SensingMethod | One-chip color area |
SensitivityType | Unknown |
SerialNumber | 2286311 |
Shadows | 5 |
ShadowTint | 0 |
SharpenDetail | 25 |
SharpenEdgeMasking | 0 |
SharpenRadius | +1.0 |
Sharpness (1) | 25 |
Sharpness | Normal |
ShutterSpeed | 1/8000 |
ShutterSpeedValue | 1/8000 |
SidecarForExtension | NEF |
Software | Adobe Photoshop CS5.1 Windows |
SplitToningBalance | 0 |
SplitToningHighlightHue | 0 |
SplitToningHighlightSaturation | 0 |
SplitToningShadowHue | 0 |
SplitToningShadowSaturation | 0 |
SubjectDistance | 1.5 m |
SubjectDistanceRange | Unknown |
Tint | +2 |
ToneCurve | 0, 0, 32, 22, 64, 56, 128, 128, 192, 196, 255, 255 |
ToneCurveName | Medium Contrast |
URL_List | |
Version | 6.3 |
VignetteAmount | 0 |
WhiteBalance (1) | Custom |
WhiteBalance | Manual |