Felt | Verdi |
AlreadyApplied | True |
Aperture | 3.2 |
ApertureValue | 3.2 |
BitsPerSample | 8 |
BlueHue | 0 |
BlueSaturation | 0 |
Brightness | +45 |
CameraProfile | Adobe Standard |
CFAPattern | [Red,Green][Green,Blue] |
ChromaticAberrationB | 0 |
ChromaticAberrationR | 0 |
CircleOfConfusion | 0.020 mm |
Clarity | 0 |
ColorComponents | 3 |
ColorMode | RGB |
ColorNoiseReduction | 25 |
ColorNoiseReductionDetail | 50 |
ColorSpace | sRGB |
ColorTemperature | 2850 |
Contrast (1) | +63 |
Contrast | Normal |
ConvertToGrayscale | True |
CreateDate (1) | 2011:06:30 19:25:40.68+02:00 |
CreateDate | 2011:06:30 19:25:40 |
CreatorTool | Ver.1.10 |
CustomRendered | Normal |
DateCreated (1) | 2011:06:30 |
DateCreated | 2011:06:30 19:25:40.068 |
DateTimeOriginal | 2011:06:30 19:25:40 |
Defringe | 0 |
DigitalZoomRatio | 1 |
DOF | inf (171.45 m - inf) |
ExifImageHeight | 2010 |
ExifImageWidth | 1369 |
Exposure | -2.00 |
ExposureCompensation | -1/3 |
ExposureMode | Auto |
ExposureProgram | Program AE |
ExposureTime | 1/40 |
FillLight | 15 |
Flash | No Flash |
FNumber | 3.2 |
FocalLength | 105.0 mm |
FocalLength35efl | 105.0 mm (35 mm equivalent: 157.0 mm) |
FocalLengthIn35mmFormat | 157 mm |
Format | image/jpeg |
FOV | 13.1 deg |
GainControl | High gain up |
GrainAmount | 0 |
GrayMixerAqua | -13 |
GrayMixerBlue | -4 |
GrayMixerGreen | -21 |
GrayMixerMagenta | +12 |
GrayMixerOrange | -28 |
GrayMixerPurple | +12 |
GrayMixerRed | -15 |
GrayMixerYellow | -28 |
GreenHue | 0 |
GreenSaturation | 0 |
HasCrop | False |
HasSettings | True |
HighlightRecovery | 57 |
HyperfocalDistance | 171.45 m |
ICCProfileName | sRGB IEC61966-2.1 |
ImageHeight | 2010 |
ImageNumber | 17810 |
ImageSize | 1369x2010 |
ImageWidth | 1369 |
ISO | 3200 |
Lens | 105.0 mm f/2.8 |
LensID (1) | 138 |
LensID | AF-S VR Micro-Nikkor 105mm f/2.8G IF-ED |
LensInfo | 105mm f/2.8 |
LightSource | Unknown |
LightValue | 3.7 |
LuminanceNoiseReductionContrast | 50 |
LuminanceNoiseReductionDetail | 50 |
LuminanceSmoothing | 50 |
Make | NIKON CORPORATION |
MaxApertureValue | 2.8 |
Megapixels | 2.8 |
MeteringMode | Center-weighted average |
Model | NIKON D300 |
ModifyDate (1) | 2012:04:10 21:26:12+02:00 |
ModifyDate | 2012:04:10 21:26:12 |
Orientation | Horizontal (normal) |
ParametricDarks | 0 |
ParametricHighlights | 0 |
ParametricHighlightSplit | 75 |
ParametricLights | 0 |
ParametricMidtoneSplit | 50 |
ParametricShadows | 0 |
ParametricShadowSplit | 25 |
PostCropVignetteAmount | 0 |
ProcessVersion | 5.7 |
ProfileDescription | sRGB IEC61966-2.1 |
Rating | 0 |
RawFileName | _PHH7656.NEF |
RedHue | 0 |
RedSaturation | 0 |
Saturation | Normal |
ScaleFactor35efl | 1.5 |
SceneCaptureType | Standard |
SceneType | Directly photographed |
SensingMethod | One-chip color area |
SerialNumber | 4141875 |
Shadows | 47 |
ShadowTint | 0 |
SharpenDetail | 60 |
SharpenEdgeMasking | 0 |
SharpenRadius | +1.0 |
Sharpness (1) | 60 |
Sharpness | Hard |
ShutterSpeed | 1/40 |
ShutterSpeedValue | 1/40 |
Software | Adobe Photoshop CS5 Windows |
SplitToningBalance | 0 |
SplitToningHighlightHue | 0 |
SplitToningHighlightSaturation | 0 |
SplitToningShadowHue | 0 |
SplitToningShadowSaturation | 0 |
SubjectDistance | 4294967295 m |
SubjectDistanceRange | Unknown |
Tint | +5 |
ToneCurve | 0, 0, 32, 22, 64, 56, 128, 128, 192, 196, 255, 255 |
ToneCurveName | Medium Contrast |
URL_List | |
Version | 6.0 |
VignetteAmount | 0 |
WhiteBalance | Auto |