Felt | Verdi |
AlreadyApplied | True |
Aperture | 4.0 |
ApertureValue | 4.0 |
Artist | Birgitta Sjöstedt |
BitsPerSample | 8 |
BlueHue | 0 |
BlueSaturation | 0 |
Brightness | +15 |
By-line | Birgitta Sjöstedt |
CameraProfile | Embedded |
ChromaticAberrationB | 0 |
ChromaticAberrationR | 0 |
CircleOfConfusion | 0.019 mm |
Clarity | +56 |
ColorComponents | 3 |
ColorMode | RGB |
ColorNoiseReduction | 51 |
ColorSpace | sRGB |
Contrast | +9 |
ConvertToGrayscale | False |
Copyright | Copyright Birgitta Sjöstedt |
CopyrightNotice | Copyright Birgitta Sjöstedt |
CreateDate (1) | 2009:07:10 16:34:50+02:00 |
CreateDate | 2009:07:08 07:09:35 |
Creator | Birgitta Sjöstedt |
CreatorTool | Adobe Photoshop Elements 7.0 Windows |
CustomRendered | Normal |
DateTimeDigitized | 2009:07:08 07:09:35+02:00 |
DateTimeOriginal (1) | 2009:07:08 07:09:35+02:00 |
DateTimeOriginal | 2009:07:08 07:09:35 |
Defringe | 0 |
ExifImageHeight | 567 |
ExifImageWidth | 900 |
Exposure | 0.00 |
ExposureCompensation | 0 |
ExposureMode | Auto |
ExposureProgram | Program AE |
ExposureTime | 1/60 |
FillLight | 0 |
Firmware | 1.0.4 |
Flash | Off, Did not fire |
FlashCompensation | 0 |
FlashFired | False |
FlashFunction | False |
FlashMode | Off |
FlashRedEyeMode | False |
FlashReturn | No return detection |
FNumber | 4.0 |
FocalLength | 28.0 mm |
FocalLength35efl | 28.0 mm (35 mm equivalent: 45.3 mm) |
Format | image/jpeg |
FOV | 43.3 deg |
GreenHue | 0 |
GreenSaturation | 0 |
HasCrop | False |
HasSettings | True |
HighlightRecovery | 6 |
HueAdjustmentAqua | 0 |
HueAdjustmentBlue | 0 |
HueAdjustmentGreen | 0 |
HueAdjustmentMagenta | 0 |
HueAdjustmentOrange | 0 |
HueAdjustmentPurple | 0 |
HueAdjustmentRed | 0 |
HueAdjustmentYellow | 0 |
HyperfocalDistance | 10.56 m |
ICCProfileName | sRGB IEC61966-2.1 |
ImageHeight | 567 |
ImageNumber | 224 |
ImageSize | 900x567 |
ImageWidth | 900 |
IncrementalTemperature | -3 |
IncrementalTint | 0 |
ISO | 200 |
Keywords | nature, water, boat, rowing boat, tree, secret, place, love, beauty, texture, filter, sun, sunlit, mystic, mysterious, sweden, swedish |
Lens | 28.0-75.0 mm |
LensInfo | 28-75mm f/? |
LightValue | 8.9 |
LuminanceAdjustmentAqua | 0 |
LuminanceAdjustmentBlue | 0 |
LuminanceAdjustmentGreen | 0 |
LuminanceAdjustmentMagenta | 0 |
LuminanceAdjustmentOrange | 0 |
LuminanceAdjustmentPurple | 0 |
LuminanceAdjustmentRed | 0 |
LuminanceAdjustmentYellow | 0 |
LuminanceSmoothing | 51 |
Make | Canon |
MaxApertureValue | 2.8 |
Megapixels | 0.510 |
MeteringMode | Partial |
Model | Canon EOS 400D DIGITAL |
ModifyDate (1) | 2012:03:01 12:05:09+01:00 |
ModifyDate | 2012:03:01 12:05:09 |
ObjectName | Place for love. |
Orientation | Horizontal (normal) |
OwnerName | unknown |
ParametricDarks | 0 |
ParametricHighlights | 0 |
ParametricHighlightSplit | 75 |
ParametricLights | 0 |
ParametricMidtoneSplit | 50 |
ParametricShadows | 0 |
ParametricShadowSplit | 25 |
PostCropVignetteAmount | 0 |
ProfileDescription | sRGB IEC61966-2.1 |
Rating | 0 |
RawFileName | IMG_1582.JPG |
RedHue | 0 |
RedSaturation | 0 |
Rights | Copyright Birgitta Sjöstedt |
Saturation | +4 |
SaturationAdjustmentAqua | 0 |
SaturationAdjustmentBlue | 0 |
SaturationAdjustmentGreen | 0 |
SaturationAdjustmentMagenta | 0 |
SaturationAdjustmentOrange | 0 |
SaturationAdjustmentPurple | 0 |
SaturationAdjustmentRed | 0 |
SaturationAdjustmentYellow | 0 |
ScaleFactor35efl | 1.6 |
SceneCaptureType | Standard |
SerialNumber | 330104313 |
Shadows | 2 |
ShadowTint | 0 |
SharpenDetail | 25 |
SharpenEdgeMasking | 10 |
SharpenRadius | +1.0 |
Sharpness | 90 |
ShutterSpeed | 1/60 |
ShutterSpeedValue | 1/60 |
Software | Adobe Photoshop Elements 8.0 Windows |
SplitToningBalance | 0 |
SplitToningHighlightHue | 0 |
SplitToningHighlightSaturation | 0 |
SplitToningShadowHue | 0 |
SplitToningShadowSaturation | 0 |
Subject | nature, water, boat, rowing boat, tree, secret, place, love, beauty, texture, filter, sun, sunlit, mystic, mysterious, sweden, swedish |
Title | Place for love. |
ToneCurve | 0, 0, 255, 255 |
ToneCurveName | Linear |
URL_List | |
Version | 4.5 |
Vibrance | +13 |
VignetteAmount | 0 |
WhiteBalance (2) | Custom |
WhiteBalance | Manual |