Felt | Verdi |
AlreadyApplied | True |
Aperture | 4.8 |
ApertureValue | 4.8 |
ApproximateFNumber | 4.5 |
Artist | Alf M. Sollund |
BaseISO | 160 |
BitsPerSample | 8 |
BlueBalance | 0.86697 |
BlueHue | 0 |
BlueSaturation | 0 |
Brightness | +50 |
By-line | Alf M. Sollund |
CameraProfile | Adobe Standard |
CameraTemperature | 16 C |
CaptionWriter | Alf M. Sollund |
ChromaticAberrationB | 0 |
ChromaticAberrationR | 0 |
CircleOfConfusion | 0.030 mm |
Clarity | +25 |
ColorComponents | 3 |
ColorNoiseReduction | 15 |
ColorNoiseReductionDetail | 50 |
ColorTemperature | 6400 |
Contrast (1) | +39 |
Contrast | Normal |
ConvertToGrayscale | False |
Copyright | Alf M. Sollund |
CopyrightFlag | True |
CopyrightNotice | Alf M. Sollund |
CreateDate | 2011:10:26 15:30:48 |
Creator | Alf M. Sollund |
CreatorAddress | Amtmanns gt 15 |
CreatorCity | Tromsø |
CreatorCountry | Norway |
CreatorPostalCode | 9008 |
CreatorRegion | Norway |
CreatorTool | Adobe Photoshop Lightroom 3.5 (Windows) |
CreatorWorkEmail | alf-martin.sollund@telenor.com |
CreatorWorkTelephone | +4791889676 |
CreatorWorkURL | flyalf.com |
CropAngle | 0.1 |
CropBottom | 0.88418 |
CropConstrainToWarp | 0 |
CropHeight | 681 |
CropLeft | 0.054252 |
CropRight | 0.870038 |
CropTop | 0.065304 |
CropUnit | pixels |
CropWidth | 1024 |
DateCreated (1) | 2011:10:26 |
DateCreated | 2011:10:26 15:30:48 |
DateTimeOriginal | 2011:10:26 15:30:48 |
Defringe | 0 |
DigitalZoomRatio | 0 |
Exposure | -1.24 |
ExposureCompensation | +0.332 |
ExposureMode | Manual |
ExposureProgram | Aperture-priority AE |
ExposureTime | 1/45 |
ExternalSensorBrightnessValue | 3.04 |
FillLight | 97 |
FirmwareVersion | 1.162 |
Flash | No Flash |
FNumber | 4.8 |
FocalLength | 50.0 mm |
FocalLength35efl | 50.0 mm (35 mm equivalent: 50.0 mm) |
FocalLengthIn35mmFormat | 50 mm |
FOV | 39.6 deg |
GrainAmount | 0 |
GreenHue | 0 |
GreenSaturation | 0 |
HasCrop | True |
HasSettings | True |
HighlightRecovery | 57 |
HueAdjustmentAqua | 0 |
HueAdjustmentBlue | 0 |
HueAdjustmentGreen | +20 |
HueAdjustmentMagenta | 0 |
HueAdjustmentOrange | 0 |
HueAdjustmentPurple | 0 |
HueAdjustmentRed | +10 |
HueAdjustmentYellow | 0 |
HyperfocalDistance | 17.33 m |
ImageHeight | 681 |
ImageSize | 1024x681 |
ImageWidth | 1024 |
ISO | 200 |
JPEGQuality | Fine |
JPEGSize | 5216x3472 |
Keywords | Aarstid, Europa, Europe, Fokus, Geography, Goegrafi, Ishavskatedralen, Location, Lokasjon, Nord-Norge, Norway, Place, Season, Sted, Tid, Time, Troms, Tromsdalstinden, Tromsoe, winter |
Lens | Leica Summicron-M 50mm f/2 (IV, V) |
LensID (1) | 33 |
LensID | Leica Summicron-M 50mm f/2 (IV, V) |
LensManualDistortionAmount | 0 |
LensModel | Leica Summicron-M 50mm f/2 (IV, V) |
LensProfileEnable | 0 |
LensProfileSetup | LensDefaults |
LensType | Summicron-M 50mm f/2 (IV, V) |
LightSource | Unknown |
LightValue | 9.0 |
LuminanceAdjustmentAqua | 0 |
LuminanceAdjustmentBlue | -35 |
LuminanceAdjustmentGreen | 0 |
LuminanceAdjustmentMagenta | 0 |
LuminanceAdjustmentOrange | -21 |
LuminanceAdjustmentPurple | 0 |
LuminanceAdjustmentRed | 0 |
LuminanceAdjustmentYellow | -1 |
LuminanceNoiseReductionContrast | 0 |
LuminanceNoiseReductionDetail | 50 |
LuminanceSmoothing | 11 |
Make | Leica Camera AG |
MakerNoteSafety | Safe |
Marked | True |
MaxApertureValue | 2.0 |
MeasuredLV | 3.23 |
Megapixels | 0.697 |
MeteringMode | Center-weighted average |
Model | M9 Digital Camera |
ModifyDate (1) | 2011:10:26 20:21:52+02:00 |
ModifyDate | 2011:10:26 20:21:52 |
ParametricDarks | -7 |
ParametricHighlights | +12 |
ParametricHighlightSplit | 75 |
ParametricLights | +7 |
ParametricMidtoneSplit | 50 |
ParametricShadows | -12 |
ParametricShadowSplit | 25 |
PerspectiveHorizontal | 0 |
PerspectiveRotate | 0.0 |
PerspectiveScale | 100 |
PerspectiveVertical | 0 |
PostCropVignetteAmount | -10 |
PostCropVignetteFeather | 50 |
PostCropVignetteHighlightContrast | 0 |
PostCropVignetteMidpoint | 50 |
PostCropVignetteRoundness | 0 |
PostCropVignetteStyle | 1 |
ProcessVersion | 5.7 |
ProfileDescription | sRGB IEC61966-2.1 |
Rating | 5 |
RedBalance | 0.400391 |
RedHue | 0 |
RedSaturation | 0 |
Rights | Alf M. Sollund |
Saturation (1) | +10 |
Saturation | Normal |
SaturationAdjustmentAqua | 0 |
SaturationAdjustmentBlue | +4 |
SaturationAdjustmentGreen | +10 |
SaturationAdjustmentMagenta | 0 |
SaturationAdjustmentOrange | 0 |
SaturationAdjustmentPurple | 0 |
SaturationAdjustmentRed | -10 |
SaturationAdjustmentYellow | 0 |
ScaleFactor35efl | 1.0 |
SceneCaptureType | Standard |
SceneType | Directly photographed |
SensorBitDepth | 14 |
SensorHeight | 3516 |
SensorWidth | 5270 |
SerialNumber | 3834853 |
Shadows | 5 |
ShadowTint | 0 |
SharpenDetail | 10 |
SharpenEdgeMasking | 20 |
Sharpening | Normal |
SharpenRadius | +1.5 |
Sharpness | 0 |
ShutterSpeed | 1/45 |
ShutterSpeedValue | 1/45 |
Software | Adobe Photoshop Lightroom 3.5 (Windows) |
SplitToningBalance | 0 |
SplitToningHighlightHue | 0 |
SplitToningHighlightSaturation | 0 |
SplitToningShadowHue | 0 |
SplitToningShadowSaturation | 0 |
Subject | Aarstid, Europa, Europe, Fokus, Geography, Goegrafi, Ishavskatedralen, Location, Lokasjon, Nord-Norge, Norway, Place, Season, Sted, Tid, Time, Troms, Tromsdalstinden, Tromsoe, winter |
Tint | +25 |
ToneCurve | 0, 0, 32, 22, 64, 56, 128, 128, 192, 196, 255, 255 |
ToneCurveName | Medium Contrast |
UserProfile | Profile 4 |
Version | 6.5 |
Vibrance | +17 |
VignetteAmount | 0 |
WB_RGBLevels | 0.4003910068 1 0.8669700497 |
WhiteBalance (2) | Custom |
WhiteBalance | Auto |
Writer-Editor | Alf M. Sollund |