Felt | Verdi |
AlreadyApplied | True |
Aperture | 8.0 |
ApertureValue | 8.0 |
BitsPerSample (1) | 16, 16, 16 |
BitsPerSample (2) | 16 16 16 |
BitsPerSample | 8 |
BlueHue | 0 |
BlueSaturation | 0 |
Brightness | +85 |
CameraProfile | Adobe Standard |
ChromaticAberrationB | 0 |
ChromaticAberrationR | 0 |
CircleOfConfusion | 0.030 mm |
Clarity | +40 |
ColorComponents | 1 |
ColorMode | RGB |
ColorNoiseReduction | 10 |
ColorNoiseReductionDetail | 24 |
ColorSpace (1) | Unknown (-1) |
ColorSpace | Uncalibrated |
ColorTemperature | 5523 |
Contrast | +28 |
ConvertToGrayscale | True |
CopyrightFlag | False |
CreateDate (1) | 2010:10:30 21:07:21+02:00 |
CreateDate | 2010:07:13 16:53:44 |
CreatorTool | Adobe Photoshop CS3 Macintosh |
CropAngle | 1.28785 |
CropBottom | 1 |
CropConstrainToWarp | 0 |
CropHeight | 2849 |
CropLeft | 0.056866 |
CropRight | 0.694215 |
CropTop | 0 |
CropUnit | pixels |
CropWidth | 2849 |
CustomRendered | Normal |
DateTimeDigitized | 2010:07:13 16:53:44+02:00 |
DateTimeOriginal (1) | 2010:07:13 16:53:44+02:00 |
DateTimeOriginal | 2010:07:13 16:53:44 |
Defringe | 0 |
ExifImageHeight | 1280 |
ExifImageWidth | 1280 |
Exposure | -2.35 |
ExposureCompensation | 0 |
ExposureMode | Auto |
ExposureProgram | Aperture-priority AE |
ExposureTime | 1/4000 |
FillLight | 0 |
Firmware | 1.1.0 |
Flash | Off, Did not fire |
FlashCompensation | 0 |
FlashFired | False |
FlashFunction | False |
FlashMode | Off |
FlashRedEyeMode | False |
FlashReturn | No return detection |
FNumber | 8.0 |
FocalLength | 50.0 mm |
FocalLength35efl | 50.0 mm (35 mm equivalent: 50.1 mm) |
Format | image/jpeg |
FOV | 39.5 deg |
GradientBasedCorrActive | true |
GradientBasedCorrAmount | 1.000000 |
GradientBasedCorrBrightness | 0.000000 |
GradientBasedCorrClarity | -0.011765 |
GradientBasedCorrContrast (1) | 1.000000 |
GradientBasedCorrContrast | 0.000000 |
GradientBasedCorrExposure (1) | -0.223529 |
GradientBasedCorrExposure | 0.058824 |
GradientBasedCorrHue | 29.000000 |
GradientBasedCorrMaskFullX (1) | 0.708684 |
GradientBasedCorrMaskFullX | 0.052416 |
GradientBasedCorrMaskFullY (1) | 0.462938 |
GradientBasedCorrMaskFullY | 0.443343 |
GradientBasedCorrMaskValue | 1.000000 |
GradientBasedCorrMaskWhat | Mask/Gradient |
GradientBasedCorrMaskZeroX (1) | 0.376750 |
GradientBasedCorrMaskZeroX | 0.367422 |
GradientBasedCorrMaskZeroY (1) | 0.453012 |
GradientBasedCorrMaskZeroY | 0.455233 |
GradientBasedCorrSaturation (3) | 0.011765 |
GradientBasedCorrSaturation | 0.000000 |
GradientBasedCorrSharpness | -0.011765 |
GradientBasedCorrWhat | Correction |
GrainAmount | 32 |
GrainFrequency | 68 |
GrainSize | 25 |
GrayMixerAqua | +4 |
GrayMixerBlue | -100 |
GrayMixerGreen | +2 |
GrayMixerMagenta | +4 |
GrayMixerOrange | +2 |
GrayMixerPurple | +15 |
GrayMixerRed | -9 |
GrayMixerYellow | 0 |
GreenHue | 0 |
GreenSaturation | 0 |
HasCrop | True |
HasSettings | True |
HighlightRecovery | 0 |
HyperfocalDistance | 10.42 m |
ICCProfileName | Adobe RGB (1998) |
ImageHeight (1) | 2849 |
ImageHeight | 1280 |
ImageNumber | 2 |
ImageSize | 1280x1280 |
ImageWidth (1) | 2849 |
ImageWidth | 1280 |
ISO | 250 |
Lens | 50.0 mm |
LensID (1) | 241 |
LensID | Canon EF 50mm f/1.2L USM |
LensInfo | 50mm f/? |
LensManualDistortionAmount | 0 |
LensModel | 50.0 mm |
LensProfileEnable | 0 |
LensProfileSetup | LensDefaults |
LightValue | 16.6 |
LuminanceNoiseReductionContrast | 32 |
LuminanceNoiseReductionDetail | 17 |
LuminanceSmoothing | 2 |
Make | Canon |
MaxApertureValue | 1.2 |
Megapixels | 1.6 |
MeteringMode | Unknown |
Model | Canon EOS 5D |
ModifyDate (1) | 2010:10:30 21:07:21+02:00 |
ModifyDate | 2010:10:30 21:07:21 |
Orientation | Horizontal (normal) |
PaintCorrectionActive | true |
PaintCorrectionAmount | 1.000000 |
PaintCorrectionBrightness | 0.000000 |
PaintCorrectionClarity | -0.011765 |
PaintCorrectionContrast | 0.788235 |
PaintCorrectionExposure | 0.294118 |
PaintCorrectionHue | 29.000000 |
PaintCorrectionMaskCenterWeight | 0.000000 |
PaintCorrectionMaskFlow | 0.200000 |
PaintCorrectionMaskRadius | 0.020434 |
PaintCorrectionMaskValue | 1.000000 |
PaintCorrectionMaskWhat | Mask/Paint |
PaintCorrectionSaturation (1) | 0.011765 |
PaintCorrectionSaturation | 0.000000 |
PaintCorrectionSharpness | -0.011765 |
PaintCorrectionWhat | Correction |
ParametricDarks | -70 |
ParametricHighlights | +100 |
ParametricHighlightSplit | 75 |
ParametricLights | +88 |
ParametricMidtoneSplit | 50 |
ParametricShadows | +45 |
ParametricShadowSplit | 25 |
PerspectiveHorizontal | 0 |
PerspectiveRotate | 0.0 |
PerspectiveScale | 100 |
PerspectiveVertical | 0 |
PhotometricInterpretation | RGB |
PlanarConfiguration | Chunky |
PostCropVignetteAmount | 0 |
ProcessVersion | 5.7 |
ProfileDescription | Adobe RGB (1998) |
Rating | 2 |
RedHue | 0 |
RedSaturation | 0 |
SamplesPerPixel | 3 |
ScaleFactor35efl | 1.0 |
SceneCaptureType | Standard |
SensitivityType | Unknown |
SerialNumber | 1531004431 |
Shadows | 11 |
ShadowTint | 0 |
SharpenDetail | 45 |
SharpenEdgeMasking | 48 |
SharpenRadius | +0.7 |
Sharpness | 99 |
ShutterSpeed | 1/4000 |
ShutterSpeedValue | 1/4000 |
Software | Adobe Photoshop CS3 Macintosh |
SplitToningBalance | 0 |
SplitToningHighlightHue | 0 |
SplitToningHighlightSaturation | 0 |
SplitToningShadowHue | 0 |
SplitToningShadowSaturation | 0 |
Tint | +6 |
ToneCurve | 0, 0, 32, 22, 64, 56, 128, 128, 192, 196, 255, 255 |
ToneCurveName | Medium Contrast |
URL_List | |
Version | 6.2 |
VignetteAmount | 0 |
WhiteBalance (2) | Custom |
WhiteBalance | Auto |