Felt | Verdi |
AlreadyApplied | True |
Aperture | 2.7 |
ApertureValue | 2.7 |
BitsPerSample | 8 |
BlueHue | 0 |
BlueSaturation | 0 |
Brightness | +50 |
CameraProfile | Adobe Standard |
CFAPattern | [Green,Blue][Red,Green] |
ChromaticAberrationB | 0 |
ChromaticAberrationR | 0 |
CircleOfConfusion | 0.006 mm |
Clarity | 0 |
ColorComponents | 3 |
ColorMode | RGB |
ColorNoiseReduction | 25 |
ColorNoiseReductionDetail | 50 |
ColorSpace (1) | Unknown (-1) |
ColorSpace | Uncalibrated |
ColorTemperature | 5300 |
Contrast (2) | +25 |
Contrast | Normal |
ConvertToGrayscale | False |
CopyrightFlag | False |
CreateDate (1) | 2010:12:11 17:18:05+01:00 |
CreateDate | 2010:12:11 11:23:11 |
CreatorTool | Adobe Photoshop CS3 Windows |
CropAngle | 0 |
CropBottom | 0.965174 |
CropConstrainToWarp | 0 |
CropHeight | 2601 |
CropLeft | 0.266791 |
CropRight | 0.88495 |
CropTop | 0.144279 |
CropUnit | pixels |
CropWidth | 2611 |
CustomRendered | Normal |
DateTimeDigitized | 2010:12:11 11:23:11+01:00 |
DateTimeOriginal (1) | 2010:12:11 11:23:11+01:00 |
DateTimeOriginal | 2010:12:11 11:23:11 |
Defringe | 0 |
DerivedFrom | |
DigitalZoomRatio | 0 |
ExifImageHeight | 1020 |
ExifImageWidth | 1024 |
Exposure | 0.00 |
ExposureCompensation | 0 |
ExposureMode | Auto |
ExposureProgram | Program AE |
ExposureTime | 1/60 |
FillLight | 0 |
Flash | Off, Did not fire |
FlashFired | False |
FlashFunction | False |
FlashMode | Off |
FlashRedEyeMode | False |
FlashReturn | No return detection |
FNumber | 2.7 |
FocalLength | 6.0 mm |
FocalLength35efl | 6.0 mm (35 mm equivalent: 28.0 mm) |
FocalLengthIn35mmFormat | 28 mm |
Format | image/jpeg |
FOV | 65.5 deg |
GainControl | Low gain up |
GradientBasedCorrActive | true |
GradientBasedCorrAmount | 1.000000 |
GradientBasedCorrBrightness | 0.000000 |
GradientBasedCorrClarity | -0.775000 |
GradientBasedCorrContrast | 0.025000 |
GradientBasedCorrExposure | -0.366000 |
GradientBasedCorrHue | 191.000000 |
GradientBasedCorrMaskFullX | 0.291045 |
GradientBasedCorrMaskFullY | 0.018656 |
GradientBasedCorrMaskValue | 1.000000 |
GradientBasedCorrMaskWhat | Mask/Gradient |
GradientBasedCorrMaskZeroX | 0.410448 |
GradientBasedCorrMaskZeroY | 0.684079 |
GradientBasedCorrSaturation (1) | 0.049000 |
GradientBasedCorrSaturation | 0.040000 |
GradientBasedCorrSharpness | 0.366000 |
GradientBasedCorrWhat | Correction |
GrainAmount | 0 |
GreenHue | 0 |
GreenSaturation | -8 |
HasCrop | True |
HasSettings | True |
HighlightRecovery | 0 |
HueAdjustmentAqua | +36 |
HueAdjustmentBlue | 0 |
HueAdjustmentGreen | 0 |
HueAdjustmentMagenta | 0 |
HueAdjustmentOrange | 0 |
HueAdjustmentPurple | 0 |
HueAdjustmentRed | 0 |
HueAdjustmentYellow | 0 |
HyperfocalDistance | 2.07 m |
ICCProfileName | Adobe RGB (1998) |
ImageHeight (1) | 2601 |
ImageHeight | 1020 |
ImageSize | 1024x1020 |
ImageWidth (1) | 2611 |
ImageWidth | 1024 |
ISO | 98 |
LensManualDistortionAmount | 0 |
LensProfileChromaticAberrationScale | 159 |
LensProfileDistortionScale | 71 |
LensProfileEnable | 1 |
LensProfileFilename | COOLPIX P6000 (Nikon 6-24mm f2.7-5.9) - RAW.lcp |
LensProfileName | Adobe (Nikon COOLPIX P6000) |
LensProfileSetup | Custom |
LensProfileVignettingScale | 78 |
LightSource | Unknown |
LightValue | 8.8 |
LuminanceAdjustmentAqua | -36 |
LuminanceAdjustmentBlue | 0 |
LuminanceAdjustmentGreen | -41 |
LuminanceAdjustmentMagenta | 0 |
LuminanceAdjustmentOrange | 0 |
LuminanceAdjustmentPurple | 0 |
LuminanceAdjustmentRed | 0 |
LuminanceAdjustmentYellow | 0 |
LuminanceNoiseReductionContrast | 0 |
LuminanceNoiseReductionDetail | 50 |
LuminanceSmoothing | 32 |
Make | NIKON |
MaxApertureValue | 2.7 |
Megapixels | 1.0 |
MeteringMode | Multi-segment |
Model | COOLPIX P6000 |
ModifyDate (1) | 2010:12:11 17:18:05+01:00 |
ModifyDate | 2010:12:11 17:18:05 |
Orientation | Horizontal (normal) |
ParametricDarks | 0 |
ParametricHighlights | 0 |
ParametricHighlightSplit | 75 |
ParametricLights | 0 |
ParametricMidtoneSplit | 50 |
ParametricShadows | 0 |
ParametricShadowSplit | 25 |
PerspectiveHorizontal | 0 |
PerspectiveRotate | 0.0 |
PerspectiveScale | 100 |
PerspectiveVertical | 0 |
PostCropVignetteAmount | 0 |
ProcessVersion | 5.7 |
ProfileDescription | Adobe RGB (1998) |
RedHue | 0 |
RedSaturation | 0 |
Saturation (2) | 0 |
Saturation | Normal |
SaturationAdjustmentAqua | -45 |
SaturationAdjustmentBlue | 0 |
SaturationAdjustmentGreen | -84 |
SaturationAdjustmentMagenta | 0 |
SaturationAdjustmentOrange | 0 |
SaturationAdjustmentPurple | 0 |
SaturationAdjustmentRed | 0 |
SaturationAdjustmentYellow | 0 |
ScaleFactor35efl | 4.7 |
SceneCaptureType | Standard |
SceneType | Directly photographed |
SensingMethod | One-chip color area |
SensitivityType | Unknown |
Shadows | 5 |
ShadowTint | -3 |
SharpenDetail | 25 |
SharpenEdgeMasking | 0 |
SharpenRadius | +1.0 |
Sharpness (2) | 53 |
Sharpness | Normal |
ShutterSpeed | 1/60 |
ShutterSpeedValue | 1/60 |
Software | Adobe Photoshop CS3 Windows |
SplitToningBalance | 0 |
SplitToningHighlightHue | 0 |
SplitToningHighlightSaturation | 0 |
SplitToningShadowHue | 0 |
SplitToningShadowSaturation | 0 |
SubjectDistanceRange | Unknown |
Tint | 0 |
ToneCurve | 0, 0, 32, 22, 64, 56, 128, 128, 192, 196, 255, 255 |
ToneCurveName | Medium Contrast |
URL_List | |
Version | 6.2 |
Vibrance | 0 |
VignetteAmount | 0 |
WhiteBalance (2) | As Shot |
WhiteBalance | Auto |