Felt | Verdi |
AlreadyApplied | True |
Aperture | 7.1 |
ApertureValue | 7.1 |
Artist | Per Einar Gunnarsen |
BitsPerSample (1) | 16, 16, 16 |
BitsPerSample (2) | 16 16 16 |
BitsPerSample | 8 |
BlueHue | 0 |
BlueSaturation | 0 |
Brightness | +50 |
BrightnessValue | 10.5 |
By-line | Per Einar Gunnarsen |
CameraProfile | Adobe Standard |
Caption-Abstract | SONY DSC |
ChromaticAberrationB | 0 |
ChromaticAberrationR | 0 |
CircleOfConfusion | 0.030 mm |
Clarity | +23 |
ColorComponents | 3 |
ColorMode | RGB |
ColorNoiseReduction | 25 |
ColorSpace | sRGB |
ColorTemperature | 5200 |
Contrast (2) | +26 |
Contrast | High |
ConvertToGrayscale | False |
Copyright | Per Einar Gunnarsen or P.Gunnarsen |
CopyrightNotice | Per Einar Gunnarsen or P.Gunnarsen |
Country | Norway |
Country-PrimaryLocationName | Norway |
CountryCode | NO |
CreateDate (1) | 2009:08:18 12:10:30+02:00 |
CreateDate | 2009:08:18 12:10:30 |
Creator | Per Einar Gunnarsen |
CreatorAddress | Mathopsveien 70 |
CreatorCity | Bergen |
CreatorCountry | Norway |
CreatorPostalCode | 5173 |
CreatorRegion | Loddefjord |
CreatorTool | DSLR-A900 v1.00 |
CreatorWorkEmail | pegunnar@broadpark.no |
CreatorWorkTelephone | 0047 99447277 |
CreatorWorkURL | http://www.redbubble.com/people/piddien |
CropAngle | -0.198392 |
CropBottom | 0.980373 |
CropLeft | 0.001233 |
CropRight | 0.984543 |
CropTop | 0.202124 |
CustomRendered | Normal |
DateTimeDigitized | 2009:08:18 12:10:30+02:00 |
DateTimeOriginal (1) | 2009:08:18 12:10:30+02:00 |
DateTimeOriginal | 2009:08:18 12:10:30 |
Defringe | 0 |
Description | SONY DSC |
ExifImageHeight | 681 |
ExifImageWidth | 1280 |
Exposure | 0.00 |
ExposureCompensation | 0 |
ExposureMode | Manual |
ExposureProgram | Manual |
ExposureTime | 1/2000 |
FillLight | 0 |
Flash | Off, Did not fire |
FlashFired | False |
FlashFunction | False |
FlashMode | Off |
FlashRedEyeMode | False |
FlashReturn | No return detection |
FNumber | 7.1 |
FocalLength | 180.0 mm |
FocalLength35efl | 180.0 mm (35 mm equivalent: 180.0 mm) |
FocalLengthIn35mmFormat | 180 mm |
Format | image/jpeg |
FOV | 11.4 deg |
GrainAmount | 0 |
GreenHue | 0 |
GreenSaturation | 0 |
HasCrop | True |
HasSettings | True |
HighlightRecovery | 0 |
HueAdjustmentAqua | 0 |
HueAdjustmentBlue | 0 |
HueAdjustmentGreen | 0 |
HueAdjustmentMagenta | 0 |
HueAdjustmentOrange | 0 |
HueAdjustmentPurple | 0 |
HueAdjustmentRed | 0 |
HueAdjustmentYellow | 0 |
HyperfocalDistance | 151.88 m |
ICCProfileName | sRGB IEC61966-2.1 |
ImageDescription | SONY DSC |
ImageHeight (1) | 5672 |
ImageHeight (2) | 3158 |
ImageHeight | 681 |
ImageSize | 1280x681 |
ImageWidth (1) | 10661 |
ImageWidth (2) | 5936 |
ImageWidth | 1280 |
ISO | 250 |
Lens | 70-200mm F2.8 G |
LensID (1) | 33 |
LensID | Minolta/Sony AF 70-200mm F2.8 G |
LensInfo | 70-200mm f/2.8 |
LightSource | Unknown |
LightValue | 15.3 |
LuminanceAdjustmentAqua | 0 |
LuminanceAdjustmentBlue | 0 |
LuminanceAdjustmentGreen | 0 |
LuminanceAdjustmentMagenta | 0 |
LuminanceAdjustmentOrange | 0 |
LuminanceAdjustmentPurple | 0 |
LuminanceAdjustmentRed | 0 |
LuminanceAdjustmentYellow | 0 |
LuminanceSmoothing | 0 |
Make | SONY |
MaxApertureValue | 2.8 |
Megapixels | 0.872 |
MeteringMode | Center-weighted average |
Model | DSLR-A900 |
ModifyDate (1) | 2010:11:10 22:07:11+01:00 |
ModifyDate | 2010:11:10 22:07:11 |
Orientation | Horizontal (normal) |
ParametricDarks | 0 |
ParametricHighlights | 0 |
ParametricHighlightSplit | 75 |
ParametricLights | 0 |
ParametricMidtoneSplit | 50 |
ParametricShadows | 0 |
ParametricShadowSplit | 25 |
PhotometricInterpretation | RGB |
PlanarConfiguration | Chunky |
PostCropVignetteAmount | 0 |
ProcessVersion | 5.0 |
ProfileDescription | sRGB IEC61966-2.1 |
Rating | 0 |
RawFileName | DSC03635.ARW |
RedHue | 0 |
RedSaturation | 0 |
Rights | Per Einar Gunnarsen or P.Gunnarsen |
SamplesPerPixel | 3 |
Saturation (2) | 0 |
Saturation | High |
SaturationAdjustmentAqua | 0 |
SaturationAdjustmentBlue | 0 |
SaturationAdjustmentGreen | 0 |
SaturationAdjustmentMagenta | 0 |
SaturationAdjustmentOrange | 0 |
SaturationAdjustmentPurple | 0 |
SaturationAdjustmentRed | 0 |
SaturationAdjustmentYellow | 0 |
ScaleFactor35efl | 1.0 |
SceneCaptureType | Standard |
SceneType | Directly photographed |
Shadows | 14 |
ShadowTint | 0 |
SharpenDetail | 25 |
SharpenEdgeMasking | 0 |
SharpenRadius | +1.0 |
Sharpness (2) | 25 |
Sharpness | Hard |
ShutterSpeed | 1/2000 |
ShutterSpeedValue | 1/2000 |
SidecarForExtension | ARW |
Software | Adobe Photoshop CS4 Windows |
SplitToningBalance | 0 |
SplitToningHighlightHue | 0 |
SplitToningHighlightSaturation | 0 |
SplitToningShadowHue | 0 |
SplitToningShadowSaturation | 0 |
Tint | +3 |
ToneCurve | 0, 0, 32, 22, 74, 62, 128, 128, 183, 206, 255, 255 |
ToneCurveName | Custom |
URL_List | |
UsageTerms | make a phonecall to owner |
Version | 5.7 |
Vibrance | +9 |
VignetteAmount | 0 |
WhiteBalance (2) | Custom |
WhiteBalance | Auto |