Felt | Verdi |
100
2010-11-07T20:04:15+01:00 File _MG_2023.jpg saved
2010-11-08T23:19:56+01:00 File _MG_2023.jpg opened
2010-11-08T23:20:18+01:00 File _MG_2023.jpg saved
2010-11-08T23:20:55+01:00 File _MG_2023_sh.jpg saved
2010-11-09T19:53:31+01:00 File _MG_2023_sh.jpg opened
2010-11-09T19:55:07+01:00 File _MG_2023_sh.jpg saved
Absolute Grain Size: 1,5
Adjustment: levels adjustment list
AlreadyApplied | True |
Aperture | 2.0 |
ApertureValue | 2.0 |
Apply Filter in New Layer
As: Camera Raw
BitsPerSample | 8 |
Black and White Film
Blacks: 10
Blue Hue: 0
Blue Saturation: 0
Blue: 255
Blue: “BlueCurve: 2 0 0 0 0 0 0 1 1 ”
BlueHue | 0 |
BlueSaturation | 0 |
Blur Opacity: 0
Blur Radius: 5
Brightness | +52 |
Brightness: 52
Brush Tool
Camera Profile: “Adobe Standard”
CameraProfile | Adobe Standard |
Category: “B&W Films - Low Contrast (grain off)”
Channel Mixer: “41 31 28 1”
Channel: composite channel
Chromatic Aberration B: 0
Chromatic Aberration R: 0
ChromaticAberrationB | 0 |
ChromaticAberrationR | 0 |
CircleOfConfusion | 0.031 mm |
Clarity | +20 |
Clarity: 20
Color Contrast: 0
Color Noise Reduction: 25
Color: RGB color
ColorComponents | 1 |
ColorMode | RGB |
ColorNoiseReduction | 25 |
ColorSpace | Uncalibrated |
ColorTemperature | 4650 |
Contrast | +32 |
Contrast: 32
ConvertToGrayscale | False |
CreateDate (1) | 2010:10:31 12:12:17.20+01:00 |
CreateDate | 2010:10:31 12:12:17 |
Crop Angle: 0
Crop Bottom: 0,88
Crop Height: 3
Crop Left: 0,135
Crop Right: 1
Crop Top: 0,015
Crop Unit: Ratio
Crop Width: 2
CropAngle | 0 |
CropBottom | 0.880342 |
CropHeight | 3 |
CropLeft | 0.134972 |
CropRight | 1 |
CropTop | 0.015313 |
CropUnit | Unknown (3) |
CropWidth | 2 |
CustomRendered | Normal |
DateTimeDigitized | 2010:10:31 12:12:17.20+01:00 |
DateTimeOriginal (1) | 2010:10:31 12:12:17.20+01:00 |
DateTimeOriginal | 2010:10:31 12:12:17 |
Defringe | 0 |
Defringe: 0
Depth: 8 Bits/channel
DOF | 0.02 m (0.71 - 0.73 m) |
ExifImageHeight | 708 |
ExifImageWidth | 1024 |
Exposure 2 Black And White Film true
Exposure | +0.35 |
Exposure: 0,35
ExposureCompensation | +1 |
ExposureMode | Auto |
ExposureProgram | Aperture-priority AE |
ExposureTime | 1/160 |
false
Fill Light: 3
Fill Method: color
FillLight | 3 |
Film Format: 135 Format
Firmware | 2.0.4 |
Flash | Off, Did not fire |
FlashCompensation | 0 |
FlashFired | False |
FlashFunction | False |
FlashMode | Off |
FlashRedEyeMode | False |
FlashReturn | No return detection |
Flatten Image
FNumber | 2.0 |
FocalLength | 50.0 mm |
FocalLength35efl | 50.0 mm (35 mm equivalent: 48.8 mm) |
Format | image/jpeg |
FOV | 40.5 deg |
Gamma: 0,93
Grain Strength: 0
GrainAmount | 0 |
Green Hue: 0
Green Saturation: 0
Green: 255
Green: “GreenCurve: 2 0 0 0 0 0 0 1 1 ”
GreenHue | 0 |
GreenSaturation | 0 |
Halation Opacity: 0
Halation Spread: 20
HasCrop | True |
HasSettings | True |
Highlight: 26,78
HighlightRecovery | 28 |
Hue Adjust Aqua: 0
Hue Adjust Blue: 0
Hue Adjust Green: 0
Hue Adjust Magenta: 0
Hue Adjust Orange: 0
Hue Adjust Purple: 0
Hue Adjust Red: 0
Hue Adjust Yellow: 0
HueAdjustmentAqua | 0 |
HueAdjustmentBlue | 0 |
HueAdjustmentGreen | 0 |
HueAdjustmentMagenta | 0 |
HueAdjustmentOrange | 0 |
HueAdjustmentPurple | 0 |
HueAdjustmentRed | 0 |
HueAdjustmentYellow | 0 |
HyperfocalDistance | 40.60 m |
ICCProfileName | Adobe RGB (1998) |
Image Size
Image Size Width: 1024 pixels
Image Size Width: 4200 pixels
ImageHeight | 708 |
ImageNumber | 0 |
ImageSize | 1024x708 |
ImageWidth | 1024 |
Ink 1 Color: “RGB: 60 30 0 ”
Ink 1 Position: 50
Ink 1 Strength: 0
Ink 2 Color: “RGB: 0 0 60 ”
Ink 2 Position: 20
Ink 2 Strength: 0
Input: 2, 250
Interpolation: bicubic
ISO | 200 |
Lens | EF50mm f/1.2L USM |
LensID (1) | 241 |
LensID | Canon EF 50mm f/1.2L USM |
LensInfo | 50mm f/? |
Levels
levels adjustment
Levels Preset Kind: Custom
LightValue | 8.3 |
Local Adjustments: “”
Luminance Adjust Aqua: 0
Luminance Adjust Blue: 0
Luminance Adjust Green: 0
Luminance Adjust Magenta: 0
Luminance Adjust Orange: 0
Luminance Adjust Purple: 0
Luminance Adjust Red: 0
Luminance Adjust Yellow: 0
Luminance Smoothing: 0
LuminanceAdjustmentAqua | 0 |
LuminanceAdjustmentBlue | 0 |
LuminanceAdjustmentGreen | 0 |
LuminanceAdjustmentMagenta | 0 |
LuminanceAdjustmentOrange | 0 |
LuminanceAdjustmentPurple | 0 |
LuminanceAdjustmentRed | 0 |
LuminanceAdjustmentYellow | 0 |
LuminanceSmoothing | 0 |
Make | Canon |
MaxApertureValue | 1.2 |
Megapixels | 0.725 |
Merge Visible
MeteringMode | Multi-segment |
Midtone: 33,33
Mode: normal
Model | Canon EOS 5D Mark II |
Model: “Canon EOS 5D Mark II”
ModifyDate (1) | 2010:11:09 19:55:07+01:00 |
ModifyDate | 2010:11:09 19:55:07 |
Opacity: 100%
Open Macintosh HD:Users:adied:Desktop:2010-10-31:_MG_2023.CR2
Orientation | Horizontal (normal) |
Output Sharpen For: None
Overall Intensity: 100
Parametric Darks: 0
Parametric Highlight Split: 75
Parametric Highlights: 0
Parametric Lights: 0
Parametric Midtone Split: 50
Parametric Shadow Split: 25
Parametric Shadows: 0
ParametricDarks | 0 |
ParametricHighlights | 0 |
ParametricHighlightSplit | 75 |
ParametricLights | 0 |
ParametricMidtoneSplit | 50 |
ParametricShadows | 0 |
ParametricShadowSplit | 25 |
Play action “Slice Like A Ninja (Sharpen)” of set “TRA2 - The Revenge”
Position: inside
Post Crop Vignetting Amount: 0
PostCropVignetteAmount | 0 |
ProcessVersion | 5.0 |
ProfileDescription | Adobe RGB (1998) |
Push Processing: 0
Rating | 0 |
RawFileName | _MG_2023.CR2 |
Recovery: 28
Red Eye: “”
Red Hue: 0
Red Saturation: 0
Red: 255
Red: “RedCurve: 2 0 0 0 0 0 0 1 1 ”
RedHue | 0 |
RedSaturation | 0 |
Relative Grain Size: 0,95
Resolution: 240
RGB: “RGBCurve: 5 0 0 0 0 0 0 0.113821 0.0882353 0.300813 0.298319 0.552846 0.579832 1 1 ”
Roughness: 20
Saturation Adjust Aqua: 0
Saturation Adjust Blue: 0
Saturation Adjust Green: 0
Saturation Adjust Magenta: 0
Saturation Adjust Orange: 0
Saturation Adjust Purple: 0
Saturation Adjust Red: 0
Saturation Adjust Yellow: 0
Saturation | 0 |
Saturation: 0
SaturationAdjustmentAqua | 0 |
SaturationAdjustmentBlue | 0 |
SaturationAdjustmentGreen | 0 |
SaturationAdjustmentMagenta | 0 |
SaturationAdjustmentOrange | 0 |
SaturationAdjustmentPurple | 0 |
SaturationAdjustmentRed | 0 |
SaturationAdjustmentYellow | 0 |
Save
Scale: 1
Scale: 333,3%
ScaleFactor35efl | 1.0 |
SceneCaptureType | Standard |
Select layer “keyline layer” Without Make Visible
SerialNumber | 1330808299 |
Set Layer Styles of current layer To: layer styles
Setting: “Ilford Delta 3200”
Settings: Custom
Shadow Tint: 0
Shadow: 30,6
Shadows | 10 |
ShadowTint | 0 |
Sharpen Amount: 0
Sharpen Amount: 25
Sharpen Detail: 25
Sharpen Masking: 0
Sharpen Radius: 1
Sharpen Radius: 25
Sharpen Threshold: 0
SharpenDetail | 25 |
SharpenEdgeMasking | 0 |
SharpenRadius | +1.0 |
Sharpness | 25 |
ShutterSpeed | 1/160 |
ShutterSpeedValue | 1/160 |
SidecarForExtension | CR2 |
Size: 3 pixels
Software | Adobe Photoshop CS4 Macintosh |
Space: Adobe RGB (1998)
Split Tone Balance: 0
Split Tone Highlight Hue: 0
Split Tone Highlight Saturation: 0
Split Tone Shadow Hue: 0
Split Tone Shadow Saturation: 0
SplitToningBalance | 0 |
SplitToningHighlightHue | 0 |
SplitToningHighlightSaturation | 0 |
SplitToningShadowHue | 0 |
SplitToningShadowSaturation | 0 |
Stroke
Stroke: stroke
SubjectDistance | 0.72 m |
Tint | -4 |
Tone Curve: 0, 0, 32, 22, 64, 56, 128, 128, 192, 196, 255, 255
ToneCurve | 0, 0, 32, 22, 64, 56, 128, 128, 192, 196, 255, 255 |
ToneCurveName | Medium Contrast |
true
Undo
URL_List | |
Version | 5.7 |
Vibrance | +10 |
Vibrance: 10
VignetteAmount | 0 |
Vignetting Amount: 0
White Balance: As Shot
WhiteBalance (2) | As Shot |
WhiteBalance | Auto |
With Automatic Grain Size
With Constrain Proportions
With Create New Layer
With Enabled
With Scale Styles
Without Convert to Grayscale
Without Modified
Without User Setting
“AlienSkin Exposure 2 Black and White”
“Black and White Film”