Felt | Verdi |
AlreadyApplied | True |
Aperture | 6.7 |
ApertureValue | 6.7 |
Artist | unknown |
BitsPerSample | 8 |
BlueHue | +11 |
BlueSaturation | -70 |
Brightness | -75 |
By-line | Christian Lasken |
CameraProfile | Embedded |
ChromaticAberrationB | 0 |
ChromaticAberrationR | 0 |
CircleOfConfusion | 0.019 mm |
Clarity | -57 |
ColorComponents | 3 |
ColorNoiseReduction | 25 |
Contrast | +100 |
ConvertToGrayscale | False |
Copyright | Laskenfoto |
CopyrightFlag | True |
CopyrightNotice | Laskenfoto |
CreateDate (1) | 2009:05:30 14:47:33+02:00 |
CreateDate | 2009:05:30 14:47:33 |
Creator | Christian Lasken |
CreatorAddress | Gimleveien 3 |
CreatorCity | Halden |
CreatorCountry | Norway |
CreatorPostalCode | 1777 |
CreatorTool | Adobe Photoshop Lightroom |
CreatorWorkEmail | chrilas@online.no |
CustomRendered | Normal |
DateTimeDigitized | 2009:05:30 14:47:33+02:00 |
DateTimeOriginal (1) | 2009:05:30 14:47:33+02:00 |
DateTimeOriginal | 2009:05:30 14:47:33 |
Defringe | 0 |
ExifImageHeight | 1728 |
ExifImageWidth | 1152 |
Exposure | -0.10 |
ExposureCompensation | 0 |
ExposureMode | Auto |
ExposureProgram | Program AE |
ExposureTime | 1/90 |
FillLight | 19 |
Firmware | 1.0.3 |
Flash | Off, Did not fire |
FlashCompensation | 0 |
FlashFired | False |
FlashFunction | False |
FlashMode | Off |
FlashRedEyeMode | False |
FlashReturn | No return detection |
FNumber | 6.7 |
FocalLength | 33.0 mm |
FocalLength35efl | 33.0 mm (35 mm equivalent: 53.5 mm) |
FOV | 37.2 deg |
GreenHue | +11 |
GreenSaturation | +25 |
HasCrop | False |
HasSettings | True |
HighlightRecovery | 0 |
HueAdjustmentAqua | +2 |
HueAdjustmentBlue | 0 |
HueAdjustmentGreen | +62 |
HueAdjustmentMagenta | +2 |
HueAdjustmentOrange | -24 |
HueAdjustmentPurple | -7 |
HueAdjustmentRed | +43 |
HueAdjustmentYellow | -93 |
HyperfocalDistance | 8.78 m |
ImageHeight | 1728 |
ImageNumber | 130 |
ImageSize | 1152x1728 |
ImageWidth | 1152 |
IncrementalTemperature | +34 |
IncrementalTint | +2 |
ISO | 400 |
Keywords | Skogsvrak rezized |
Lens | 18.0-55.0 mm |
LensInfo | 18-55mm f/? |
LightValue | 10.0 |
LuminanceAdjustmentAqua | 0 |
LuminanceAdjustmentBlue | 0 |
LuminanceAdjustmentGreen | 0 |
LuminanceAdjustmentMagenta | 0 |
LuminanceAdjustmentOrange | 0 |
LuminanceAdjustmentPurple | 0 |
LuminanceAdjustmentRed | 0 |
LuminanceAdjustmentYellow | 0 |
LuminanceSmoothing | 0 |
Make | Canon |
Marked | True |
MaxApertureValue | 4.5 |
Megapixels | 2.0 |
MeteringMode | Multi-segment |
Model | Canon EOS 350D DIGITAL |
ModifyDate (1) | 2009:06:05 00:17:35+02:00 |
ModifyDate | 2009:06:05 00:17:35 |
OwnerName | unknown |
ParametricDarks | +5 |
ParametricHighlights | +7 |
ParametricHighlightSplit | 75 |
ParametricLights | +29 |
ParametricMidtoneSplit | 50 |
ParametricShadows | -10 |
ParametricShadowSplit | 25 |
PostCropVignetteAmount | 0 |
ProfileDescription | ProPhoto RGB |
RedHue | +96 |
RedSaturation | +3 |
Rights | Laskenfoto |
Saturation | -71 |
SaturationAdjustmentAqua | 0 |
SaturationAdjustmentBlue | 0 |
SaturationAdjustmentGreen | 0 |
SaturationAdjustmentMagenta | 0 |
SaturationAdjustmentOrange | 0 |
SaturationAdjustmentPurple | 0 |
SaturationAdjustmentRed | 0 |
SaturationAdjustmentYellow | 0 |
ScaleFactor35efl | 1.6 |
SceneCaptureType | Standard |
SerialNumber | 1930709483 |
Shadows | 2 |
ShadowTint | +8 |
SharpenDetail | 25 |
SharpenEdgeMasking | 0 |
SharpenRadius | +1.0 |
Sharpness | 0 |
ShutterSpeed | 1/90 |
ShutterSpeedValue | 1/90 |
Software | ACD Systems Digital Imaging |
SplitToningBalance | +12 |
SplitToningHighlightHue | 0 |
SplitToningHighlightSaturation | 0 |
SplitToningShadowHue | 0 |
SplitToningShadowSaturation | 0 |
Subject | Skogsvrak rezized |
ToneCurve | 0, 0, 255, 255 |
ToneCurveName | Linear |
Version | 5.2 |
Vibrance | 0 |
VignetteAmount | -61 |
VignetteMidpoint | 34 |
WhiteBalance (2) | Custom |
WhiteBalance | Auto |