Felt | Verdi |
AlreadyApplied | True |
Aperture | 11.0 |
ApertureValue | 11.0 |
ApproximateFocusDistance | 4294967295 |
Artist | Venche Jensen |
AuthorsPosition | Photographer |
BitsPerSample | 8 |
BlueHue | 0 |
BlueSaturation | 0 |
Brightness | +38 |
By-line | Venche Jensen |
By-lineTitle | Photographer |
CameraProfile | Adobe Standard |
CFAPattern | [Red,Green][Green,Blue] |
ChromaticAberrationB | 0 |
ChromaticAberrationR | 0 |
CircleOfConfusion | 0.020 mm |
Clarity | +60 |
ColorComponents | 3 |
ColorMode | RGB |
ColorNoiseReduction | 25 |
ColorNoiseReductionDetail | 50 |
ColorSpace | sRGB |
ColorTemperature | 5450 |
Contrast (1) | +25 |
Contrast | Normal |
ConvertToGrayscale | False |
Copyright | Dont use without permission |
CopyrightFlag | True |
CopyrightNotice | Dont use without permission |
CreateDate (1) | 2010:10:02 11:50:21.14+02:00 |
CreateDate | 2010:10:02 11:50:21 |
Creator | Venche Jensen |
CreatorAddress | Granshagen 1.11 |
CreatorCity | Alta |
CreatorCountry | Norway |
CreatorPostalCode | 9511 |
CreatorTool | Adobe Photoshop CS5 Macintosh |
CreatorWorkEmail | wenche@roro.no |
CreatorWorkTelephone | 04745472913 |
CreatorWorkURL | http://www.venche.no |
CropAngle | -2.393058 |
CropBottom | 0.940803 |
CropConstrainToWarp | 1 |
CropLeft | 0.016541 |
CropRight | 0.983459 |
CropTop | 0.059197 |
CustomRendered | Normal |
DateCreated (1) | 2010:10:02 |
DateCreated | 2010:10:02 11:50:21.014 |
DateTimeOriginal | 2010:10:02 11:50:21 |
Defringe | 0 |
DigitalZoomRatio | 1 |
DOF | inf (65.35 m - inf) |
ExifImageHeight | 797 |
ExifImageWidth | 1200 |
Exposure | +1.20 |
ExposureCompensation | -1 |
ExposureMode | Manual |
ExposureProgram | Manual |
ExposureTime | 1/500 |
FillLight | 23 |
Flash | No Flash |
FNumber | 11.0 |
FocalLength | 120.0 mm |
FocalLength35efl | 120.0 mm (35 mm equivalent: 180.0 mm) |
FocalLengthIn35mmFormat | 180 mm |
Format | image/jpeg |
FOV | 11.4 deg |
GainControl | Low gain up |
GrainAmount | 0 |
GreenHue | 0 |
GreenSaturation | 0 |
HasCrop | True |
HasSettings | True |
HighlightRecovery | 0 |
HueAdjustmentAqua | 0 |
HueAdjustmentBlue | 0 |
HueAdjustmentGreen | 0 |
HueAdjustmentMagenta | 0 |
HueAdjustmentOrange | 0 |
HueAdjustmentPurple | 0 |
HueAdjustmentRed | 0 |
HueAdjustmentYellow | 0 |
HyperfocalDistance | 65.35 m |
ICCProfileName | sRGB IEC61966-2.1 |
ImageHeight (1) | 2681 |
ImageHeight | 797 |
ImageNumber | 11160 |
ImageSize | 1200x797 |
ImageWidth (1) | 4038 |
ImageWidth | 1200 |
ISO | 400 |
Lens | 24.0-120.0 mm f/3.5-5.6 |
LensID (1) | 120 |
LensID | AF-S VR Zoom-Nikkor 24-120mm f/3.5-5.6G IF-ED |
LensInfo | 24-120mm f/3.5-5.6 |
LensManualDistortionAmount | 0 |
LensModel | 24.0-120.0 mm f/3.5-5.6 |
LensProfileEnable | 0 |
LensProfileSetup | LensDefaults |
LightSource | Unknown |
LightValue | 13.9 |
LuminanceAdjustmentAqua | 0 |
LuminanceAdjustmentBlue | 0 |
LuminanceAdjustmentGreen | 0 |
LuminanceAdjustmentMagenta | 0 |
LuminanceAdjustmentOrange | -9 |
LuminanceAdjustmentPurple | 0 |
LuminanceAdjustmentRed | 0 |
LuminanceAdjustmentYellow | -1 |
LuminanceNoiseReductionContrast | 34 |
LuminanceNoiseReductionDetail | 50 |
LuminanceSmoothing | 46 |
Make | NIKON CORPORATION |
Marked | True |
MaxApertureValue | 5.7 |
Megapixels | 0.956 |
MeteringMode | Multi-segment |
Model | NIKON D300S |
ModifyDate (1) | 2010:10:02 18:10:36+02:00 |
ModifyDate | 2010:10:02 18:10:36 |
Orientation | Horizontal (normal) |
ParametricDarks | 0 |
ParametricHighlights | 0 |
ParametricHighlightSplit | 75 |
ParametricLights | 0 |
ParametricMidtoneSplit | 50 |
ParametricShadows | 0 |
ParametricShadowSplit | 25 |
PerspectiveHorizontal | 0 |
PerspectiveRotate | 0.0 |
PerspectiveScale | 100 |
PerspectiveVertical | 0 |
PostCropVignetteAmount | 0 |
PreservedFileName | _VEJ1006.NEF |
ProcessVersion | 5.7 |
ProfileDescription | sRGB IEC61966-2.1 |
Rating | 1 |
RawFileName | 021010_VEJ1006_400.NEF |
RedHue | 0 |
RedSaturation | 0 |
Rights | Dont use without permission |
Saturation (1) | 0 |
Saturation | Normal |
SaturationAdjustmentAqua | 0 |
SaturationAdjustmentBlue | 0 |
SaturationAdjustmentGreen | 0 |
SaturationAdjustmentMagenta | 0 |
SaturationAdjustmentOrange | +22 |
SaturationAdjustmentPurple | 0 |
SaturationAdjustmentRed | +4 |
SaturationAdjustmentYellow | +1 |
ScaleFactor35efl | 1.5 |
SceneCaptureType | Standard |
SceneType | Directly photographed |
SensingMethod | One-chip color area |
SensitivityType | Unknown |
SerialNumber | 6018751 |
Shadows | 5 |
ShadowTint | 0 |
SharpenDetail | 25 |
SharpenEdgeMasking | 0 |
SharpenRadius | +1.0 |
Sharpness (1) | 25 |
Sharpness | Normal |
ShutterSpeed | 1/500 |
ShutterSpeedValue | 1/500 |
Software | Adobe Photoshop CS5 Macintosh |
SplitToningBalance | 0 |
SplitToningHighlightHue | 0 |
SplitToningHighlightSaturation | 0 |
SplitToningShadowHue | 0 |
SplitToningShadowSaturation | 0 |
SubjectDistance | 4294967295 m |
SubjectDistanceRange | Unknown |
Tint | +1 |
ToneCurve | 0, 0, 32, 22, 64, 56, 128, 128, 192, 196, 255, 255 |
ToneCurveName | Medium Contrast |
URL_List | |
Version | 6.2 |
Vibrance | +24 |
VignetteAmount | 0 |
WhiteBalance (1) | Custom |
WhiteBalance | Manual |