Felt | Verdi |
AlreadyApplied | True |
Aperture | 5.6 |
ApertureValue | 5.6 |
Artist | thor.lonning@gmail.com |
BitsPerSample | 8 |
BlueHue | 0 |
BlueSaturation | 0 |
Brightness | 0 |
By-line | thor.lonning@gmail.com |
CameraProfile | Adobe Standard |
ChromaticAberrationB | 0 |
ChromaticAberrationR | 0 |
CircleOfConfusion | 0.019 mm |
Clarity | 0 |
ColorComponents | 3 |
ColorNoiseReduction | 66 |
ColorNoiseReductionDetail | 50 |
ColorTemperature | 5650 |
Contrast | 0 |
ConvertToGrayscale | False |
Copyright | 2010 Thor Loenning Aarrestad |
CopyrightNotice | 2010 Thor Loenning Aarrestad |
CreateDate (1) | 2010:07:23 21:34:24.92+02:00 |
CreateDate | 2010:07:23 21:34:24 |
Creator | thor.lonning@gmail.com |
CreatorTool | Adobe Photoshop Lightroom |
CropAngle | 1.05087 |
CropBottom | 1 |
CropConstrainToWarp | 0 |
CropHeight | 933 |
CropLeft | 0.01934 |
CropRight | 0.98066 |
CropTop | 0 |
CropUnit | pixels |
CropWidth | 1400 |
CustomRendered | Normal |
DateTimeDigitized | 2010:07:23 21:34:24.92+02:00 |
DateTimeOriginal (1) | 2010:07:23 21:34:24.92+02:00 |
DateTimeOriginal | 2010:07:23 21:34:24 |
Defringe | 0 |
DOF | 0.06 m (2.25 - 2.31 m) |
ExifImageHeight | 933 |
ExifImageWidth | 1400 |
Exposure | +0.34 |
ExposureCompensation | 0 |
ExposureMode | Auto |
ExposureProgram | Shutter speed priority AE |
ExposureTime | 1/250 |
FillLight | 100 |
Firmware | 1.2.1 |
Flash | Off, Did not fire |
FlashCompensation | 0 |
FlashFired | False |
FlashFunction | False |
FlashMode | Off |
FlashRedEyeMode | False |
FlashReturn | No return detection |
FNumber | 5.6 |
FocalLength | 135.0 mm |
FocalLength35efl | 135.0 mm (35 mm equivalent: 212.0 mm) |
FOV | 9.7 deg |
GrainAmount | 0 |
GreenHue | 0 |
GreenSaturation | 0 |
HasCrop | True |
HasSettings | True |
HighlightRecovery | 0 |
HueAdjustmentAqua | 0 |
HueAdjustmentBlue | 0 |
HueAdjustmentGreen | 0 |
HueAdjustmentMagenta | 0 |
HueAdjustmentOrange | 0 |
HueAdjustmentPurple | 0 |
HueAdjustmentRed | 0 |
HueAdjustmentYellow | 0 |
HyperfocalDistance | 170.09 m |
ImageHeight | 933 |
ImageNumber | 0 |
ImageSize | 1400x933 |
ImageWidth | 1400 |
ISO | 3200 |
Keywords | Amund Maarud |
Lens | EF-S18-135mm f/3.5-5.6 IS |
LensID (1) | 51 |
LensID | Canon EF-S 18-135mm f/3.5-5.6 IS |
LensInfo | 18-135mm f/? |
LensManualDistortionAmount | 0 |
LensProfileEnable | 0 |
LensProfileSetup | LensDefaults |
LightValue | 7.9 |
LuminanceAdjustmentAqua | -74 |
LuminanceAdjustmentBlue | -57 |
LuminanceAdjustmentGreen | 0 |
LuminanceAdjustmentMagenta | 0 |
LuminanceAdjustmentOrange | 0 |
LuminanceAdjustmentPurple | 0 |
LuminanceAdjustmentRed | 0 |
LuminanceAdjustmentYellow | 0 |
LuminanceNoiseReductionContrast | 0 |
LuminanceNoiseReductionDetail | 50 |
LuminanceSmoothing | 64 |
Make | Canon |
MaxApertureValue | 5.7 |
Megapixels | 1.3 |
MeteringMode | Multi-segment |
Model | Canon EOS 7D |
ModifyDate (1) | 2010:07:24 16:07:11+02:00 |
ModifyDate | 2010:07:24 16:07:11 |
ParametricDarks | -6 |
ParametricHighlights | +47 |
ParametricHighlightSplit | 63 |
ParametricLights | +43 |
ParametricMidtoneSplit | 45 |
ParametricShadows | -15 |
ParametricShadowSplit | 25 |
PerspectiveHorizontal | 0 |
PerspectiveRotate | 0.0 |
PerspectiveScale | 100 |
PerspectiveVertical | 0 |
PostCropVignetteAmount | 0 |
ProcessVersion | 5.7 |
ProfileDescription | Adobe RGB (1998) |
RedHue | 0 |
RedSaturation | 0 |
Rights | 2010 Thor Loenning Aarrestad |
Saturation | -56 |
SaturationAdjustmentAqua | +49 |
SaturationAdjustmentBlue | +81 |
SaturationAdjustmentGreen | 0 |
SaturationAdjustmentMagenta | 0 |
SaturationAdjustmentOrange | -26 |
SaturationAdjustmentPurple | +38 |
SaturationAdjustmentRed | 0 |
SaturationAdjustmentYellow | -26 |
ScaleFactor35efl | 1.6 |
SceneCaptureType | Standard |
SerialNumber | 930702171 |
Shadows | 100 |
ShadowTint | 0 |
SharpenDetail | 25 |
SharpenEdgeMasking | 0 |
SharpenRadius | +1.0 |
Sharpness | 60 |
ShutterSpeed | 1/250 |
ShutterSpeedValue | 1/250 |
SplitToningBalance | 0 |
SplitToningHighlightHue | 0 |
SplitToningHighlightSaturation | 0 |
SplitToningShadowHue | 0 |
SplitToningShadowSaturation | 0 |
Subject | Amund Maarud |
SubjectDistance | 2.28 m |
Tint | -1 |
ToneCurve | 0, 0, 255, 255 |
ToneCurveName | Linear |
Version | 6.1 |
Vibrance | -36 |
VignetteAmount | -51 |
VignetteMidpoint | 21 |
WhiteBalance (2) | As Shot |
WhiteBalance | Auto |