Felt | Verdi |
AlreadyApplied | True |
Aperture | 14.0 |
ApertureValue | 14.0 |
Artist | El-K |
BitsPerSample | 8 |
BlueHue | -100 |
BlueSaturation | +38 |
Brightness | +55 |
By-line | El-K |
CameraProfile | Embedded |
ChromaticAberrationB | 0 |
ChromaticAberrationR | 0 |
CircleOfConfusion | 0.020 mm |
Clarity | +100 |
ColorComponents | 3 |
ColorNoiseReduction | 25 |
ColorTemperature | 5350 |
Contrast (2) | +100 |
Contrast | High |
ConvertToGrayscale | False |
Copyright | LasseKristiansen |
CopyrightNotice | LasseKristiansen |
CreateDate (1) | 2009:11:04 11:48:17+01:00 |
CreateDate | 2009:11:04 11:48:17 |
Creator | El-K |
CreatorTool | Adobe Photoshop Lightroom |
CropAngle | 0.937662 |
CropBottom | 1 |
CropHeight | 3029 |
CropLeft | 0.017327 |
CropRight | 0.982673 |
CropTop | 0 |
CropUnit | pixels |
CropWidth | 4561 |
CustomRendered | Normal |
DateTimeDigitized | 2009:11:04 11:48:17+01:00 |
DateTimeOriginal (1) | 2009:11:04 11:48:17+01:00 |
DateTimeOriginal | 2009:11:04 11:48:17 |
Defringe | 0 |
ExifImageHeight | 3029 |
ExifImageWidth | 4561 |
Exposure | -1.73 |
ExposureCompensation | 0 |
ExposureMode | Manual |
ExposureProgram | Manual |
ExposureTime | 1/80 |
FillLight | 89 |
Flash | Off, Did not fire |
FlashFired | False |
FlashFunction | False |
FlashMode | Off |
FlashRedEyeMode | False |
FlashReturn | No return detection |
FNumber | 14.0 |
FocalLength | 62.5 mm |
FocalLength35efl | 62.5 mm (35 mm equivalent: 94.0 mm) |
FocalLengthIn35mmFormat | 94 mm |
FOV | 21.7 deg |
GradientBasedCorrActive | true |
GradientBasedCorrAmount | 1.000000 |
GradientBasedCorrBrightness | -0.133000 |
GradientBasedCorrClarity | 1.000000 |
GradientBasedCorrContrast | 0.350000 |
GradientBasedCorrExposure | 0.267000 |
GradientBasedCorrHue | 36.000000 |
GradientBasedCorrMaskFullX | 0.488319 |
GradientBasedCorrMaskFullY | 0.830262 |
GradientBasedCorrMaskValue | 1.000000 |
GradientBasedCorrMaskWhat | Mask/Gradient |
GradientBasedCorrMaskZeroX | 0.488566 |
GradientBasedCorrMaskZeroY | 0.807528 |
GradientBasedCorrSaturation (1) | -0.067000 |
GradientBasedCorrSaturation | 0.030000 |
GradientBasedCorrSharpness | 1.000000 |
GradientBasedCorrWhat | Correction |
GreenHue | -100 |
GreenSaturation | -47 |
HasCrop | True |
HasSettings | True |
HighlightRecovery | 68 |
HueAdjustmentAqua | 0 |
HueAdjustmentBlue | +2 |
HueAdjustmentGreen | 0 |
HueAdjustmentMagenta | +8 |
HueAdjustmentOrange | +31 |
HueAdjustmentPurple | +2 |
HueAdjustmentRed | 0 |
HueAdjustmentYellow | -19 |
HyperfocalDistance | 13.97 m |
ImageHeight | 3029 |
ImageSize | 4561x3029 |
ImageWidth | 4561 |
ISO | 200 |
LensID (1) | 7 217 |
LensID | smc PENTAX-DA 50-200mm F4-5.6 ED WR |
LightValue | 12.9 |
LuminanceAdjustmentAqua | 0 |
LuminanceAdjustmentBlue | -100 |
LuminanceAdjustmentGreen | 0 |
LuminanceAdjustmentMagenta | 0 |
LuminanceAdjustmentOrange | -3 |
LuminanceAdjustmentPurple | 0 |
LuminanceAdjustmentRed | 0 |
LuminanceAdjustmentYellow | -30 |
LuminanceSmoothing | 0 |
Make | PENTAX |
Megapixels | 13.8 |
MeteringMode | Spot |
Model | PENTAX K-7 |
ModifyDate (1) | 2010:04:23 15:34:24+02:00 |
ModifyDate | 2010:04:23 15:34:24 |
ParametricDarks | -27 |
ParametricHighlights | -100 |
ParametricHighlightSplit | 75 |
ParametricLights | +3 |
ParametricMidtoneSplit | 50 |
ParametricShadows | -57 |
ParametricShadowSplit | 25 |
PostCropVignetteAmount | 0 |
ProfileDescription | sRGB IEC61966-2.1 |
RedHue | +48 |
RedSaturation | 0 |
Rights | LasseKristiansen |
Saturation (2) | -55 |
Saturation | Normal |
SaturationAdjustmentAqua | 0 |
SaturationAdjustmentBlue | -83 |
SaturationAdjustmentGreen | +50 |
SaturationAdjustmentMagenta | 0 |
SaturationAdjustmentOrange | +74 |
SaturationAdjustmentPurple | 0 |
SaturationAdjustmentRed | +41 |
SaturationAdjustmentYellow | +70 |
ScaleFactor35efl | 1.5 |
SceneCaptureType | Standard |
SensingMethod | One-chip color area |
Shadows | 62 |
ShadowTint | 0 |
SharpenDetail | 25 |
SharpenEdgeMasking | 0 |
SharpenRadius | +1.0 |
Sharpness (2) | 25 |
Sharpness | Hard |
ShutterSpeed | 1/80 |
ShutterSpeedValue | 1/80 |
Software | K-7 Ver 1.00 |
SplitToningBalance | 0 |
SplitToningHighlightHue | 0 |
SplitToningHighlightSaturation | 0 |
SplitToningShadowHue | 0 |
SplitToningShadowSaturation | 0 |
SubjectDistanceRange | Distant |
Tint | +9 |
ToneCurve | 0, 0, 32, 22, 64, 56, 128, 128, 192, 196, 255, 255 |
ToneCurveName | Medium Contrast |
Version | 5.3 |
Vibrance | +78 |
VignetteAmount | 0 |
WhiteBalance (2) | As Shot |
WhiteBalance | Auto |