Felt | Verdi |
AlreadyApplied | True |
Aperture | 10.0 |
ApertureValue | 10.0 |
Artist | El-K |
BitsPerSample | 8 |
BlueHue | 0 |
BlueSaturation | 0 |
Brightness | +72 |
By-line | El-K |
CameraProfile | Embedded |
ChromaticAberrationB | 0 |
ChromaticAberrationR | +38 |
CircleOfConfusion | 0.020 mm |
Clarity | +100 |
ColorComponents | 3 |
ColorNoiseReduction | 31 |
ColorTemperature | 5250 |
Contrast (2) | +100 |
Contrast | High |
ConvertToGrayscale | False |
Copyright | LasseKristiansen |
CopyrightNotice | LasseKristiansen |
CreateDate (1) | 2009:11:04 11:40:16+01:00 |
CreateDate | 2009:11:04 11:40:16 |
Creator | El-K |
CreatorTool | Adobe Photoshop Lightroom |
CropAngle | 1.71733 |
CropBottom | 0.641724 |
CropHeight | 1441 |
CropLeft | 0.126206 |
CropRight | 0.773641 |
CropTop | 0.148115 |
CropUnit | pixels |
CropWidth | 3069 |
CustomRendered | Normal |
DateTimeDigitized | 2009:11:04 11:40:16+01:00 |
DateTimeOriginal (1) | 2009:11:04 11:40:16+01:00 |
DateTimeOriginal | 2009:11:04 11:40:16 |
Defringe | 0 |
ExifImageHeight | 1441 |
ExifImageWidth | 3069 |
Exposure | -0.60 |
ExposureCompensation | 0 |
ExposureMode | Manual |
ExposureProgram | Manual |
ExposureTime | 1/160 |
FillLight | 52 |
Flash | Off, Did not fire |
FlashFired | False |
FlashFunction | False |
FlashMode | Off |
FlashRedEyeMode | False |
FlashReturn | No return detection |
FNumber | 10.0 |
FocalLength | 50.0 mm |
FocalLength35efl | 50.0 mm (35 mm equivalent: 75.0 mm) |
FocalLengthIn35mmFormat | 75 mm |
FOV | 27.0 deg |
GreenHue | 0 |
GreenSaturation | 0 |
HasCrop | True |
HasSettings | True |
HighlightRecovery | 100 |
HueAdjustmentAqua | 0 |
HueAdjustmentBlue | 0 |
HueAdjustmentGreen | 0 |
HueAdjustmentMagenta | 0 |
HueAdjustmentOrange | 0 |
HueAdjustmentPurple | 0 |
HueAdjustmentRed | 0 |
HueAdjustmentYellow | 0 |
HyperfocalDistance | 12.48 m |
ImageHeight | 1441 |
ImageSize | 3069x1441 |
ImageWidth | 3069 |
ISO | 200 |
LensID (1) | 7 217 |
LensID | smc PENTAX-DA 50-200mm F4-5.6 ED WR |
LightValue | 13.0 |
LuminanceAdjustmentAqua | 0 |
LuminanceAdjustmentBlue | 0 |
LuminanceAdjustmentGreen | 0 |
LuminanceAdjustmentMagenta | 0 |
LuminanceAdjustmentOrange | 0 |
LuminanceAdjustmentPurple | 0 |
LuminanceAdjustmentRed | 0 |
LuminanceAdjustmentYellow | 0 |
LuminanceSmoothing | 100 |
Make | PENTAX |
Megapixels | 4.4 |
MeteringMode | Spot |
Model | PENTAX K-7 |
ModifyDate (1) | 2010:04:23 15:32:02+02:00 |
ModifyDate | 2010:04:23 15:32:02 |
ParametricDarks | 0 |
ParametricHighlights | +15 |
ParametricHighlightSplit | 75 |
ParametricLights | -40 |
ParametricMidtoneSplit | 50 |
ParametricShadows | +3 |
ParametricShadowSplit | 25 |
PostCropVignetteAmount | 0 |
ProfileDescription | sRGB IEC61966-2.1 |
RedHue | 0 |
RedSaturation | 0 |
Rights | LasseKristiansen |
Saturation (2) | 0 |
Saturation | Normal |
SaturationAdjustmentAqua | 0 |
SaturationAdjustmentBlue | 0 |
SaturationAdjustmentGreen | 0 |
SaturationAdjustmentMagenta | 0 |
SaturationAdjustmentOrange | 0 |
SaturationAdjustmentPurple | 0 |
SaturationAdjustmentRed | 0 |
SaturationAdjustmentYellow | 0 |
ScaleFactor35efl | 1.5 |
SceneCaptureType | Standard |
SensingMethod | One-chip color area |
Shadows | 32 |
ShadowTint | 0 |
SharpenDetail | 62 |
SharpenEdgeMasking | 20 |
SharpenRadius | +1.7 |
Sharpness (2) | 150 |
Sharpness | Hard |
ShutterSpeed | 1/160 |
ShutterSpeedValue | 1/160 |
Software | K-7 Ver 1.00 |
SplitToningBalance | -27 |
SplitToningHighlightHue | 39 |
SplitToningHighlightSaturation | 74 |
SplitToningShadowHue | 0 |
SplitToningShadowSaturation | 0 |
SubjectDistanceRange | Distant |
Tint | +9 |
ToneCurve | 0, 0, 32, 22, 64, 56, 128, 128, 192, 196, 255, 255 |
ToneCurveName | Medium Contrast |
Version | 5.3 |
Vibrance | 0 |
VignetteAmount | 0 |
WhiteBalance (2) | As Shot |
WhiteBalance | Auto |