Felt | Verdi |
AlreadyApplied | True |
Aperture | 4.5 |
ApertureValue | 4.5 |
BitsPerSample | 8 |
BlueHue | 0 |
BlueSaturation | 0 |
Brightness | +46 |
CameraProfile | ACR 4.4 |
CFAPattern | [Red,Green][Green,Blue] |
ChromaticAberrationB | 0 |
ChromaticAberrationR | -10 |
CircleOfConfusion | 0.020 mm |
Clarity | +56 |
ColorComponents | 3 |
ColorNoiseReduction | 25 |
ColorTemperature | 4450 |
Contrast (2) | +52 |
Contrast | Normal |
ConvertToGrayscale | False |
CreateDate (1) | 2010:02:13 11:07:27.59+01:00 |
CreateDate | 2010:02:13 11:07:27 |
CreatorTool | Adobe Photoshop Lightroom |
CropAngle | 0 |
CropBottom | 0.936508 |
CropHeight | 2449 |
CropLeft | 0.238138 |
CropRight | 0.704745 |
CropTop | 0.07672 |
CropUnit | pixels |
CropWidth | 2001 |
CustomRendered | Normal |
DateTimeDigitized | 2010:02:13 11:07:27.59+01:00 |
DateTimeOriginal (1) | 2010:02:13 11:07:27.59+01:00 |
DateTimeOriginal | 2010:02:13 11:07:27 |
Defringe | 0 |
DigitalZoomRatio | 1 |
ExifImageHeight | 2449 |
ExifImageWidth | 2001 |
Exposure | -0.83 |
ExposureCompensation | 0 |
ExposureMode | Manual |
ExposureProgram | Manual |
ExposureTime | 1/800 |
FillLight | 29 |
Flash | No Flash |
FlashFired | False |
FlashFunction | False |
FlashMode | Unknown |
FlashRedEyeMode | False |
FlashReturn | No return detection |
FNumber | 4.5 |
FocalLength | 400.0 mm |
FocalLength35efl | 400.0 mm (35 mm equivalent: 600.0 mm) |
FocalLengthIn35mmFormat | 600 mm |
FOV | 3.4 deg |
GainControl | None |
GPSAltitude (1) | 3 m |
GPSAltitude | 3 m Above Sea Level |
GPSAltitudeRef | Above Sea Level |
GPSDateStamp | 2010:02:13 |
GPSDateTime | 2010:02:13 09:05:32Z |
GPSLatitude (2) | 58 deg 44' 33.38" |
GPSLatitude | 58 deg 44' 33.38" N |
GPSLatitudeRef | North |
GPSLongitude (2) | 5 deg 32' 17.93" |
GPSLongitude | 5 deg 32' 17.93" E |
GPSLongitudeRef | East |
GPSPosition | 58 deg 44' 33.38" N, 5 deg 32' 17.93" E |
GPSSatellites | 08 |
GPSTimeStamp | 09:05:32 |
GPSVersionID | 2.2.0.0 |
GreenHue | +2 |
GreenSaturation | 0 |
HasCrop | True |
HasSettings | True |
HighlightRecovery | 44 |
HueAdjustmentAqua | 0 |
HueAdjustmentBlue | 0 |
HueAdjustmentGreen | 0 |
HueAdjustmentMagenta | 0 |
HueAdjustmentOrange | 0 |
HueAdjustmentPurple | 0 |
HueAdjustmentRed | 0 |
HueAdjustmentYellow | 0 |
HyperfocalDistance | 1775.04 m |
ImageHeight | 2449 |
ImageNumber | 22949 |
ImageSize | 2001x2449 |
ImageWidth | 2001 |
ISO | 200 |
Lens | 400.0 mm f/2.8 |
LensInfo | 400mm f/2.8 |
LightSource | Unknown |
LightValue | 13.0 |
LuminanceAdjustmentAqua | 0 |
LuminanceAdjustmentBlue | 0 |
LuminanceAdjustmentGreen | 0 |
LuminanceAdjustmentMagenta | 0 |
LuminanceAdjustmentOrange | 0 |
LuminanceAdjustmentPurple | 0 |
LuminanceAdjustmentRed | 0 |
LuminanceAdjustmentYellow | 0 |
LuminanceSmoothing | 0 |
Make | NIKON CORPORATION |
MaxApertureValue | 2.8 |
Megapixels | 4.9 |
MeteringMode | Multi-segment |
Model | NIKON D300 |
ModifyDate (1) | 2010:04:08 22:32:58+02:00 |
ModifyDate | 2010:04:08 22:32:58 |
ParametricDarks | +74 |
ParametricHighlights | +2 |
ParametricHighlightSplit | 90 |
ParametricLights | +31 |
ParametricMidtoneSplit | 52 |
ParametricShadows | +25 |
ParametricShadowSplit | 10 |
PostCropVignetteAmount | 0 |
ProfileDescription | sRGB IEC61966-2.1 |
RedHue | 0 |
RedSaturation | 0 |
Saturation (2) | +6 |
Saturation | Normal |
SaturationAdjustmentAqua | 0 |
SaturationAdjustmentBlue | 0 |
SaturationAdjustmentGreen | +2 |
SaturationAdjustmentMagenta | 0 |
SaturationAdjustmentOrange | 0 |
SaturationAdjustmentPurple | 0 |
SaturationAdjustmentRed | 0 |
SaturationAdjustmentYellow | 0 |
ScaleFactor35efl | 1.5 |
SceneCaptureType | Standard |
SceneType | Directly photographed |
SensingMethod | One-chip color area |
SerialNumber | 4114373 |
Shadows | 5 |
ShadowTint | +29 |
SharpenDetail | 72 |
SharpenEdgeMasking | 51 |
SharpenRadius | +1.8 |
Sharpness (2) | 75 |
Sharpness | Normal |
ShutterSpeed | 1/800 |
ShutterSpeedValue | 1/800 |
Software | Ver.1.00 |
SplitToningBalance | 0 |
SplitToningHighlightHue | 0 |
SplitToningHighlightSaturation | 0 |
SplitToningShadowHue | 0 |
SplitToningShadowSaturation | 0 |
SubjectDistanceRange | Unknown |
Tint | -6 |
ToneCurve | 0, 0, 32, 16, 64, 50, 128, 128, 192, 202, 255, 255 |
ToneCurveName | Strong Contrast |
Version | 4.6 |
Vibrance | 0 |
VignetteAmount | 0 |
WhiteBalance (2) | As Shot |
WhiteBalance | Auto |