Felt | Verdi |
AlreadyApplied | True |
Aperture | 5.6 |
ApertureValue | 5.6 |
BitsPerSample | 8 |
BlueHue | 0 |
BlueSaturation | 0 |
Brightness | +50 |
CameraProfile | Adobe Standard |
ChromaticAberrationB | 0 |
ChromaticAberrationR | 0 |
CircleOfConfusion | 0.019 mm |
Clarity | +71 |
ColorComponents | 3 |
ColorNoiseReduction | 25 |
ColorTemperature | 5650 |
Contrast | +52 |
ConvertToGrayscale | False |
CreateDate (1) | 2009:10:23 12:43:29.03+02:00 |
CreateDate | 2009:10:23 12:43:29 |
CreatorTool | Adobe Photoshop Lightroom |
CropAngle | 0 |
CropBottom | 1 |
CropHeight | 843 |
CropLeft | 0 |
CropRight | 0.968373 |
CropTop | 0.042938 |
CropUnit | pixels |
CropWidth | 1280 |
CustomRendered | Normal |
DateTimeDigitized | 2009:10:23 12:43:29.03+02:00 |
DateTimeOriginal (1) | 2009:10:23 12:43:29.03+02:00 |
DateTimeOriginal | 2009:10:23 12:43:29 |
Defringe | 0 |
DOF | 0.02 m (0.51 - 0.53 m) |
ExifImageHeight | 843 |
ExifImageWidth | 1280 |
Exposure | 0.00 |
ExposureCompensation | 0 |
ExposureMode | Auto |
ExposureProgram | Aperture-priority AE |
ExposureTime | 1/10 |
FillLight | 0 |
Firmware | 1.0.9 |
Flash | Off, Did not fire |
FlashCompensation | 0 |
FlashFired | False |
FlashFunction | False |
FlashMode | Off |
FlashRedEyeMode | False |
FlashReturn | No return detection |
FNumber | 5.6 |
FocalLength | 48.0 mm |
FocalLength35efl | 48.0 mm (35 mm equivalent: 77.5 mm) |
FOV | 26.1 deg |
GreenHue | 0 |
GreenSaturation | 0 |
HasCrop | True |
HasSettings | True |
HighlightRecovery | 0 |
HueAdjustmentAqua | 0 |
HueAdjustmentBlue | 0 |
HueAdjustmentGreen | 0 |
HueAdjustmentMagenta | 0 |
HueAdjustmentOrange | 0 |
HueAdjustmentPurple | 0 |
HueAdjustmentRed | 0 |
HueAdjustmentYellow | 0 |
HyperfocalDistance | 22.12 m |
ImageHeight | 843 |
ImageNumber | 0 |
ImageSize | 1280x843 |
ImageWidth | 1280 |
ISO | 100 |
Lens | EF-S18-55mm f/3.5-5.6 IS |
LensInfo | 18-55mm f/? |
LightValue | 8.3 |
LuminanceAdjustmentAqua | 0 |
LuminanceAdjustmentBlue | 0 |
LuminanceAdjustmentGreen | 0 |
LuminanceAdjustmentMagenta | -4 |
LuminanceAdjustmentOrange | 0 |
LuminanceAdjustmentPurple | 0 |
LuminanceAdjustmentRed | -100 |
LuminanceAdjustmentYellow | 0 |
LuminanceSmoothing | 0 |
Make | Canon |
MaxApertureValue | 5.4 |
Megapixels | 1.1 |
MeteringMode | Multi-segment |
Model | Canon EOS 450D |
ModifyDate (1) | 2010:01:14 10:59:23+01:00 |
ModifyDate | 2010:01:14 10:59:23 |
ParametricDarks | -4 |
ParametricHighlights | +4 |
ParametricHighlightSplit | 75 |
ParametricLights | +8 |
ParametricMidtoneSplit | 50 |
ParametricShadows | -58 |
ParametricShadowSplit | 25 |
PostCropVignetteAmount | 0 |
ProfileDescription | sRGB IEC61966-2.1 |
RedHue | 0 |
RedSaturation | 0 |
Saturation | +33 |
SaturationAdjustmentAqua | 0 |
SaturationAdjustmentBlue | 0 |
SaturationAdjustmentGreen | 0 |
SaturationAdjustmentMagenta | 0 |
SaturationAdjustmentOrange | 0 |
SaturationAdjustmentPurple | 0 |
SaturationAdjustmentRed | -100 |
SaturationAdjustmentYellow | 0 |
ScaleFactor35efl | 1.6 |
SceneCaptureType | Standard |
SerialNumber | 1080346569 |
Shadows | 5 |
ShadowTint | 0 |
SharpenDetail | 25 |
SharpenEdgeMasking | 0 |
SharpenRadius | +1.0 |
Sharpness | 84 |
ShutterSpeed | 1/10 |
ShutterSpeedValue | 1/10 |
SplitToningBalance | 0 |
SplitToningHighlightHue | 0 |
SplitToningHighlightSaturation | 0 |
SplitToningShadowHue | 0 |
SplitToningShadowSaturation | 0 |
SubjectDistance | 0.52 m |
Tint | +4 |
ToneCurve | 0, 0, 32, 22, 64, 56, 128, 128, 192, 196, 255, 255 |
ToneCurveName | Medium Contrast |
Version | 5.6 |
Vibrance | +42 |
VignetteAmount | 0 |
WhiteBalance (2) | As Shot |
WhiteBalance | Manual |