Felt | Verdi |
AlreadyApplied | True |
Aperture | 6.3 |
ApertureValue | 6.3 |
BitsPerSample | 8 |
BlueHue | 0 |
BlueSaturation | 0 |
Brightness | +50 |
CameraProfile | Adobe Standard |
ChromaticAberrationB | 0 |
ChromaticAberrationR | 0 |
CircleOfConfusion | 0.030 mm |
Clarity | +43 |
ColorComponents | 3 |
ColorMode | RGB |
ColorNoiseReduction | 25 |
ColorSpace | sRGB |
ColorTemperature | 4950 |
Contrast | +25 |
ConvertToGrayscale | False |
CreateDate (1) | 2009:08:30 15:24:37+02:00 |
CreateDate | 2009:08:30 15:24:37 |
CreatorTool | Adobe Photoshop Lightroom |
CropAngle | 0 |
CropBottom | 0.866071 |
CropHeight | 2146 |
CropLeft | 0.090476 |
CropRight | 0.827381 |
CropTop | 0.129166 |
CropUnit | pixels |
CropWidth | 3219 |
CustomRendered | Normal |
DateTimeDigitized | 2009:08:30 15:24:37+02:00 |
DateTimeOriginal (1) | 2009:08:30 15:24:37+02:00 |
DateTimeOriginal | 2009:08:30 15:24:37 |
Defringe | 0 |
ExifImageHeight | 1200 |
ExifImageWidth | 800 |
Exposure | 0.00 |
ExposureCompensation | 0 |
ExposureMode | Manual |
ExposureProgram | Manual |
ExposureTime | 1/160 |
FillLight | 0 |
Firmware | 1.1.1 |
Flash | Off, Did not fire |
FlashCompensation | 0 |
FlashFired | False |
FlashFunction | False |
FlashMode | Off |
FlashRedEyeMode | False |
FlashReturn | No return detection |
FNumber | 6.3 |
FocalLength | 50.0 mm |
FocalLength35efl | 50.0 mm (35 mm equivalent: 50.1 mm) |
Format | image/jpeg |
FOV | 39.5 deg |
GreenHue | 0 |
GreenSaturation | 0 |
HasCrop | True |
HasSettings | True |
HighlightRecovery | 11 |
HueAdjustmentAqua | 0 |
HueAdjustmentBlue | 0 |
HueAdjustmentGreen | 0 |
HueAdjustmentMagenta | 0 |
HueAdjustmentOrange | 0 |
HueAdjustmentPurple | 0 |
HueAdjustmentRed | 0 |
HueAdjustmentYellow | 0 |
HyperfocalDistance | 13.23 m |
ICCProfileName | sRGB IEC61966-2.1 |
ImageHeight (1) | 3219 |
ImageHeight | 1200 |
ImageNumber | 6 |
ImageSize | 800x1200 |
ImageWidth (1) | 2146 |
ImageWidth | 800 |
ISO | 50 |
Lens | EF50mm f/1.4 USM |
LensInfo | 50mm f/? |
LightValue | 13.6 |
LuminanceAdjustmentAqua | 0 |
LuminanceAdjustmentBlue | 0 |
LuminanceAdjustmentGreen | 0 |
LuminanceAdjustmentMagenta | 0 |
LuminanceAdjustmentOrange | 0 |
LuminanceAdjustmentPurple | 0 |
LuminanceAdjustmentRed | 0 |
LuminanceAdjustmentYellow | 0 |
LuminanceSmoothing | 0 |
Make | Canon |
MaxApertureValue | 1.4 |
Megapixels | 0.960 |
MeteringMode | Multi-segment |
Model | Canon EOS 5D |
ModifyDate (1) | 2009:09:04 00:37:08+02:00 |
ModifyDate | 2009:09:04 00:37:08 |
Orientation | Horizontal (normal) |
ParametricDarks | -24 |
ParametricHighlights | -21 |
ParametricHighlightSplit | 75 |
ParametricLights | +19 |
ParametricMidtoneSplit | 50 |
ParametricShadows | -81 |
ParametricShadowSplit | 25 |
PostCropVignetteAmount | -17 |
PostCropVignetteFeather | 50 |
PostCropVignetteMidpoint | 46 |
PostCropVignetteRoundness | 0 |
ProfileDescription | sRGB IEC61966-2.1 |
RedHue | 0 |
RedSaturation | 0 |
Saturation | 0 |
SaturationAdjustmentAqua | 0 |
SaturationAdjustmentBlue | -86 |
SaturationAdjustmentGreen | -62 |
SaturationAdjustmentMagenta | 0 |
SaturationAdjustmentOrange | +14 |
SaturationAdjustmentPurple | 0 |
SaturationAdjustmentRed | 0 |
SaturationAdjustmentYellow | -29 |
ScaleFactor35efl | 1.0 |
SceneCaptureType | Standard |
SerialNumber | 1531006472 |
Shadows | 5 |
ShadowTint | 0 |
SharpenDetail | 25 |
SharpenEdgeMasking | 0 |
SharpenRadius | +1.0 |
Sharpness | 25 |
ShutterSpeed | 1/160 |
ShutterSpeedValue | 1/160 |
Software | Adobe Photoshop CS4 Windows |
SplitToningBalance | 0 |
SplitToningHighlightHue | 0 |
SplitToningHighlightSaturation | 0 |
SplitToningShadowHue | 0 |
SplitToningShadowSaturation | 0 |
Tint | -11 |
ToneCurve | 0, 0, 32, 22, 64, 56, 128, 128, 192, 196, 255, 255 |
ToneCurveName | Medium Contrast |
URL_List | |
Version | 5.3 |
Vibrance | 0 |
VignetteAmount | +2 |
VignetteMidpoint | 50 |
WhiteBalance (2) | Custom |
WhiteBalance | Auto |