Felt | Verdi |
AlreadyApplied | True |
Aperture | 3.5 |
ApertureValue | 3.5 |
BitsPerSample | 8 |
BlueHue | 0 |
BlueSaturation | 0 |
Brightness | 0 |
CameraProfile | Embedded |
Caption-Abstract | OLYMPUS DIGITAL CAMERA |
ChromaticAberrationB | 0 |
ChromaticAberrationR | 0 |
Clarity | +67 |
ColorComponents | 3 |
ColorNoiseReduction | 0 |
Contrast (2) | +70 |
Contrast | High |
ConvertToGrayscale | True |
Copyright | Holmtech.no/pics |
CopyrightFlag | True |
CopyrightNotice | Holmtech.no/pics |
CreateDate (1) | 2008:08:16 13:21:38+02:00 |
CreateDate | 2008:08:16 13:21:38 |
CreatorTool | Adobe Photoshop Lightroom |
CropAngle | 0.357675 |
CropBottom | 0.928228 |
CropHeight | 768 |
CropLeft | 0.087722 |
CropRight | 0.801956 |
CropTop | 0.204662 |
CropUnit | pixels |
CropWidth | 1024 |
CustomRendered | Normal |
DateTimeDigitized | 2008:08:16 13:21:38+02:00 |
DateTimeOriginal (1) | 2008:08:16 13:21:38+02:00 |
DateTimeOriginal | 2008:08:16 13:21:38 |
Defringe | 0 |
Description | OLYMPUS DIGITAL CAMERA |
DigitalZoomRatio | 1 |
ExifImageHeight | 768 |
ExifImageWidth | 1024 |
Exposure | +0.38 |
ExposureCompensation | 0 |
ExposureMode | Auto |
ExposureProgram | Shutter speed priority AE |
ExposureTime | 1/400 |
FillLight | 12 |
Flash | On, Did not fire |
FlashCompensation | 0 |
FlashFired | False |
FlashFunction | False |
FlashMode | On |
FlashRedEyeMode | False |
FlashReturn | No return detection |
FNumber | 3.5 |
FocalLength | 200.0 mm |
FocalLength35efl | 200.0 mm |
GainControl | None |
GrayMixerAqua | -17 |
GrayMixerBlue | +11 |
GrayMixerGreen | -27 |
GrayMixerMagenta | +4 |
GrayMixerOrange | -20 |
GrayMixerPurple | +16 |
GrayMixerRed | -10 |
GrayMixerYellow | -24 |
GreenHue | 0 |
GreenSaturation | 0 |
HasCrop | True |
HasSettings | True |
HighlightRecovery | 52 |
ImageDescription | OLYMPUS DIGITAL CAMERA |
ImageHeight | 768 |
ImageSize | 1024x768 |
ImageWidth | 1024 |
IncrementalTemperature | +5 |
IncrementalTint | +6 |
ISO | 100 |
Lens | 50.0-200.0 mm f/2.8-3.5 |
LensInfo | 50-200mm f/2.8-3.5 |
LensSerialNumber | 240011463 |
LightSource | Cloudy |
LightValue | 12.3 |
LuminanceSmoothing | 0 |
Make | OLYMPUS IMAGING CORP. |
Marked | True |
MaxApertureValue | 2.8 |
Megapixels | 0.786 |
MeteringMode | Center-weighted average |
Model | E-3 |
ModifyDate (1) | 2009:04:01 00:58:25+02:00 |
ModifyDate | 2009:04:01 00:58:25 |
ParametricDarks | -10 |
ParametricHighlights | 0 |
ParametricHighlightSplit | 75 |
ParametricLights | +30 |
ParametricMidtoneSplit | 50 |
ParametricShadows | -12 |
ParametricShadowSplit | 25 |
PostCropVignetteAmount | -17 |
PostCropVignetteFeather | 50 |
PostCropVignetteMidpoint | 50 |
PostCropVignetteRoundness | 0 |
ProfileDescription | sRGB IEC61966-2.1 |
RedHue | 0 |
RedSaturation | 0 |
Rights | Holmtech.no/pics |
Saturation | High |
SceneCaptureType | Standard |
SerialNumber | D69503579 |
Shadows | 25 |
ShadowTint | 0 |
SharpenDetail | 50 |
SharpenEdgeMasking | 0 |
SharpenRadius | +0.8 |
Sharpness (2) | 40 |
Sharpness | Hard |
ShutterSpeed | 1/400 |
ShutterSpeedValue | 1/400 |
Software | Version 1.1 |
SplitToningBalance | 0 |
SplitToningHighlightHue | 201 |
SplitToningHighlightSaturation | 46 |
SplitToningShadowHue | 21 |
SplitToningShadowSaturation | 35 |
ToneCurve | 0, 0, 255, 255 |
ToneCurveName | Linear |
Version | 5.3 |
VignetteAmount | 0 |
WhiteBalance (2) | Custom |
WhiteBalance | Manual |