Felt | Verdi |
AlreadyApplied | True |
Aperture | 8.0 |
ApertureValue | 8.0 |
Artist | Henning Larsen |
BitsPerSample | 8 |
BlueHue | 0 |
BlueSaturation | 0 |
Brightness | +50 |
By-line | Henning Larsen |
CameraProfile | ACR 4.4 |
CFAPattern | [Green,Red][Blue,Green] |
ChromaticAberrationB | 0 |
ChromaticAberrationR | 0 |
CircleOfConfusion | 0.020 mm |
Clarity | +23 |
ColorComponents | 3 |
ColorMode | RGB |
ColorNoiseReduction | 0 |
ColorSpace | sRGB |
ColorTemperature | 5542 |
Contrast (2) | +12 |
Contrast | Normal |
ConvertToGrayscale | False |
Copyright | Copyright 2009 Henning Larsen |
CopyrightFlag | True |
CopyrightNotice | Copyright 2009 Henning Larsen |
CreateDate (1) | 2009:03:20 15:59:26.90+01:00 |
CreateDate | 2009:03:20 15:59:26 |
Creator | Henning Larsen |
CreatorAddress | Balders Gate 4B |
CreatorCity | Horten |
CreatorCountry | Norway |
CreatorPostalCode | 3182 |
CreatorTool | Adobe Photoshop Lightroom |
CreatorWorkEmail | henning@mixdesign.no |
CropAngle | -0.468858 |
CropBottom | 0.992006 |
CropHeight | 2532 |
CropLeft | 0.088638 |
CropRight | 0.747916 |
CropTop | 0.023146 |
CropUnit | pixels |
CropWidth | 2532 |
CustomRendered | Normal |
DateTimeDigitized | 2009:03:20 15:59:26.90+01:00 |
DateTimeOriginal (1) | 2009:03:20 15:59:26.90+01:00 |
DateTimeOriginal | 2009:03:20 15:59:26 |
Defringe | 0 |
DigitalZoomRatio | 1 |
ExifImageHeight | 800 |
ExifImageWidth | 800 |
Exposure | -0.33 |
ExposureCompensation | +2/3 |
ExposureMode | Auto |
ExposureProgram | Aperture-priority AE |
ExposureTime | 1/80 |
FillLight | 1 |
Flash | No Flash |
FlashFired | False |
FlashFunction | False |
FlashMode | Unknown |
FlashRedEyeMode | False |
FlashReturn | No return detection |
FNumber | 8.0 |
FocalLength | 75.0 mm |
FocalLength35efl | 75.0 mm (35 mm equivalent: 112.0 mm) |
FocalLengthIn35mmFormat | 112 mm |
Format | image/jpeg |
FOV | 18.3 deg |
GainControl | None |
GradientBasedCorrActive | true |
GradientBasedCorrAmount | 1.000000 |
GradientBasedCorrBrightness | 0.000000 |
GradientBasedCorrClarity | 0.000000 |
GradientBasedCorrContrast | 0.000000 |
GradientBasedCorrExposure | -0.241379 |
GradientBasedCorrHue | 233.000000 |
GradientBasedCorrMaskFullX | 0.414512 |
GradientBasedCorrMaskFullY | 1.005030 |
GradientBasedCorrMaskValue | 1.000000 |
GradientBasedCorrMaskWhat | Mask/Gradient |
GradientBasedCorrMaskZeroX | 0.411939 |
GradientBasedCorrMaskZeroY | 0.535246 |
GradientBasedCorrSaturation | 0.000000 |
GradientBasedCorrSharpness | 0.000000 |
GradientBasedCorrWhat | Correction |
GreenHue | 0 |
GreenSaturation | 0 |
HasCrop | True |
HasSettings | True |
HierarchicalSubject | ABSTRAKT|Vann, FAMILIEBILDER, FAMILIEBILDER|Bryllup Daniel og Tabita, LOCATION|Horten|Horten Kai |
HighlightRecovery | 10 |
HueAdjustmentAqua | 0 |
HueAdjustmentBlue | 0 |
HueAdjustmentGreen | 0 |
HueAdjustmentMagenta | 0 |
HueAdjustmentOrange | 0 |
HueAdjustmentPurple | 0 |
HueAdjustmentRed | 0 |
HueAdjustmentYellow | 0 |
HyperfocalDistance | 34.95 m |
ICCProfileName | sRGB IEC61966-2.1 |
ImageHeight (1) | 2532 |
ImageHeight | 800 |
ImageNumber | 11324 |
ImageSize | 800x800 |
ImageWidth (1) | 2532 |
ImageWidth | 800 |
ISO | 200 |
Keywords | ABSTRAKT, Bryllup Daniel og Tabita, FAMILIEBILDER, Horten, Horten Kai, LOCATION, Vann |
Lens | 28.0-75.0 mm f/2.8 |
LensInfo | 28-75mm f/2.8 |
LightSource | Unknown |
LightValue | 11.3 |
LuminanceAdjustmentAqua | 0 |
LuminanceAdjustmentBlue | 0 |
LuminanceAdjustmentGreen | 0 |
LuminanceAdjustmentMagenta | 0 |
LuminanceAdjustmentOrange | 0 |
LuminanceAdjustmentPurple | 0 |
LuminanceAdjustmentRed | 0 |
LuminanceAdjustmentYellow | 0 |
LuminanceSmoothing | 0 |
Make | NIKON CORPORATION |
Marked | True |
MaxApertureValue | 2.8 |
Megapixels | 0.640 |
MeteringMode | Multi-segment |
Model | NIKON D200 |
ModifyDate (1) | 2009:03:22 14:30:24+01:00 |
ModifyDate | 2009:03:22 14:30:24 |
Orientation | Horizontal (normal) |
PaintCorrectionActive | true |
PaintCorrectionAmount | 1.000000 |
PaintCorrectionBrightness | 0.000000 |
PaintCorrectionClarity | 0.000000 |
PaintCorrectionContrast | 0.000000 |
PaintCorrectionExposure | -0.043103 |
PaintCorrectionHue | 40.000000 |
PaintCorrectionMaskCenterWeight | 0.000000 |
PaintCorrectionMaskFlow | 1.000000 |
PaintCorrectionMaskRadius (1) | 0.039675 |
PaintCorrectionMaskRadius | 0.033318 |
PaintCorrectionMaskValue (2) | 1.000000 |
PaintCorrectionMaskValue | 0.000000 |
PaintCorrectionMaskWhat | Mask/Paint |
PaintCorrectionSaturation (1) | 0.000000 |
PaintCorrectionSaturation | 0.250000 |
PaintCorrectionSharpness | 0.000000 |
PaintCorrectionWhat | Correction |
ParametricDarks | -4 |
ParametricHighlights | +10 |
ParametricHighlightSplit | 75 |
ParametricLights | +2 |
ParametricMidtoneSplit | 50 |
ParametricShadows | -4 |
ParametricShadowSplit | 25 |
PostCropVignetteAmount | -44 |
PostCropVignetteFeather | 70 |
PostCropVignetteMidpoint | 81 |
PostCropVignetteRoundness | +100 |
ProfileDescription | sRGB IEC61966-2.1 |
RedHue | 0 |
RedSaturation | 0 |
Rights | Copyright 2009 Henning Larsen |
Saturation (2) | 0 |
Saturation | High |
SaturationAdjustmentAqua | 0 |
SaturationAdjustmentBlue | -38 |
SaturationAdjustmentGreen | -31 |
SaturationAdjustmentMagenta | 0 |
SaturationAdjustmentOrange | +19 |
SaturationAdjustmentPurple | 0 |
SaturationAdjustmentRed | +4 |
SaturationAdjustmentYellow | -9 |
ScaleFactor35efl | 1.5 |
SceneCaptureType | Standard |
SceneType | Directly photographed |
SensingMethod | One-chip color area |
Shadows | 13 |
ShadowTint | 0 |
SharpenDetail | 50 |
SharpenEdgeMasking | 0 |
SharpenRadius | +0.8 |
Sharpness (2) | 58 |
Sharpness | Normal |
ShutterSpeed | 1/80 |
ShutterSpeedValue | 1/80 |
Software | Adobe Photoshop CS4 Macintosh |
SplitToningBalance | 0 |
SplitToningHighlightHue | 0 |
SplitToningHighlightSaturation | 0 |
SplitToningShadowHue | 0 |
SplitToningShadowSaturation | 0 |
Subject | ABSTRAKT, Bryllup Daniel og Tabita, FAMILIEBILDER, Horten, Horten Kai, LOCATION, Vann |
SubjectDistanceRange | Unknown |
Tint | -11 |
ToneCurve | 0, 0, 32, 22, 64, 56, 128, 128, 192, 196, 255, 255 |
ToneCurveName | Medium Contrast |
URL_List | |
UsageTerms | This image can not be used for any purpose without writen agreement with creator. |
Version | 4.5 |
Vibrance | 0 |
VignetteAmount | 0 |
WhiteBalance (2) | Custom |
WhiteBalance | Manual |