Felt | Verdi |
AlreadyApplied | True |
Aperture | 9.0 |
ApertureValue | 9.0 |
Artist | unknown |
BitsPerSample | 8 |
BlueHue | 0 |
BlueSaturation | 0 |
Brightness | +50 |
By-line | Tor Håkon Haugen |
CameraProfile | ACR 4.4 |
Caption-Abstract | Figure out the title yourself. |
ChromaticAberrationB | 0 |
ChromaticAberrationR | 0 |
CircleOfConfusion | 0.019 mm |
Clarity | +50 |
ColorComponents | 3 |
ColorNoiseReduction | 25 |
ColorTemperature | 4950 |
Contrast | +25 |
ConvertToGrayscale | False |
Copyright | Copyright - Tor Hakon Haugen |
CopyrightFlag | True |
CopyrightNotice | Copyright - Tor Håkon Haugen |
CreateDate (1) | 2008:08:22 08:30:23+02:00 |
CreateDate | 2008:08:22 08:30:23 |
Creator | Tor Håkon Haugen |
CreatorAddress | Asparsletta 52 |
CreatorCountry | Førresfjorden |
CreatorPostalCode | 5563 |
CreatorTool | Adobe Photoshop Lightroom |
CreatorWorkEmail | tor.hakon.haugen@gmail.com |
CropAngle | -0.436808 |
CropBottom | 0.988693 |
CropHeight | 2278 |
CropLeft | 0.003141 |
CropRight | 0.996859 |
CropTop | 0.011307 |
CropUnit | pixels |
CropWidth | 3417 |
CustomRendered | Normal |
DateTimeDigitized | 2008:08:22 08:30:23+02:00 |
DateTimeOriginal (1) | 2008:08:22 08:30:23+02:00 |
DateTimeOriginal | 2008:08:22 08:30:23 |
Defringe | 0 |
Description | Figure out the title yourself. |
ExifImageHeight | 2278 |
ExifImageWidth | 3417 |
Exposure | -0.68 |
ExposureCompensation | 0 |
ExposureMode | Auto |
ExposureProgram | Aperture-priority AE |
ExposureTime | 1/160 |
FillLight | 10 |
Firmware | 1.0.3 |
Flash | Off, Did not fire |
FlashCompensation | -0.666666666666667 |
FlashFired | False |
FlashFunction | False |
FlashMode | Off |
FlashRedEyeMode | False |
FlashReturn | No return detection |
FNumber | 9.0 |
FocalLength | 50.0 mm |
FocalLength35efl | 50.0 mm (35 mm equivalent: 81.1 mm) |
FOV | 25.0 deg |
GradientBasedCorrActive | true |
GradientBasedCorrAmount | 1.000000 |
GradientBasedCorrBrightness | 0.000000 |
GradientBasedCorrClarity | 0.000000 |
GradientBasedCorrContrast | 0.000000 |
GradientBasedCorrExposure | -0.125000 |
GradientBasedCorrHue | 0.000000 |
GradientBasedCorrMaskFullX | 0.065367 |
GradientBasedCorrMaskFullY | 0.483371 |
GradientBasedCorrMaskValue | 1.000000 |
GradientBasedCorrMaskWhat | Mask/Gradient |
GradientBasedCorrMaskZeroX | 0.835644 |
GradientBasedCorrMaskZeroY | -0.049549 |
GradientBasedCorrSaturation | 0.000000 |
GradientBasedCorrSharpness | 0.000000 |
GradientBasedCorrWhat | Correction |
GreenHue | 0 |
GreenSaturation | 0 |
HasCrop | True |
HasSettings | True |
HighlightRecovery | 0 |
HueAdjustmentAqua | 0 |
HueAdjustmentBlue | 0 |
HueAdjustmentGreen | 0 |
HueAdjustmentMagenta | 0 |
HueAdjustmentOrange | 0 |
HueAdjustmentPurple | 0 |
HueAdjustmentRed | 0 |
HueAdjustmentYellow | 0 |
HyperfocalDistance | 15.00 m |
ImageDescription | Figure out the title yourself. |
ImageHeight | 2278 |
ImageNumber | 233 |
ImageSize | 3417x2278 |
ImageWidth | 3417 |
ISO | 100 |
Keywords | Fog, Nedre Vats, Vindafjord |
Lens | 50.0 mm |
LensInfo | 50mm f/? |
LightValue | 13.7 |
LuminanceAdjustmentAqua | 0 |
LuminanceAdjustmentBlue | 0 |
LuminanceAdjustmentGreen | 0 |
LuminanceAdjustmentMagenta | 0 |
LuminanceAdjustmentOrange | 0 |
LuminanceAdjustmentPurple | 0 |
LuminanceAdjustmentRed | 0 |
LuminanceAdjustmentYellow | 0 |
LuminanceSmoothing | 0 |
Make | Canon |
Marked | True |
MaxApertureValue | 1.4 |
Megapixels | 7.8 |
MeteringMode | Multi-segment |
Model | Canon EOS 350D DIGITAL |
ModifyDate (1) | 2008:12:06 22:06:43+01:00 |
ModifyDate | 2008:12:06 22:06:43 |
ObjectName | Isla Nublar |
OwnerName | unknown |
ParametricDarks | -17 |
ParametricHighlights | +3 |
ParametricHighlightSplit | 75 |
ParametricLights | +13 |
ParametricMidtoneSplit | 50 |
ParametricShadows | -13 |
ParametricShadowSplit | 25 |
PostCropVignetteAmount | 0 |
ProfileDescription | sRGB IEC61966-2.1 |
RedHue | 0 |
RedSaturation | 0 |
Rights | Copyright - Tor Håkon Haugen |
Saturation | +26 |
SaturationAdjustmentAqua | 0 |
SaturationAdjustmentBlue | 0 |
SaturationAdjustmentGreen | 0 |
SaturationAdjustmentMagenta | 0 |
SaturationAdjustmentOrange | 0 |
SaturationAdjustmentPurple | 0 |
SaturationAdjustmentRed | 0 |
SaturationAdjustmentYellow | 0 |
ScaleFactor35efl | 1.6 |
SceneCaptureType | Standard |
SerialNumber | 1830703648 |
Shadows | 5 |
ShadowTint | 0 |
SharpenDetail | 25 |
SharpenEdgeMasking | 0 |
SharpenRadius | +1.0 |
Sharpness | 25 |
ShutterSpeed | 1/160 |
ShutterSpeedValue | 1/160 |
SplitToningBalance | 0 |
SplitToningHighlightHue | 0 |
SplitToningHighlightSaturation | 0 |
SplitToningShadowHue | 0 |
SplitToningShadowSaturation | 0 |
Subject | Fog, Nedre Vats, Vindafjord |
Tint | +8 |
Title | Isla Nublar |
ToneCurve | 0, 0, 32, 22, 64, 56, 128, 128, 192, 196, 255, 255 |
ToneCurveName | Medium Contrast |
Version | 4.6 |
Vibrance | 0 |
VignetteAmount | 0 |
WhiteBalance (2) | Custom |
WhiteBalance | Auto |