Felt | Verdi |
AlreadyApplied | True |
Aperture | 5.6 |
ApertureValue | 5.6 |
Artist | Eric Fagerheim |
BitsPerSample (1) | 8, 8, 8 |
BitsPerSample (2) | 8 8 8 |
BitsPerSample | 8 |
BlueHue | 0 |
BlueSaturation | 0 |
Brightness | +50 |
By-line | Eric Fagerheim |
CameraProfile | ACR 4.4 |
Caption-Abstract | emfphoto |
CFAPattern | [Blue,Green][Green,Red] |
ChromaticAberrationB | 0 |
ChromaticAberrationR | 0 |
CircleOfConfusion | 0.020 mm |
Clarity | 0 |
ColorComponents | 3 |
ColorMode | RGB |
ColorNoiseReduction | 25 |
ColorSpace | sRGB |
ColorTemperature | 5250 |
Contrast (2) | +25 |
Contrast | Normal |
ConvertToGrayscale | False |
Copyright | Eric Fagerheim |
CopyrightFlag | True |
CopyrightNotice | Eric Fagerheim |
CreateDate (1) | 2008:05:15 07:53:58+02:00 |
CreateDate | 2008:04:29 21:23:48 |
Creator | Eric Fagerheim |
CreatorCity | Melhus |
CreatorCountry | Norway |
CreatorPostalCode | 7232 |
CreatorTool | Adobe Photoshop CS3 Windows |
CreatorWorkEmail | mail@emfphoto.no |
CreatorWorkURL | www.emfphoto.no |
CustomRendered | Normal |
DateTimeDigitized | 2008:04:29 21:23:48+02:00 |
DateTimeOriginal (1) | 2008:04:29 21:23:48+02:00 |
DateTimeOriginal | 2008:04:29 21:23:48 |
Defringe | 0 |
Description | emfphoto |
ExifImageHeight | 498 |
ExifImageWidth | 750 |
Exposure | -0.29 |
ExposureCompensation | +1/2 |
ExposureMode | Manual |
ExposureProgram | Manual |
ExposureTime | 1/180 |
FillLight | 0 |
Flash | Off, Did not fire |
FlashFired | False |
FlashFunction | False |
FlashMode | Off |
FlashRedEyeMode | False |
FlashReturn | No return detection |
FNumber | 5.6 |
FocalLength | 50.0 mm |
FocalLength35efl | 50.0 mm (35 mm equivalent: 75.0 mm) |
FocalLengthIn35mmFormat | 75 mm |
Format | image/jpeg |
FOV | 27.0 deg |
GreenHue | 0 |
GreenSaturation | 0 |
HasCrop | False |
HasSettings | True |
HierarchicalSubject | strobist, tfp, trondheim |
HighlightRecovery | 43 |
HueAdjustmentAqua | 0 |
HueAdjustmentBlue | 0 |
HueAdjustmentGreen | 0 |
HueAdjustmentMagenta | 0 |
HueAdjustmentOrange | 0 |
HueAdjustmentPurple | 0 |
HueAdjustmentRed | 0 |
HueAdjustmentYellow | 0 |
HyperfocalDistance | 22.29 m |
ICCProfileName | sRGB IEC61966-2.1 |
ImageDescription | emfphoto |
ImageHeight (1) | 3104 |
ImageHeight | 498 |
ImageSize | 750x498 |
ImageWidth (1) | 4672 |
ImageWidth | 750 |
ISO | 200 |
Keywords | strobist, tfp, trondheim |
Label | emfphoto |
Lens | smc PENTAX-DA* 50-135mm F2.8 ED [IF] SDM |
LensID (1) | 8 241 |
LensID | smc PENTAX-DA* 50-135mm F2.8 ED [IF] SDM |
LensInfo | 50-135mm f/2.8 |
LightValue | 11.5 |
LuminanceAdjustmentAqua | 0 |
LuminanceAdjustmentBlue | 0 |
LuminanceAdjustmentGreen | 0 |
LuminanceAdjustmentMagenta | 0 |
LuminanceAdjustmentOrange | 0 |
LuminanceAdjustmentPurple | 0 |
LuminanceAdjustmentRed | 0 |
LuminanceAdjustmentYellow | 0 |
LuminanceSmoothing | 0 |
Make | PENTAX Corporation |
Marked | True |
Megapixels | 0.373 |
MeteringMode | Multi-segment |
Model | PENTAX K20D |
ModifyDate (1) | 2008:05:15 07:53:58+02:00 |
ModifyDate | 2008:05:15 07:53:58 |
Orientation | Horizontal (normal) |
ParametricDarks | 0 |
ParametricHighlights | 0 |
ParametricHighlightSplit | 75 |
ParametricLights | 0 |
ParametricMidtoneSplit | 50 |
ParametricShadows | 0 |
ParametricShadowSplit | 25 |
PhotometricInterpretation | RGB |
PlanarConfiguration | Planar |
ProfileDescription | sRGB IEC61966-2.1 |
Rating | 5 |
RedHue | 0 |
RedSaturation | 0 |
Rights | Eric Fagerheim |
SamplesPerPixel | 3 |
Saturation (2) | 0 |
Saturation | High |
SaturationAdjustmentAqua | 0 |
SaturationAdjustmentBlue | 0 |
SaturationAdjustmentGreen | 0 |
SaturationAdjustmentMagenta | 0 |
SaturationAdjustmentOrange | 0 |
SaturationAdjustmentPurple | 0 |
SaturationAdjustmentRed | 0 |
SaturationAdjustmentYellow | 0 |
ScaleFactor35efl | 1.5 |
SceneCaptureType | Standard |
SensingMethod | One-chip color area |
Shadows | 5 |
ShadowTint | 0 |
SharpenDetail | 25 |
SharpenEdgeMasking | 0 |
SharpenRadius | +1.0 |
Sharpness (2) | 25 |
Sharpness | Soft |
ShutterSpeed | 1/180 |
ShutterSpeedValue | 1/180 |
Software | Adobe Photoshop CS3 Windows |
SplitToningBalance | 0 |
SplitToningHighlightHue | 0 |
SplitToningHighlightSaturation | 0 |
SplitToningShadowHue | 0 |
SplitToningShadowSaturation | 0 |
Subject | strobist, tfp, trondheim |
SubjectDistanceRange | Close |
Tint | -1 |
ToneCurve | 0, 0, 32, 22, 64, 56, 128, 128, 192, 196, 255, 255 |
ToneCurveName | Medium Contrast |
URL | www.emfphoto.no |
URL_List | |
Version | 4.4.1 |
Vibrance | 0 |
VignetteAmount | 0 |
WebStatement | www.emfphoto.no |
WhiteBalance (2) | Custom |
WhiteBalance | Auto |