Felt | Verdi |
-1
0
2008-01-14T21:16:37+01:00 File G:\Bilder\Bilder til utleggelse foto_no\soria moria_D2X5094 as Smart Object-1.jpg saved
8 Bits/Channel
AlreadyApplied | True |
Amount: 4%
Amount: 9%
Angle: 0
Aperture | 2.8 |
ApertureValue | 2.8 |
BitsPerSample | 8 |
BlueHue | 0 |
BlueSaturation | 0 |
Brightness | +50 |
CameraProfile | ACR 3.1 |
CFAPattern | [Red,Green][Green,Blue] |
ChromaticAberrationB | 0 |
ChromaticAberrationR | 0 |
CircleOfConfusion | 0.020 mm |
ColorComponents | 3 |
ColorMode | RGB |
ColorNoiseReduction | 25 |
ColorSpace (1) | Unknown (-1) |
ColorSpace | Uncalibrated |
ColorTemperature | 5650 |
Contrast (2) | +23 |
Contrast | High |
Convert Mode Depth: 8
Convert Mode To: Lab color mode
Convert Mode To: RGB color mode
Convert to Profile
Convert to Profile current document To Profile: “sRGB IEC61966-2.1”
ConvertToGrayscale | False |
CopyrightFlag | False |
CreateDate (1) | 2008:01:14 21:16:37+01:00 |
CreateDate | 2008:01:11 15:52:22 |
CreatorTool | Adobe Photoshop CS3 Windows |
CustomRendered | Normal |
DateTimeDigitized | 2008:01:11 15:52:22.38+01:00 |
DateTimeOriginal (1) | 2008:01:11 15:52:22.38+01:00 |
DateTimeOriginal | 2008:01:11 15:52:22 |
DigitalZoomRatio | 1 |
ExifImageHeight | 768 |
ExifImageWidth | 1156 |
Exposure | -0.65 |
ExposureCompensation | -1 |
ExposureMode | Auto |
ExposureProgram | Aperture-priority AE |
ExposureTime | 1/500 |
FillLight | 19 |
Flash | No Flash |
FlashFired | False |
FlashFunction | False |
FlashMode | Unknown |
FlashRedEyeMode | False |
FlashReturn | No return detection |
FNumber | 2.8 |
FocalLength | 20.0 mm |
FocalLength35efl | 20.0 mm (35 mm equivalent: 30.0 mm) |
FocalLengthIn35mmFormat | 30 mm |
Format | image/jpeg |
FOV | 61.9 deg |
GainControl | None |
GreenHue | 0 |
GreenSaturation | 0 |
HasCrop | False |
HasSettings | True |
Highlight: Parameters
HighlightRecovery | 100 |
HueAdjustmentAqua | 0 |
HueAdjustmentBlue | 0 |
HueAdjustmentGreen | 0 |
HueAdjustmentMagenta | 0 |
HueAdjustmentOrange | 0 |
HueAdjustmentPurple | 0 |
HueAdjustmentRed | 0 |
HueAdjustmentYellow | 0 |
HyperfocalDistance | 7.13 m |
ICCProfileName | ProPhoto RGB |
Image Size
Image Size Height: 768 pixels
ImageHeight | 768 |
ImageNumber | 5310 |
ImageSize | 1156x768 |
ImageWidth | 1156 |
Intent: relative colorimetric
Interpolation: bicubic sharper
ISO | 100 |
Lab Color
Lens | 20.0-35.0 mm f/2.8 |
LensInfo | 20-35mm f/2.8 |
LightSource | Unknown |
LightValue | 11.9 |
LuminanceAdjustmentAqua | 0 |
LuminanceAdjustmentBlue | 0 |
LuminanceAdjustmentGreen | 0 |
LuminanceAdjustmentMagenta | 0 |
LuminanceAdjustmentOrange | 0 |
LuminanceAdjustmentPurple | 0 |
LuminanceAdjustmentRed | 0 |
LuminanceAdjustmentYellow | 0 |
LuminanceSmoothing | 0 |
Make | NIKON CORPORATION |
MaxApertureValue | 2.8 |
Megapixels | 0.888 |
MeteringMode | Multi-segment |
Model | NIKON D2Xs |
ModifyDate (1) | 2008:01:14 21:16:37+01:00 |
ModifyDate | 2008:01:14 21:16:37 |
Open G:\Bilder\Sortert\2008\01\_D2X5094.NEF
Orientation | Horizontal (normal) |
ParametricDarks | 0 |
ParametricHighlights | 0 |
ParametricHighlightSplit | 75 |
ParametricLights | 0 |
ParametricMidtoneSplit | 50 |
ParametricShadows | 0 |
ParametricShadowSplit | 25 |
ProfileDescription | ProPhoto RGB |
Radius: 0,6 pixels
Radius: 3
Radius: 5
Rating | 0 |
RawFileName | _D2X5094.NEF |
RedHue | 0 |
RedSaturation | 0 |
Remove: Gaussian Blur
RGB Color
Saturation (2) | 0 |
Saturation | Normal |
SaturationAdjustmentAqua | 0 |
SaturationAdjustmentBlue | 0 |
SaturationAdjustmentGreen | 0 |
SaturationAdjustmentMagenta | 0 |
SaturationAdjustmentOrange | 0 |
SaturationAdjustmentPurple | 0 |
SaturationAdjustmentRed | 0 |
SaturationAdjustmentYellow | 0 |
ScaleFactor35efl | 1.5 |
SceneCaptureType | Standard |
SceneType | Directly photographed |
Select lightness channel
SensingMethod | One-chip color area |
SerialNumber | 6014373 |
Settings Name: “Default”
Shadow: Parameters
Shadows | 15 |
ShadowTint | 0 |
Sharpness (2) | 25 |
Sharpness | Normal |
ShutterSpeed | 1/500 |
ShutterSpeedValue | 1/500 |
SidecarForExtension | NEF |
Smart Sharpen
Smart Sharpen Amount: 262%
Software | Adobe Photoshop CS3 Windows |
SplitToningBalance | 0 |
SplitToningHighlightHue | 0 |
SplitToningHighlightSaturation | 0 |
SplitToningShadowHue | 0 |
SplitToningShadowSaturation | 0 |
SubjectDistanceRange | Unknown |
TimeZoneOffset | 1 1 |
Tint | +3 |
Tone Width: 100%
ToneCurve | 0, 0, 32, 22, 64, 56, 128, 128, 192, 196, 255, 255 |
ToneCurveName | Medium Contrast |
URL_List | |
UserComment | JanuarpJul 2007}} |
Version | 4.0 |
Vibrance | 0 |
VignetteAmount | 0 |
WhiteBalance (2) | As Shot |
WhiteBalance | Auto |
With Black Point Compensation
With Constrain Proportions
With Rasterize
Without Dither
Without Merge
Without More Accurate