Felt | Verdi |
AlreadyApplied | True |
Aperture | 4.0 |
ApertureValue | 4.0 |
BitsPerSample | 8 |
BlueHue | -23 |
BlueSaturation | +37 |
Brightness | 0 |
CameraProfile | ACR 3.3 |
ChromaticAberrationB | 0 |
ChromaticAberrationR | 0 |
CircleOfConfusion | 0.030 mm |
Clarity | 24 |
ColorComponents | 1 |
ColorMode | Grayscale |
ColorSpace (1) | Unknown (-1) |
ColorSpace | Uncalibrated |
ColorTemperature | 4750 |
Contrast | +6 |
ConvertToGrayscale | True |
CopyrightFlag | False |
CreateDate (1) | 2008:01:16 18:43:37+01:00 |
CreateDate | 2007:03:30 14:10:17 |
CreatorTool | Adobe Photoshop CS3 Windows |
CropAngle | 0 |
CropBottom | 1 |
CropLeft | 0.047267 |
CropRight | 0.948301 |
CropTop | 0.323725 |
CustomRendered | Normal |
DateTimeDigitized | 2007:03:30 14:10:17+02:00 |
DateTimeOriginal (1) | 2007:03:30 14:10:17+02:00 |
DateTimeOriginal | 2007:03:30 14:10:17 |
Defringe | 0 |
ExifImageHeight | 475 |
ExifImageWidth | 950 |
Exposure | +0.30 |
ExposureCompensation | 0 |
ExposureMode | Auto |
ExposureProgram | Program AE |
ExposureTime | 1/15 |
FillLight | 0 |
Firmware | 1.0.4 |
Flash | Off, Did not fire |
FlashCompensation | 0 |
FlashFired | False |
FlashFunction | False |
FlashMode | Off |
FlashRedEyeMode | False |
FlashReturn | No return detection |
FNumber | 4.0 |
FocalLength | 45.0 mm |
FocalLength35efl | 45.0 mm (35 mm equivalent: 45.1 mm) |
Format | image/jpeg |
FOV | 43.5 deg |
GrayMixerAqua | 0 |
GrayMixerBlue | 0 |
GrayMixerGreen | 0 |
GrayMixerMagenta | 0 |
GrayMixerOrange | 0 |
GrayMixerPurple | 0 |
GrayMixerRed | 0 |
GrayMixerYellow | 0 |
GreenHue | -100 |
GreenSaturation | -28 |
HasCrop | True |
HasSettings | True |
HighlightRecovery | 15 |
HyperfocalDistance | 16.88 m |
ICCProfileName | Gray Gamma 2.2 |
ImageHeight | 475 |
ImageNumber | 1 |
ImageSize | 950x475 |
ImageWidth | 950 |
ISO | 1250 |
Lens | EF24-105mm f/4L IS USM |
LensInfo | 24-105mm f/? |
LightValue | 4.3 |
LuminanceSmoothing | 0 |
Make | Canon |
MaxApertureValue | 4.0 |
Megapixels | 0.451 |
MeteringMode | Multi-segment |
Model | Canon EOS 5D |
ModifyDate (1) | 2008:01:16 18:46:19+01:00 |
ModifyDate | 2008:01:16 18:46:19 |
Orientation | Horizontal (normal) |
ParametricDarks | -6 |
ParametricHighlights | -19 |
ParametricHighlightSplit | 75 |
ParametricLights | -3 |
ParametricMidtoneSplit | 50 |
ParametricShadows | -12 |
ParametricShadowSplit | 25 |
ProfileDescription | Gray Gamma 2.2 |
Rating | 0 |
RawFileName | _MG_1180.CR2 |
RedHue | -74 |
RedSaturation | +19 |
ScaleFactor35efl | 1.0 |
SceneCaptureType | Standard |
SerialNumber | 930606961 |
Shadows | 4 |
ShadowTint | +36 |
SharpenDetail | 25 |
SharpenEdgeMasking | 0 |
SharpenRadius | +1.0 |
Sharpness | 15 |
ShutterSpeed | 1/15 |
ShutterSpeedValue | 1/15 |
SidecarForExtension | CR2 |
Software | Adobe Photoshop CS3 Windows |
SplitToningBalance | 0 |
SplitToningHighlightHue | 0 |
SplitToningHighlightSaturation | 0 |
SplitToningShadowHue | 0 |
SplitToningShadowSaturation | 0 |
Tint | 0 |
ToneCurve | 0, 0, 39, 13, 82, 68, 121, 120, 197, 218, 255, 255 |
ToneCurveName | Custom |
URL_List | |
Version | 4.3.1 |
VignetteAmount | 0 |
WhiteBalance (2) | Custom |
WhiteBalance | Auto |