Felt | Verdi |
AlreadyApplied | True |
Aperture | 6.3 |
ApertureValue | 6.3 |
BitsPerSample | 8 |
BlueHue | +11 |
BlueSaturation | -21 |
Brightness | +64 |
BrightnessValue | 7.5 |
By-line | Ronny Bohrmann |
CameraProfile | ACR 2.4 |
Caption-Abstract | KONICA MINOLTA DIGITAL CAMERA |
CaptionWriter | Ronny Bohrmann |
ChromaticAberrationB | 0 |
ChromaticAberrationR | 0 |
CircleOfConfusion | 0.020 mm |
Clarity | 0 |
ColorComponents | 3 |
Contrast (2) | +32 |
Contrast | Normal |
ConvertToGrayscale | True |
CreateDate | 2007:07:15 16:35:30 |
Creator | Ronny Bohrmann |
CreatorCity | Hamar/Ingeberg |
CreatorCountry | Norwegen |
CreatorPostalCode | 2323 |
CreatorTool | Adobe Photoshop Lightroom |
CreatorWorkEmail | ronny@rbonet.de |
CropAngle | 0 |
CropBottom | 0.971602 |
CropHeight | 768 |
CropLeft | 0.056795 |
CropRight | 1 |
CropTop | 0.028398 |
CropUnit | pixels |
CropWidth | 1155 |
CustomRendered | Normal |
DateTimeDigitized | 2007:07:15 16:35:30+02:00 |
DateTimeOriginal (1) | 2007:07:15 16:35:30+02:00 |
DateTimeOriginal | 2007:07:15 16:35:30 |
Defringe | 0 |
Description | KONICA MINOLTA DIGITAL CAMERA |
DigitalZoomRatio | 0 |
Exposure | 0.00 |
ExposureCompensation | 0 |
ExposureMode | Auto |
ExposureProgram | Aperture-priority AE |
ExposureTime | 1/160 |
FillLight | 0 |
Flash | Off, Did not fire |
FlashCompensation | 0 |
FlashFired | False |
FlashFunction | False |
FlashMode | Off |
FlashRedEyeMode | False |
FlashReturn | No return detection |
FNumber | 6.3 |
FocalLength | 24.0 mm |
FocalLength35efl | 24.0 mm (35 mm equivalent: 36.0 mm) |
FocalLengthIn35mmFormat | 36 mm |
FOV | 53.1 deg |
GainControl | None |
GrayMixerAqua | +2 |
GrayMixerBlue | +19 |
GrayMixerGreen | 0 |
GrayMixerMagenta | +30 |
GrayMixerOrange | +8 |
GrayMixerPurple | +25 |
GrayMixerRed | +34 |
GrayMixerYellow | -12 |
GreenHue | +16 |
GreenSaturation | +51 |
HasCrop | True |
HasSettings | True |
HighlightRecovery | 0 |
HyperfocalDistance | 4.56 m |
ImageDescription | KONICA MINOLTA DIGITAL CAMERA |
ImageHeight | 768 |
ImageSize | 1155x768 |
ImageWidth | 1155 |
IncrementalTemperature | 0 |
IncrementalTint | 0 |
ISO | 100 |
Keywords | Nysaetra, Rendalen, Soelenfjellet |
LightSource | Unknown |
LightValue | 12.6 |
LuminanceSmoothing | 0 |
Make | KONICA MINOLTA |
MaxApertureValue | 3.5 |
Megapixels | 0.887 |
MeteringMode | Multi-segment |
Model | DYNAX 7D |
ModifyDate (1) | 2007:08:26 13:09:10+02:00 |
ModifyDate | 2007:08:26 13:09:10 |
ParametricDarks | 0 |
ParametricHighlights | 0 |
ParametricHighlightSplit | 75 |
ParametricLights | -2 |
ParametricMidtoneSplit | 50 |
ParametricShadows | 0 |
ParametricShadowSplit | 25 |
ProfileDescription | sRGB IEC61966-2.1 |
RedHue | +23 |
RedSaturation | +10 |
Saturation | Normal |
ScaleFactor35efl | 1.5 |
SceneCaptureType | Standard |
Shadows | 80 |
ShadowTint | +4 |
SharpenDetail | 25 |
SharpenEdgeMasking | 0 |
SharpenRadius | +1.0 |
Sharpness (2) | 25 |
Sharpness | Normal |
ShutterSpeed | 1/160 |
ShutterSpeedValue | 1/160 |
Software | DYNAX 7D v1.10 |
SplitToningBalance | 0 |
SplitToningHighlightHue | 215 |
SplitToningHighlightSaturation | 32 |
SplitToningShadowHue | 240 |
SplitToningShadowSaturation | 29 |
Subject | Nysaetra, Rendalen, Soelenfjellet |
SubjectArea (1) | 1504, 1000, 256, 304 |
SubjectArea | 1504 1000 256 304 |
TimeZoneOffset | 2 2 |
ToneCurve | 0, 0, 255, 255 |
ToneCurveName | Linear |
Version | 1.0 |
VignetteAmount | -100 |
VignetteMidpoint | 40 |
WhiteBalance (2) | As Shot |
WhiteBalance | Auto |
Writer-Editor | Ronny Bohrmann |