Felt | Verdi |
AlreadyApplied | True |
Aperture | 11.0 |
ApertureValue | 11.0 |
AutoLateralCA | 1 |
BitsPerSample | 8 |
Blacks2012 | 0 |
BlueHue | 0 |
BlueSaturation | 0 |
BrightnessValue | 4.68 |
CameraProfile | Camera CLASSIC CHROME |
CircleOfConfusion | 0.020 mm |
Clarity2012 | 0 |
ColorComponents | 3 |
ColorGradeBlending | 50 |
ColorGradeGlobalHue | 0 |
ColorGradeGlobalLum | 0 |
ColorGradeGlobalSat | 0 |
ColorGradeHighlightLum | 0 |
ColorGradeMidtoneHue | 0 |
ColorGradeMidtoneLum | 0 |
ColorGradeMidtoneSat | 0 |
ColorGradeShadowLum | 0 |
ColorMode | RGB |
ColorNoiseReduction | 25 |
ColorNoiseReductionDetail | 50 |
ColorNoiseReductionSmoothness | 50 |
ColorSpace | sRGB |
ColorTemperature | 5650 |
ColorTransform | YCbCr |
CompatibleVersion | 268435456 |
Contrast2012 | 0 |
ConvertToGrayscale | False |
CreateDate | 2024:04:27 14:19:42 |
CreatorTool | Digital Camera X-T4 Ver2.01 |
CustomRendered | Normal |
DateCreated (1) | 2024:04:27 |
DateCreated | 2024:04:27 14:19:42+02:00 |
DateTimeOriginal | 2024:04:27 14:19:42 |
DefringeGreenAmount | 0 |
DefringeGreenHueHi | 60 |
DefringeGreenHueLo | 40 |
DefringePurpleAmount | 0 |
DefringePurpleHueHi | 70 |
DefringePurpleHueLo | 30 |
Dehaze | 0 |
DepthMapInfoBaseHighlightGuideTable | 399E769A389C40AB6A5982C81E72F5AE |
DepthMapInfoBaseHighlightGuideVersion | 1 |
DepthMapInfoBaseLayeredDepthTable | 90DA6757B7642B0DE996C919CB7498A0 |
DepthMapInfoBaseLayeredDepthVersion | 1 |
DepthMapInfoBaseRawDepthTable | 39AB051D42728B4D840E8C2BE8A36617 |
DepthMapInfoBaseRawDepthVersion | 1 |
DepthMapInfoDepthSource | 2 |
DistortionCorrectionAlreadyApplied | True |
ExifImageHeight | 2560 |
ExifImageWidth | 1795 |
Exposure2012 | +0.34 |
ExposureCompensation | 0 |
ExposureMode | Auto |
ExposureProgram | Aperture-priority AE |
ExposureTime | 1/50 |
Flash | No Flash |
FNumber | 11.0 |
FocalLength | 80.0 mm |
FocalLength35efl | 80.0 mm (35 mm equivalent: 120.0 mm) |
FocalLengthIn35mmFormat | 120 mm |
Format | image/jpeg |
FOV | 17.1 deg |
FujiRatingAlreadyApplied | True |
GrainAmount | 0 |
GreenHue | 0 |
GreenSaturation | 0 |
HasCrop | False |
HasSettings | True |
HDREditMode | 0 |
Highlights2012 | 0 |
HueAdjustmentAqua | 0 |
HueAdjustmentBlue | 0 |
HueAdjustmentGreen | 0 |
HueAdjustmentMagenta | 0 |
HueAdjustmentOrange | 0 |
HueAdjustmentPurple | 0 |
HueAdjustmentRed | 0 |
HueAdjustmentYellow | 0 |
HyperfocalDistance | 29.05 m |
ICCProfileName | sRGB IEC61966-2.1 |
ImageHeight | 2560 |
ImageSize | 1795x2560 |
ImageWidth | 1795 |
ISO | 640 |
Label | |
LateralChromaticAberrationCorrectionAlreadyApplied | True |
Lens | XF80mmF2.8 R LM OIS WR Macro |
LensBlurActive | true |
LensBlurBlurAmount | 100 |
LensBlurBokehAspect | 0 |
LensBlurBokehRotation | 0 |
LensBlurBokehShape | 0 |
LensBlurBokehShapeDetail | 0 |
LensBlurCatEyeAmount | 0 |
LensBlurCatEyeScale | 100 |
LensBlurFocalRange | -80 0 28 108 |
LensBlurFocalRangeSource | 1 |
LensBlurHighlightsBoost | 50 |
LensBlurHighlightsThreshold | 50 |
LensBlurSampledArea | 0.500000 0.500000 0.500000 0.500000 |
LensBlurSampledRange | 0 0 |
LensBlurSphericalAberration | 0 |
LensBlurSubjectRange | 0 28 |
LensBlurVersion | 1 |
LensInfo | 80mm f/2.8 |
LensMake | FUJIFILM |
LensManualDistortionAmount | 0 |
LensModel | XF80mmF2.8 R LM OIS WR Macro |
LensProfileEnable | 0 |
LensSerialNumber | 18C00005 |
LightSource | Unknown |
LightValue | 9.9 |
LuminanceAdjustmentAqua | 0 |
LuminanceAdjustmentBlue | 0 |
LuminanceAdjustmentGreen | 0 |
LuminanceAdjustmentMagenta | 0 |
LuminanceAdjustmentOrange | 0 |
LuminanceAdjustmentPurple | 0 |
LuminanceAdjustmentRed | 0 |
LuminanceAdjustmentYellow | 0 |
LuminanceSmoothing | 0 |
Make | FUJIFILM |
MaxApertureValue | 2.8 |
Megapixels | 4.6 |
MeteringMode | Multi-segment |
Model | X-T4 |
ModifyDate (1) | 2024:04:28 13:22:51+02:00 |
ModifyDate | 2024:04:28 13:22:51 |
Orientation | Horizontal (normal) |
OverrideLookVignette | False |
ParametricDarks | 0 |
ParametricHighlights | 0 |
ParametricHighlightSplit | 75 |
ParametricLights | 0 |
ParametricMidtoneSplit | 50 |
ParametricShadows | 0 |
ParametricShadowSplit | 25 |
PerspectiveAspect | 0 |
PerspectiveHorizontal | 0 |
PerspectiveRotate | 0.0 |
PerspectiveScale | 100 |
PerspectiveUpright | 0 |
PerspectiveVertical | 0 |
PerspectiveX | 0.00 |
PerspectiveY | 0.00 |
Pick | 0 |
PointColors | -1.000000, -1.000000, -1.000000, -1.000000, -1.000000, -1.000000, -1.000000, -1.000000, -1.000000, -1.000000, -1.000000, -1.000000, -1.000000, -1.000000, -1.000000, -1.000000, -1.000000, -1.000000, -1.000000 |
PostCropVignetteAmount | +33 |
PostCropVignetteFeather | 100 |
PostCropVignetteMidpoint | 18 |
PostCropVignetteRoundness | +75 |
PostCropVignetteStyle | 2 |
PreservedFileName | _DSF0669.RAF |
ProcessVersion | 15.4 |
ProfileDescription | sRGB IEC61966-2.1 |
Rating | 0 |
RedHue | 0 |
RedSaturation | 0 |
Saturation | 0 |
SaturationAdjustmentAqua | 0 |
SaturationAdjustmentBlue | 0 |
SaturationAdjustmentGreen | 0 |
SaturationAdjustmentMagenta | 0 |
SaturationAdjustmentOrange | 0 |
SaturationAdjustmentPurple | 0 |
SaturationAdjustmentRed | 0 |
SaturationAdjustmentYellow | 0 |
ScaleFactor35efl | 1.5 |
SceneCaptureType | Standard |
SceneType | Directly photographed |
SensingMethod | One-chip color area |
SensitivityType | Standard Output Sensitivity |
SerialNumber | 1BQ08156 |
Shadows2012 | 0 |
ShadowTint | 0 |
SharpenDetail | 25 |
SharpenEdgeMasking | 0 |
SharpenRadius | +1.3 |
Sharpness (1) | 80 |
Sharpness | Hard |
ShutterSpeed | 1/50 |
ShutterSpeedValue | 1/50 |
Software | Adobe Photoshop 25.7 (Windows) |
SplitToningBalance | 0 |
SplitToningHighlightHue | 0 |
SplitToningHighlightSaturation | 0 |
SplitToningShadowHue | 0 |
SplitToningShadowSaturation | 0 |
SubjectDistanceRange | Unknown |
Texture | 0 |
Tint | +12 |
ToneCurveName2012 | Linear |
ToneCurvePV2012 | 0, 0, 255, 255 |
ToneCurvePV2012Blue | 0, 0, 255, 255 |
ToneCurvePV2012Green | 0, 0, 255, 255 |
ToneCurvePV2012Red | 0, 0, 255, 255 |
URL_List | |
Version | 16.2.1 |
Vibrance | 0 |
VignetteAmount | 0 |
WhiteBalance (1) | As Shot |
WhiteBalance | Manual |
Whites2012 | 0 |