Felt | Verdi |
AlreadyApplied | True |
Aperture | 32.0 |
ApertureValue | 32.0 |
AutoLateralCA | 1 |
BitsPerSample | 8 |
Blacks2012 | -1 |
BlueHue | 0 |
BlueSaturation | 0 |
CameraProfile | Adobe Standard |
CircleOfConfusion | 0.040 mm |
Clarity2012 | 0 |
ColorComponents | 3 |
ColorGradeBlending | 50 |
ColorGradeGlobalHue | 0 |
ColorGradeGlobalLum | 0 |
ColorGradeGlobalSat | 0 |
ColorGradeHighlightLum | 0 |
ColorGradeMidtoneHue | 0 |
ColorGradeMidtoneLum | 0 |
ColorGradeMidtoneSat | 0 |
ColorGradeShadowLum | 0 |
ColorNoiseReduction | 25 |
ColorNoiseReductionDetail | 50 |
ColorNoiseReductionSmoothness | 50 |
ColorSpace | Uncalibrated |
ColorTemperature | 7500 |
ColorTransform | YCbCr |
CompatibleVersion | 234881024 |
Contrast | Normal |
Contrast2012 | 0 |
ConvertToGrayscale | False |
CreateDate | 2023:08:17 21:37:22 |
CreatorTool | Adobe Photoshop Lightroom Classic 12.4 (Macintosh) |
CropAngle | 2.07156 |
CropBottom | 0.767164 |
CropConstrainToWarp | 0 |
CropLeft | 0.153469 |
CropRight | 0.970667 |
CropTop | 0 |
CustomRendered | Normal |
DateCreated (1) | 2023:08:17 |
DateCreated | 2023:08:17 21:37:22 |
DateTimeOriginal | 2023:08:17 21:37:22 |
DefringeGreenAmount | 0 |
DefringeGreenHueHi | 60 |
DefringeGreenHueLo | 40 |
DefringePurpleAmount | 0 |
DefringePurpleHueHi | 70 |
DefringePurpleHueLo | 30 |
Dehaze | 0 |
DistortionCorrectionAlreadyApplied | True |
Exposure2012 | -0.45 |
ExposureCompensation | 0 |
ExposureMode | Auto |
ExposureProgram | Not Defined |
ExposureTime | 13 |
Flash | Off, Did not fire |
FNumber | 32.0 |
FocalLength | 25.0 mm |
FocalLength35efl | 25.0 mm (35 mm equivalent: 19.0 mm) |
FocalLengthIn35mmFormat | 19 mm |
Format | image/jpeg |
FOV | 86.9 deg |
GrainAmount | 0 |
GreenHue | 0 |
GreenSaturation | 0 |
HasCrop | True |
HasSettings | True |
Highlights2012 | -100 |
HueAdjustmentAqua | 0 |
HueAdjustmentBlue | 0 |
HueAdjustmentGreen | 0 |
HueAdjustmentMagenta | 0 |
HueAdjustmentOrange | -6 |
HueAdjustmentPurple | 0 |
HueAdjustmentRed | -19 |
HueAdjustmentYellow | 0 |
HyperfocalDistance | 0.49 m |
ImageHeight | 1303 |
ImageSize | 2000x1303 |
ImageWidth | 2000 |
ISO | 100 |
LateralChromaticAberrationCorrectionAlreadyApplied | True |
Lens | smc PENTAX-DA645 25mm F4 AL [IF] SDM AW |
LensID (1) | 13 254 |
LensID | smc PENTAX-DA 645 25mm F4 AL [IF] SDM AW |
LensInfo | 25mm f/4 |
LensManualDistortionAmount | 0 |
LensModel | smc PENTAX-DA645 25mm F4 AL [IF] SDM AW |
LensProfileDistortionScale | 100 |
LensProfileEnable | 1 |
LensProfileFilename | PENTAX (smc PENTAX-DA645 25mm F4 AL [IF] SDM AW) - RAW.lcp |
LensProfileIsEmbedded | False |
LensProfileName | Adobe (smc PENTAX-DA645 25mm F4 AL [IF] SDM AW) |
LensProfileSetup | LensDefaults |
LensProfileVignettingScale | 100 |
LightValue | 6.3 |
LuminanceAdjustmentAqua | 0 |
LuminanceAdjustmentBlue | 0 |
LuminanceAdjustmentGreen | 0 |
LuminanceAdjustmentMagenta | 0 |
LuminanceAdjustmentOrange | 0 |
LuminanceAdjustmentPurple | 0 |
LuminanceAdjustmentRed | 0 |
LuminanceAdjustmentYellow | 0 |
LuminanceNoiseReductionContrast | 0 |
LuminanceNoiseReductionDetail | 50 |
LuminanceSmoothing | 14 |
Make | RICOH IMAGING COMPANY, LTD. |
Megapixels | 2.6 |
MeteringMode | Multi-segment |
Model | PENTAX 645Z |
ModifyDate (1) | 2023:08:18 15:22:33+02:00 |
ModifyDate | 2023:08:18 15:22:33 |
OverrideLookVignette | False |
ParametricDarks | 0 |
ParametricHighlights | 0 |
ParametricHighlightSplit | 75 |
ParametricLights | 0 |
ParametricMidtoneSplit | 50 |
ParametricShadows | 0 |
ParametricShadowSplit | 25 |
PerspectiveAspect | 0 |
PerspectiveHorizontal | 0 |
PerspectiveRotate | 0.0 |
PerspectiveScale | 100 |
PerspectiveUpright | 1 |
PerspectiveVertical | 0 |
PerspectiveX | 0.00 |
PerspectiveY | 0.00 |
PostCropVignetteAmount | 0 |
PreservedFileName | IMG_2156.DNG |
ProcessVersion | 15.4 |
ProfileDescription | ProPhoto RGB |
RawFileName | IMG_2156-2.DNG |
RedHue | 0 |
RedSaturation | 0 |
Saturation (1) | +10 |
Saturation | Normal |
SaturationAdjustmentAqua | 0 |
SaturationAdjustmentBlue | 0 |
SaturationAdjustmentGreen | 0 |
SaturationAdjustmentMagenta | 0 |
SaturationAdjustmentOrange | +26 |
SaturationAdjustmentPurple | 0 |
SaturationAdjustmentRed | +32 |
SaturationAdjustmentYellow | +26 |
ScaleFactor35efl | 0.8 |
SceneCaptureType | Standard |
SensingMethod | One-chip color area |
SensitivityType | Standard Output Sensitivity |
Shadows2012 | +100 |
ShadowTint | 0 |
SharpenDetail | 25 |
SharpenEdgeMasking | 51 |
SharpenRadius | +1.0 |
Sharpness (1) | 90 |
Sharpness | Normal |
ShutterSpeed | 13 |
ShutterSpeedValue | 13 |
Software | Adobe Photoshop Lightroom Classic 12.4 (Macintosh) |
SplitToningBalance | 0 |
SplitToningHighlightHue | 0 |
SplitToningHighlightSaturation | 0 |
SplitToningShadowHue | 0 |
SplitToningShadowSaturation | 0 |
StandardOutputSensitivity | 100 |
SubjectDistanceRange | Distant |
Texture | 0 |
Tint | +34 |
ToneCurveName2012 | Linear |
ToneCurvePV2012 | 0, 0, 255, 255 |
ToneCurvePV2012Blue | 0, 0, 255, 255 |
ToneCurvePV2012Green | 0, 0, 255, 255 |
ToneCurvePV2012Red | 0, 0, 255, 255 |
Version | 15.4 |
Vibrance | +17 |
VignetteAmount | 0 |
VignetteCorrectionAlreadyApplied | True |
WhiteBalance (1) | Custom |
WhiteBalance | Auto |
Whites2012 | +35 |