Felt | Verdi |
AELock | Off |
AFAreas | none |
AFFineTune | On |
AFFineTuneAdj | 0 0 0 |
AFPoint | Center (vertical); Single Target |
AFPointSelected | n/a |
AFSearch | Not Ready |
AlreadyApplied | True |
Aperture | 16.0 |
ApertureValue | 16.0 |
ArtFilter | Off; 0; 0; 0 |
Artist | Torstein Hall |
AspectFrame | 0 0 4031 3023 |
AspectRatio | 4:3 |
AutoLateralCA | 0 |
AutoWhiteVersion | 134348800 |
BitsPerSample | 8 |
BlackLevel2 | 65 65 65 65 |
Blacks2012 | -12 |
BlueBalance | 1.320313 |
BlueHue | 0 |
BlueSaturation | 0 |
BodyFirmwareVersion | 1.101 |
CameraID | OLYMPUS DIGITAL CAMERA |
CameraProfile | Adobe Standard |
CameraSettingsVersion | 0100 |
CameraType2 | E-30 |
CFAPattern | [Blue,Green][Green,Red] |
CircleOfConfusion | 0.015 mm |
Clarity2012 | 0 |
ColorComponents | 3 |
ColorMatrix | 322 -48 -18 -26 336 -54 -2 -52 310 |
ColorNoiseReduction | 25 |
ColorNoiseReductionDetail | 50 |
ColorNoiseReductionSmoothness | 50 |
ColorSpace (1) | sRGB |
ColorSpace | Uncalibrated |
ColorTemperature | 4650 |
Contrast | Low |
Contrast2012 | +40 |
ContrastSetting | -2 (min -5, max 5) |
ConvertToGrayscale | False |
Copyright | Foto: Torstein Hall |
CreateDate (1) | 2009:06:19 17:00:15+02:00 |
CreateDate | 2009:06:19 17:00:15 |
Creator | Torstein Hall |
CreatorAddress | Undelstadveien 33D |
CreatorCountry | Asker |
CreatorPostalCode | 1387 |
CreatorRegion | Norway |
CreatorTool | DxO PhotoLab 7.0 |
CropHeight | 3024 |
CropLeft | 26 0 |
CropTop | 12 0 |
CropWidth | 4032 |
CustomRendered | Normal |
CustomSaturation | 0 (min -5, max 5) |
DateTimeOriginal (1) | 2009:06:19 17:00:15+02:00 |
DateTimeOriginal | 2009:06:19 17:00:15 |
DefringeGreenAmount | 0 |
DefringeGreenHueHi | 60 |
DefringeGreenHueLo | 40 |
DefringePurpleAmount | 0 |
DefringePurpleHueHi | 70 |
DefringePurpleHueLo | 30 |
Dehaze | 0 |
Description | OLYMPUS DIGITAL CAMERA |
DigitalZoomRatio | 1 |
DistortionCorrection | Off |
DistortionCorrection2 | Off |
DOF | inf (2.08 m - inf) |
DriveMode | Continuous Shooting, Shot 1 |
EquipmentVersion | 0100 |
ExifImageHeight (1) | 3024 |
ExifImageHeight | 1500 |
ExifImageWidth (1) | 4032 |
ExifImageWidth | 2000 |
Exposure2012 | -0.50 |
ExposureCompensation | 0 |
ExposureMode (1) | Shutter speed priority AE |
ExposureMode | Auto |
ExposureProgram | Shutter speed priority AE |
ExposureShift | 0.16 |
ExposureTime | 1/50 |
ExtendedWBDetect | On |
Extender | None |
ExtenderFirmwareVersion | 0 |
ExtenderModel | |
ExtenderSerialNumber | |
ExtenderStatus | Not attached |
ExternalFlash | Off |
ExternalFlashBounce | Bounce or Off |
ExternalFlashZoom | 0 |
FaceDetectFrameSize | 0 0 0 0 0 0 |
FacesDetected | 0 0 0 |
Flash | On, Did not fire |
FlashCompensation | 0 |
FlashControlMode | Off; 0; 0 |
FlashExposureComp | 0 |
FlashFired | False |
FlashFirmwareVersion | 0 |
FlashFunction | False |
FlashIntensity | n/a |
FlashMode (1) | On |
FlashMode | Fill-in |
FlashModel | None |
FlashRedEyeMode | False |
FlashRemoteControl | Off |
FlashReturn | No return detection |
FlashSerialNumber | |
FlashType | None |
FNumber | 16.0 |
FocalLength | 30.0 mm |
FocusDistance | 4.64 m |
FocusInfoVersion | 0100 |
FocusMode | Continuous AF; C-AF |
FocusProcess | AF Not Used; 0 |
FocusStepCount | 192 |
Format | image/x-olympus-raw |
FOV | 33.1 deg (2.76 m) |
GainBase | 256 |
GainControl | Low gain up |
Gradation | Normal; User-Selected |
GrainAmount | 0 |
GreenHue | 0 |
GreenSaturation | 0 |
HasSettings | True |
HierarchicalSubject | Oslo, fontene |
Highlights2012 | 0 |
HueAdjustmentAqua | 0 |
HueAdjustmentBlue | 0 |
HueAdjustmentGreen | 0 |
HueAdjustmentMagenta | 0 |
HueAdjustmentOrange | 0 |
HueAdjustmentPurple | 0 |
HueAdjustmentRed | 0 |
HueAdjustmentYellow | 0 |
HyperfocalDistance | 3.75 m |
ImageCreatorImageCreatorName | Torstein Hall |
ImageDescription | OLYMPUS DIGITAL CAMERA |
ImageHeight (1) | 3024 |
ImageHeight | 1500 |
ImageProcessingVersion | 0112 |
ImageSize | 2000x1500 |
ImageStabilization | On, Mode 1 |
ImageWidth (1) | 4032 |
ImageWidth | 2000 |
InternalFlash | Off |
InternalSerialNumber | 4073812007319001 |
ISO | 160 |
Lens | 30.0 mm f/1.4 |
LensFirmwareVersion | 1.105 |
LensID | Sigma 30mm F1.4 EX DC HSM |
LensInfo | 30mm f/1.4 |
LensManualDistortionAmount | 0 |
LensModel | SIGMA 30mm F1.4 DC HSM |
LensProfileEnable | 0 |
LensProfileSetup | LensDefaults |
LensProperties | 0xc003 |
LensSerialNumber | 000000000 |
LensType | Sigma 30mm F1.4 EX DC HSM |
LightSource | Unknown |
LightValue | 13.0 |
LuminanceAdjustmentAqua | 0 |
LuminanceAdjustmentBlue | 0 |
LuminanceAdjustmentGreen | 0 |
LuminanceAdjustmentMagenta | 0 |
LuminanceAdjustmentOrange | 0 |
LuminanceAdjustmentPurple | 0 |
LuminanceAdjustmentRed | 0 |
LuminanceAdjustmentYellow | 0 |
LuminanceSmoothing | 0 |
MacroLED | Off |
MacroMode | Off |
Make | OLYMPUS IMAGING CORP. |
ManometerPressure | 0 kPa |
ManometerReading | 0 m, 0 ft |
ManualFlash | Off |
ManualFlashStrength | n/a |
Marked | True |
MaxAperture | 1.4 |
MaxApertureAtMaxFocal | 1.4 |
MaxApertureAtMinFocal | 1.4 |
MaxApertureValue | 1.4 |
MaxFaces | 0 0 0 |
MaxFocalLength | 30 |
Megapixels | 3.0 |
MeteringMode (2) | Multi-segment |
MeteringMode | ESP |
MinFocalLength | 30 |
Model | E-30 |
ModifiedSaturation | Off |
ModifyDate (1) | 2023:07:22 00:43:38+02:00 |
ModifyDate | 2023:07:22 00:43:38 |
MultipleExposureMode | Off; 1 |
NoiseFilter | Standard |
NoiseReduction | (none) |
NoiseReduction2 | (none) |
Orientation | Horizontal (normal) |
PanoramaMode | Off |
ParametricDarks | 0 |
ParametricHighlights | 0 |
ParametricHighlightSplit | 75 |
ParametricLights | 0 |
ParametricMidtoneSplit | 50 |
ParametricShadows | 0 |
ParametricShadowSplit | 25 |
PerspectiveAspect | 0 |
PerspectiveHorizontal | 0 |
PerspectiveRotate | 0.0 |
PerspectiveScale | 100 |
PerspectiveUpright | 0 |
PerspectiveVertical | 0 |
PerspectiveX | 0.00 |
PerspectiveY | 0.00 |
PictureMode | Natural; 2 |
PictureModeBWFilter | n/a |
PictureModeContrast | -2 (min -2, max 2) |
PictureModeSaturation | 0 (min -2, max 2) |
PictureModeSharpness | 1 (min -2, max 2) |
PictureModeTone | n/a |
PostCropVignetteAmount | 0 |
PrintIMVersion | 0300 |
ProcessVersion | 6.7 |
ProfileDescription | Adobe RGB (1998) |
Rating | 0 |
RatingPercent | 0 |
RawDevColorSpace | sRGB |
RawDevContrastValue | 0 0 0 |
RawDevEditStatus | Original |
RawDevEngine | High Speed |
RawDevExposureBiasValue | 0 |
RawDevGrayPoint | 0 0 0 |
RawDevMemoryColorEmphasis | 0 |
RawDevNoiseReduction | (none) |
RawDevSaturationEmphasis | 0 0 0 |
RawDevSettings | (none) |
RawDevSharpnessValue | 0 0 0 |
RawDevVersion | 0100 |
RawDevWBFineAdjustment | 0 |
RawDevWhiteBalanceValue | 0 |
RawFileName | TH199221.ORF |
RedBalance | 1.726563 |
RedHue | 0 |
RedSaturation | 0 |
Rights | Foto: Torstein Hall |
Saturation (2) | 0 |
Saturation | Normal |
SaturationAdjustmentAqua | 0 |
SaturationAdjustmentBlue | 0 |
SaturationAdjustmentGreen | 0 |
SaturationAdjustmentMagenta | 0 |
SaturationAdjustmentOrange | 0 |
SaturationAdjustmentPurple | 0 |
SaturationAdjustmentRed | 0 |
SaturationAdjustmentYellow | 0 |
SavedSettingsName | Import |
SavedSettingsParametersAutoBrightness | False |
SavedSettingsParametersAutoContrast | False |
SavedSettingsParametersAutoExposure | False |
SavedSettingsParametersAutoGrayscaleMix | True |
SavedSettingsParametersAutoLateralCA | 0 |
SavedSettingsParametersAutoShadows | False |
SavedSettingsParametersAutoTone | True |
SavedSettingsParametersAutoWhiteVersion | 134348800 |
SavedSettingsParametersBlueHue | 0 |
SavedSettingsParametersBlueSaturation | 0 |
SavedSettingsParametersChromaticAberrationB | 0 |
SavedSettingsParametersChromaticAberrationR | 0 |
SavedSettingsParametersClarity | 0 |
SavedSettingsParametersClarity2012 | 0 |
SavedSettingsParametersColorNoiseReduction | 25 |
SavedSettingsParametersConvertToGrayscale | False |
SavedSettingsParametersDefringe | 0 |
SavedSettingsParametersDefringeGreenAmount | 0 |
SavedSettingsParametersDefringeGreenHueHi | 60 |
SavedSettingsParametersDefringeGreenHueLo | 40 |
SavedSettingsParametersDefringePurpleAmount | 0 |
SavedSettingsParametersDefringePurpleHueHi | 70 |
SavedSettingsParametersDefringePurpleHueLo | 30 |
SavedSettingsParametersDehaze | 0 |
SavedSettingsParametersEnableCalibration | True |
SavedSettingsParametersEnableDetail | True |
SavedSettingsParametersEnableEffects | True |
SavedSettingsParametersEnableGrayscaleMix | True |
SavedSettingsParametersEnableLensCorrections | True |
SavedSettingsParametersEnableRedEye | True |
SavedSettingsParametersEnableRetouch | True |
SavedSettingsParametersEnableSplitToning | True |
SavedSettingsParametersEnableToneCurve | True |
SavedSettingsParametersEnableTransform | True |
SavedSettingsParametersGrainAmount | 0 |
SavedSettingsParametersGrainFrequency | 50 |
SavedSettingsParametersGrainSize | 50 |
SavedSettingsParametersGreenHue | 0 |
SavedSettingsParametersGreenSaturation | 0 |
SavedSettingsParametersHueAdjustmentAqua | 0 |
SavedSettingsParametersHueAdjustmentBlue | 0 |
SavedSettingsParametersHueAdjustmentGreen | 0 |
SavedSettingsParametersHueAdjustmentMagenta | 0 |
SavedSettingsParametersHueAdjustmentOrange | 0 |
SavedSettingsParametersHueAdjustmentPurple | 0 |
SavedSettingsParametersHueAdjustmentRed | 0 |
SavedSettingsParametersHueAdjustmentYellow | 0 |
SavedSettingsParametersLensProfileEnable | 0 |
SavedSettingsParametersLuminanceAdjustmentAqua | 0 |
SavedSettingsParametersLuminanceAdjustmentBlue | 0 |
SavedSettingsParametersLuminanceAdjustmentGreen | 0 |
SavedSettingsParametersLuminanceAdjustmentRed | 0 |
SavedSettingsParametersLuminanceSmoothing | 0 |
SavedSettingsParametersParametricDarks | 0 |
SavedSettingsParametersParametricHighlights | 0 |
SavedSettingsParametersParametricLights | 0 |
SavedSettingsParametersParametricMidtoneSplit | 50 |
SavedSettingsParametersParametricShadows | 0 |
SavedSettingsParametersParametricShadowSplit | 25 |
SavedSettingsParametersPerspectiveAspect | 0 |
SavedSettingsParametersPerspectiveHorizontal | 0 |
SavedSettingsParametersPerspectiveRotate | 0.0 |
SavedSettingsParametersPerspectiveScale | 100 |
SavedSettingsParametersPerspectiveUpright | 0 |
SavedSettingsParametersPerspectiveVertical | 0 |
SavedSettingsParametersPerspectiveX | 0.00 |
SavedSettingsParametersPerspectiveY | 0.00 |
SavedSettingsParametersPostCropVignetteAmount | 0 |
SavedSettingsParametersPostCropVignetteFeather | 50 |
SavedSettingsParametersPostCropVignetteStyle | 1 |
SavedSettingsParametersProcessVersion | 5.0 |
SavedSettingsParametersRedHue | 0 |
SavedSettingsParametersRedSaturation | 0 |
SavedSettingsParametersSaturation | 0 |
SavedSettingsParametersSaturationAdjustmentAqua | 0 |
SavedSettingsParametersSaturationAdjustmentBlue | 0 |
SavedSettingsParametersSaturationAdjustmentRed | 0 |
SavedSettingsParametersShadowTint | 0 |
SavedSettingsParametersSharpenDetail | 25 |
SavedSettingsParametersSharpenEdgeMasking | 0 |
SavedSettingsParametersSharpenRadius | +1.0 |
SavedSettingsParametersSharpness | 25 |
SavedSettingsParametersSplitToningBalance | 0 |
SavedSettingsParametersSplitToningHighlightHue | 0 |
SavedSettingsParametersSplitToningShadowHue | 0 |
SavedSettingsParametersToneCurveName2012 | Linear |
SavedSettingsParametersToneCurveRed | 0, 0, 255, 255 |
SavedSettingsParametersToneMapStrength | 0 |
SavedSettingsParametersUprightCenterMode | 0 |
SavedSettingsParametersUprightCenterNormX | 0.5 |
SavedSettingsParametersUprightCenterNormY | 0.5 |
SavedSettingsParametersUprightFocalLength35mm | 35 |
SavedSettingsParametersUprightFocalMode | 0 |
SavedSettingsParametersUprightFourSegmentsCount | 0 |
SavedSettingsParametersUprightPreview | False |
SavedSettingsParametersUprightTransformCount | 6 |
SavedSettingsParametersUprightVersion | 151388160 |
SavedSettingsParametersVersion | 9.12 |
SavedSettingsParametersVibrance | 0 |
SavedSettingsParametersVignetteAmount | 0 |
SavedSettingsParametersVignetteMidpoint | 50 |
SavedSettingsParametersWhiteBalance | As Shot |
SavedSettingsType | Snapshot |
ScaleFactor35efl | 2.0 |
SceneCaptureType | Standard |
SceneDetect | 0 |
SceneMode | Standard |
SensorCalibration | 4014 644 |
SensorTemperature | 33.1 C |
SerialNumber | G68503300 |
ShadingCompensation | On |
ShadingCompensation2 | On |
Shadows2012 | 0 |
ShadowTint | 0 |
SharpenDetail | 25 |
SharpenEdgeMasking | 0 |
SharpenRadius | +1.0 |
Sharpness (2) | 25 |
Sharpness | Hard |
SharpnessSetting | 1 (min -5, max 5) |
ShutterSpeed | 1/50 |
ShutterSpeedValue | 1/50 |
SidecarForExtension | ORF |
Software | DxO PhotoLab 7.0 |
SpecialMode | Fast, Sequence: 1, Panorama: (none) |
SplitToningBalance | 0 |
SplitToningHighlightHue | 0 |
SplitToningHighlightSaturation | 0 |
SplitToningShadowHue | 0 |
SplitToningShadowSaturation | 0 |
Subject | Oslo, fontene |
SubjectDistance | 4.64 m |
Tint | -18 |
ToneCurve | 0, 0, 32, 22, 64, 56, 128, 128, 192, 196, 255, 255 |
ToneCurveBlue | 0, 0, 255, 255 |
ToneCurveGreen | 0, 0, 255, 255 |
ToneCurveName | Medium Contrast |
ToneCurveName2012 | Linear |
ToneCurvePV2012 | 0, 0, 255, 255 |
ToneCurvePV2012Blue | 0, 0, 255, 255 |
ToneCurvePV2012Green | 0, 0, 255, 255 |
ToneCurvePV2012Red | 0, 0, 255, 255 |
ToneCurveRed | 0, 0, 255, 255 |
ToneMapStrength | 0 |
UserComment | |
ValidBits | 12 0 |
Version | 9.12 |
Vibrance | 0 |
VignetteAmount | 0 |
WB_RBLevels | 442 338 256 256 |
WB_RBLevels3000K | 256 625 256 256 |
WB_RBLevels3300K | 317 480 256 256 |
WB_RBLevels3600K | 342 436 256 256 |
WB_RBLevels3900K | 365 403 256 256 |
WB_RBLevels4000K | 413 470 256 256 |
WB_RBLevels4300K | 379 393 256 256 |
WB_RBLevels4500K | 414 417 256 256 |
WB_RBLevels4800K | 412 356 256 256 |
WB_RBLevels5300K | 440 329 256 256 |
WB_RBLevels6000K | 487 294 256 256 |
WB_RBLevels6600K | 508 327 256 256 |
WB_RBLevels7500K | 532 253 256 256 |
WB_RBLevelsCWB1 | 246 712 256 256 |
WB_RBLevelsCWB2 | 384 384 256 256 |
WB_RBLevelsCWB3 | 384 384 256 256 |
WB_RBLevelsCWB4 | 384 384 256 256 |
WhiteBalance (2) | As Shot |
WhiteBalance | Auto |
WhiteBalance2 | Auto |
WhiteBalanceBracket | 0 0 |
WhiteBalanceTemperature | Auto |
Whites2012 | -19 |
ZoomStepCount | 0 |