Felt | Verdi |
AlreadyApplied | True |
Aperture | 8.0 |
ApertureValue | 8.0 |
ApproximateFocusDistance | 4294967295 |
AutoLateralCA | 0 |
BitsPerSample | 8 |
Blacks2012 | -41 |
BlueHue | 0 |
BlueSaturation | 0 |
CameraProfile | Adobe Standard |
CircleOfConfusion | 0.030 mm |
Clarity2012 | +27 |
ColorComponents | 3 |
ColorNoiseReduction | 25 |
ColorNoiseReductionDetail | 50 |
ColorNoiseReductionSmoothness | 50 |
ColorTemperature | 6500 |
Contrast | Normal |
Contrast2012 | 0 |
ConvertToGrayscale | False |
CreateDate (1) | 2020:10:04 13:20:02.681+02:00 |
CreateDate | 2020:10:04 13:20:02 |
CreatorTool | Adobe Photoshop Lightroom Classic 9.4 (Macintosh) |
CustomRendered | Normal |
DateCreated (1) | 2020:10:04 13:20:02.681 |
DateCreated | 2020:10:04 |
DateTimeOriginal | 2020:10:04 13:20:02 |
DefringeGreenAmount | 0 |
DefringeGreenHueHi | 60 |
DefringeGreenHueLo | 40 |
DefringePurpleAmount | 0 |
DefringePurpleHueHi | 70 |
DefringePurpleHueLo | 30 |
Dehaze | +5 |
DistortionCorrectionAlreadyApplied | True |
DOF | inf (45.87 m - inf) |
ExifImageHeight | 536 |
ExifImageWidth | 2396 |
Exposure2012 | +0.80 |
ExposureCompensation | 0 |
ExposureMode | Auto |
ExposureProgram | Aperture-priority AE |
ExposureTime | 1/800 |
Flash | No Flash |
FNumber | 8.0 |
FocalLength | 105.0 mm |
FocalLength35efl | 105.0 mm (35 mm equivalent: 105.0 mm) |
FocalLengthIn35mmFormat | 105 mm |
Format | image/jpeg |
FOV | 19.5 deg |
GainControl | None |
GrainAmount | 0 |
GreenHue | 0 |
GreenSaturation | 0 |
HasCrop | False |
HasSettings | True |
Highlights2012 | -100 |
HueAdjustmentAqua | 0 |
HueAdjustmentBlue | 0 |
HueAdjustmentGreen | 0 |
HueAdjustmentMagenta | 0 |
HueAdjustmentOrange | 0 |
HueAdjustmentPurple | 0 |
HueAdjustmentRed | 0 |
HueAdjustmentYellow | 0 |
HyperfocalDistance | 45.87 m |
ImageHeight | 536 |
ImageNumber | 16706 |
ImageSize | 2396x536 |
ImageWidth | 2396 |
IsMergedPanorama | True |
ISO | 160 |
LateralChromaticAberrationCorrectionAlreadyApplied | True |
Lens | 105.0 mm f/1.4 |
LensID (1) | 165 |
LensID | AF-S Nikkor 105mm f/1.4E ED |
LensInfo | 105mm f/1.4 |
LensManualDistortionAmount | 0 |
LensModel | 105.0 mm f/1.4 |
LensProfileEnable | 0 |
LensProfileSetup | LensDefaults |
LightSource | Unknown |
LightValue | 15.0 |
LookAmount | 1.000000 |
LookGroup | Profiles |
LookName | Adobe Landscape |
LookParametersCameraProfile | Adobe Standard |
LookParametersClarity2012 | +10 |
LookParametersConvertToGrayscale | False |
LookParametersHighlights2012 | -12 |
LookParametersLookTable | 0B3BFB5CFB7DBF7FF175E98F24D316B0 |
LookParametersProcessVersion | 11.0 |
LookParametersShadows2012 | +12 |
LookParametersToneCurvePV2012 | 0, 0, 64, 60, 128, 128, 192, 196, 255, 255 |
LookParametersVersion | 12.4 |
LookSupportsAmount | false |
LookSupportsMonochrome | false |
LookSupportsOutputReferred | false |
LuminanceAdjustmentAqua | 0 |
LuminanceAdjustmentBlue | 0 |
LuminanceAdjustmentGreen | 0 |
LuminanceAdjustmentMagenta | 0 |
LuminanceAdjustmentOrange | 0 |
LuminanceAdjustmentPurple | 0 |
LuminanceAdjustmentRed | 0 |
LuminanceAdjustmentYellow | 0 |
LuminanceNoiseReductionContrast | 0 |
LuminanceNoiseReductionDetail | 50 |
LuminanceSmoothing | 21 |
Make | NIKON CORPORATION |
MaxApertureValue | 1.4 |
Megapixels | 1.3 |
MeteringMode | Center-weighted average |
Model | NIKON D850 |
ModifyDate (1) | 2020:10:05 14:21:39+02:00 |
ModifyDate | 2020:10:05 14:21:39 |
Orientation | Horizontal (normal) |
OverrideLookVignette | False |
ParametricDarks | 0 |
ParametricHighlights | 0 |
ParametricHighlightSplit | 75 |
ParametricLights | 0 |
ParametricMidtoneSplit | 50 |
ParametricShadows | 0 |
ParametricShadowSplit | 25 |
PerspectiveAspect | 0 |
PerspectiveHorizontal | 0 |
PerspectiveRotate | 0.0 |
PerspectiveScale | 100 |
PerspectiveUpright | 0 |
PerspectiveVertical | 0 |
PerspectiveX | 0.00 |
PerspectiveY | 0.00 |
PostCropVignetteAmount | 0 |
PreservedFileName | GOB_5861.NEF |
ProcessVersion | 11.0 |
ProfileDescription | Display P3 |
RecommendedExposureIndex | 160 |
RedHue | 0 |
RedSaturation | 0 |
Saturation (1) | 0 |
Saturation | Normal |
SaturationAdjustmentAqua | 0 |
SaturationAdjustmentBlue | 0 |
SaturationAdjustmentGreen | 0 |
SaturationAdjustmentMagenta | 0 |
SaturationAdjustmentOrange | 0 |
SaturationAdjustmentPurple | 0 |
SaturationAdjustmentRed | 0 |
SaturationAdjustmentYellow | 0 |
ScaleFactor35efl | 1.0 |
SceneCaptureType | Portrait |
SceneType | Directly photographed |
SensingMethod | One-chip color area |
SensitivityType | Recommended Exposure Index |
SerialNumber | 6002724 |
Shadows2012 | +42 |
ShadowTint | 0 |
SharpenDetail | 25 |
SharpenEdgeMasking | 0 |
SharpenRadius | +1.0 |
Sharpness (1) | 70 |
Sharpness | Normal |
ShutterSpeed | 1/800 |
ShutterSpeedValue | 1/800 |
Software | Adobe Photoshop Lightroom Classic 9.4 (Macintosh) |
SplitToningBalance | 0 |
SplitToningHighlightHue | 0 |
SplitToningHighlightSaturation | 0 |
SplitToningShadowHue | 0 |
SplitToningShadowSaturation | 0 |
SubjectDistanceRange | Unknown |
Texture | +28 |
Tint | +10 |
ToneCurve | 0, 0, 255, 255 |
ToneCurveBlue | 0, 0, 255, 255 |
ToneCurveGreen | 0, 0, 255, 255 |
ToneCurveName | Linear |
ToneCurveName2012 | Linear |
ToneCurvePV2012 | 0, 0, 255, 255 |
ToneCurvePV2012Blue | 0, 0, 255, 255 |
ToneCurvePV2012Green | 0, 0, 255, 255 |
ToneCurvePV2012Red | 0, 0, 255, 255 |
ToneCurveRed | 0, 0, 255, 255 |
ToneMapStrength | 0 |
Transformation | Cylindrical |
Version | 12.4 |
Vibrance | 0 |
VignetteAmount | 0 |
VignetteCorrectionAlreadyApplied | True |
VirtualFocalLength | 0.972235 |
VirtualImageXCenter | 0.529459 |
VirtualImageYCenter | 0.118579 |
WhiteBalance (1) | Cloudy |
WhiteBalance | Auto |
Whites2012 | -17 |