Felt | Verdi |
AlreadyApplied | True |
Aperture | 13.0 |
ApertureValue | 13.0 |
ApproximateFocusDistance | 4294967295 |
Artist | CATO HANSEN |
AutoLateralCA | 1 |
BitsPerSample | 8 |
Blacks2012 | -40 |
BlueHue | 0 |
BlueSaturation | 0 |
By-line | CATO HANSEN |
CameraProfile | Adobe Standard |
CFAPattern | [Red,Green][Green,Blue] |
CircGradBasedCorrActive | true |
CircGradBasedCorrAmount | 1.000000 |
CircGradBasedCorrBrightness | 0.000000 |
CircGradBasedCorrClarity2012 (1) | -0.614862 |
CircGradBasedCorrClarity2012 (2) | 0.097220 |
CircGradBasedCorrClarity2012 | 0.291670 |
CircGradBasedCorrContrast2012 | 0.000000 |
CircGradBasedCorrCorrectionRangeMaskLumMax | 1.000000 |
CircGradBasedCorrCorrectionRangeMaskLumMin | 0.000000 |
CircGradBasedCorrCorrectionRangeMaskType | 0 |
CircGradBasedCorrCorrectionRangeMaskVersion | +2 |
CircGradBasedCorrDefringe | 0.000000 |
CircGradBasedCorrExposure2012 (1) | 0.169017 |
CircGradBasedCorrExposure2012 | 0.097250 |
CircGradBasedCorrHighlights2012 (1) | 0.208330 |
CircGradBasedCorrHighlights2012 | 0.000000 |
CircGradBasedCorrHue (1) | 0.000000 |
CircGradBasedCorrHue | 240.000000 |
CircGradBasedCorrLocalBlacks2012 | 0.000000 |
CircGradBasedCorrLocalDehaze (1) | -0.055560 |
CircGradBasedCorrLocalDehaze (2) | 0.000000 |
CircGradBasedCorrLocalDehaze | -0.013890 |
CircGradBasedCorrLocalTexture | 0.000000 |
CircGradBasedCorrLocalWhites2012 (1) | 0.000000 |
CircGradBasedCorrLocalWhites2012 | -0.319440 |
CircGradBasedCorrLuminanceNoise | 0.000000 |
CircGradBasedCorrMaskAngle | 0.000000 |
CircGradBasedCorrMaskBottom (1) | 0.486218 |
CircGradBasedCorrMaskBottom (2) | 0.534141 |
CircGradBasedCorrMaskBottom | 0.799559 |
CircGradBasedCorrMaskFeather (1) | +100 |
CircGradBasedCorrMaskFeather | +96 |
CircGradBasedCorrMaskFlipped | true |
CircGradBasedCorrMaskLeft (1) | -0.406038 |
CircGradBasedCorrMaskLeft (2) | 0.256603 |
CircGradBasedCorrMaskLeft | 0.413790 |
CircGradBasedCorrMaskMidpoint | +50 |
CircGradBasedCorrMaskRight (1) | 1.317940 |
CircGradBasedCorrMaskRight (2) | 0.772381 |
CircGradBasedCorrMaskRight | 0.579335 |
CircGradBasedCorrMaskRoundness | 0 |
CircGradBasedCorrMaskTop (1) | 0.144617 |
CircGradBasedCorrMaskTop (2) | 0.337295 |
CircGradBasedCorrMaskTop | 0.486518 |
CircGradBasedCorrMaskValue | 1.000000 |
CircGradBasedCorrMaskVersion | +2 |
CircGradBasedCorrMaskWhat | Mask/CircularGradient |
CircGradBasedCorrMoire | 0.000000 |
CircGradBasedCorrSaturation | 0.000000 |
CircGradBasedCorrShadows2012 | 0.000000 |
CircGradBasedCorrSharpness | 0.000000 |
CircGradBasedCorrTemperature (1) | 0.566778 |
CircGradBasedCorrTemperature | 0.125000 |
CircGradBasedCorrTint (1) | 0.486110 |
CircGradBasedCorrTint | 0.097220 |
CircGradBasedCorrWhat | Correction |
CircleOfConfusion | 0.030 mm |
Clarity2012 | -15 |
ColorComponents | 3 |
ColorNoiseReduction | 25 |
ColorNoiseReductionDetail | 50 |
ColorNoiseReductionSmoothness | 50 |
ColorSpace | sRGB |
ColorTemperature | 7142 |
Contrast | Normal |
Contrast2012 | 0 |
ConvertToGrayscale | False |
Copyright | CATO HANSEN |
CopyrightNotice | CATO HANSEN |
CreateDate (1) | 2019:09:14 07:03:32.54 |
CreateDate | 2019:09:14 07:03:32 |
Creator | CATO HANSEN |
CreatorTool | Windows Photo Editor 10.0.10011.16384 |
CustomRendered | Normal |
DateCreated (1) | 2019:09:14 |
DateCreated | 2019:09:14 07:03:32.54 |
DateTimeOriginal | 2019:09:14 07:03:32 |
DefringeGreenAmount | 0 |
DefringeGreenHueHi | 60 |
DefringeGreenHueLo | 40 |
DefringePurpleAmount | 0 |
DefringePurpleHueHi | 70 |
DefringePurpleHueLo | 30 |
Dehaze | 0 |
DigitalZoomRatio | 1 |
DistortionCorrectionAlreadyApplied | True |
DOF | inf (0.50 m - inf) |
Exposure2012 | -0.82 |
ExposureCompensation | 0 |
ExposureMode | Auto |
ExposureProgram | Aperture-priority AE |
ExposureTime | 1/5 |
Flash | Off, Did not fire |
FNumber | 13.0 |
FocalLength | 14.0 mm |
FocalLength35efl | 14.0 mm (35 mm equivalent: 14.0 mm) |
FocalLengthIn35mmFormat | 14 mm |
Format | image/jpeg |
FOV | 104.3 deg |
GainControl | None |
GradientBasedCorrActive | true |
GradientBasedCorrAmount | 1.000000 |
GradientBasedCorrBrightness | 0.000000 |
GradientBasedCorrClarity2012 | 0.000000 |
GradientBasedCorrContrast2012 | 0.000000 |
GradientBasedCorrCorrectionRangeMaskDepthMax | 1.000000 |
GradientBasedCorrCorrectionRangeMaskDepthMin | 0.000000 |
GradientBasedCorrCorrectionRangeMaskLumMax | 1.000000 |
GradientBasedCorrCorrectionRangeMaskLumMin | 0.000000 |
GradientBasedCorrCorrectionRangeMaskType | 0 |
GradientBasedCorrCorrectionRangeMaskVersion | +2 |
GradientBasedCorrDefringe | 0.000000 |
GradientBasedCorrExposure2012 | -0.098895 |
GradientBasedCorrHighlights2012 | 0.000000 |
GradientBasedCorrHue | 0.000000 |
GradientBasedCorrLocalBlacks2012 | 0.000000 |
GradientBasedCorrLocalDehaze (1) | 0.000000 |
GradientBasedCorrLocalDehaze | 0.069440 |
GradientBasedCorrLocalWhites2012 | 0.000000 |
GradientBasedCorrLuminanceNoise | 0.000000 |
GradientBasedCorrMaskFullX (1) | 0.553865 |
GradientBasedCorrMaskFullX | 0.527400 |
GradientBasedCorrMaskFullY (1) | 0.145935 |
GradientBasedCorrMaskFullY | 0.898150 |
GradientBasedCorrMaskValue | 1.000000 |
GradientBasedCorrMaskWhat | Mask/Gradient |
GradientBasedCorrMaskZeroX (1) | 0.555678 |
GradientBasedCorrMaskZeroX | 0.527897 |
GradientBasedCorrMaskZeroY (1) | 0.363940 |
GradientBasedCorrMaskZeroY | 0.651552 |
GradientBasedCorrMoire | 0.000000 |
GradientBasedCorrSaturation (1) | 0.194440 |
GradientBasedCorrSaturation | 0.000000 |
GradientBasedCorrShadows2012 | 0.000000 |
GradientBasedCorrSharpness | 0.000000 |
GradientBasedCorrTemperature | 0.000000 |
GradientBasedCorrTint (1) | 0.138890 |
GradientBasedCorrTint | 0.000000 |
GradientBasedCorrWhat | Correction |
GrainAmount | 0 |
GreenHue | 0 |
GreenSaturation | 0 |
HasCrop | False |
HasExtendedXMP | 1217B24EFFA694B51DBDD8146343ADFA |
HasSettings | True |
Highlights2012 | -100 |
HueAdjustmentAqua | 0 |
HueAdjustmentBlue | 0 |
HueAdjustmentGreen | 0 |
HueAdjustmentMagenta | 0 |
HueAdjustmentOrange | -7 |
HueAdjustmentPurple | 0 |
HueAdjustmentRed | -19 |
HueAdjustmentYellow | 0 |
HyperfocalDistance | 0.50 m |
ImageHeight | 4140 |
ImageNumber | 145059 |
ImageSize | 7360x4140 |
ImageWidth | 7360 |
ISO | 64 |
Lens | 14.0-24.0 mm f/2.8 |
LensID (1) | 146 |
LensID | AF-S Zoom-Nikkor 14-24mm f/2.8G ED |
LensInfo | 14-24mm f/2.8 |
LensManualDistortionAmount | 0 |
LensModel | 14.0-24.0 mm f/2.8 |
LensProfileChromaticAberrationScale | 100 |
LensProfileDistortionScale | 100 |
LensProfileEnable | 1 |
LensProfileSetup | LensDefaults |
LensProfileVignettingScale | 100 |
LightSource | Unknown |
LightValue | 10.4 |
LookName | |
LuminanceAdjustmentAqua | 0 |
LuminanceAdjustmentBlue | 0 |
LuminanceAdjustmentGreen | 0 |
LuminanceAdjustmentMagenta | 0 |
LuminanceAdjustmentOrange | 0 |
LuminanceAdjustmentPurple | 0 |
LuminanceAdjustmentRed | 0 |
LuminanceAdjustmentYellow | 0 |
LuminanceNoiseReductionContrast | 0 |
LuminanceNoiseReductionDetail | 50 |
LuminanceSmoothing | 14 |
Make | NIKON CORPORATION |
MaxApertureValue | 2.8 |
Megapixels | 30.5 |
MeteringMode | Multi-segment |
Model | NIKON D810 |
ModifyDate (1) | 2020:03:24 14:28:24+01:00 |
ModifyDate | 2020:06:08 12:58:29 |
Orientation | Horizontal (normal) |
OverrideLookVignette | False |
PaintCorrectionActive | true |
PaintCorrectionAmount | 1.000000 |
PaintCorrectionBrightness | 0.000000 |
PaintCorrectionClarity2012 (3) | 0.000000 |
PaintCorrectionClarity2012 (6) | 0.062500 |
PaintCorrectionClarity2012 (7) | 0.013890 |
PaintCorrectionClarity2012 | 0.180560 |
PaintCorrectionContrast2012 (3) | 0.156250 |
PaintCorrectionContrast2012 (6) | 0.171880 |
PaintCorrectionContrast2012 | 0.000000 |
PaintCorrectionCorrectionRangeMaskDepthMax | 1.000000 |
PaintCorrectionCorrectionRangeMaskDepthMin | 0.000000 |
PaintCorrectionCorrectionRangeMaskLumFeather | 0.500000 |
PaintCorrectionCorrectionRangeMaskLumMax | 1.000000 |
PaintCorrectionCorrectionRangeMaskLumMin | 0.000000 |
PaintCorrectionCorrectionRangeMaskType | 0 |
PaintCorrectionCorrectionRangeMaskVersion | +2 |
PaintCorrectionDefringe | 0.000000 |
PaintCorrectionExposure2012 (3) | 0.062500 |
PaintCorrectionExposure2012 (4) | 0.000000 |
PaintCorrectionExposure2012 (5) | 0.109500 |
PaintCorrectionExposure2012 (6) | -0.031250 |
PaintCorrectionExposure2012 (7) | 0.097250 |
PaintCorrectionExposure2012 | 0.141750 |
PaintCorrectionHighlights2012 (2) | -0.187500 |
PaintCorrectionHighlights2012 (3) | 0.125000 |
PaintCorrectionHighlights2012 (4) | 0.281250 |
PaintCorrectionHighlights2012 (5) | 0.359380 |
PaintCorrectionHighlights2012 (6) | -0.109370 |
PaintCorrectionHighlights2012 (7) | 0.166670 |
PaintCorrectionHighlights2012 | 0.069440 |
PaintCorrectionHue | 240.000000 |
PaintCorrectionLocalBlacks2012 | 0.000000 |
PaintCorrectionLocalDehaze (3) | -0.140620 |
PaintCorrectionLocalDehaze (5) | 0.078130 |
PaintCorrectionLocalDehaze (6) | -0.055560 |
PaintCorrectionLocalDehaze | 0.000000 |
PaintCorrectionLocalTexture | 0.000000 |
PaintCorrectionLocalWhites2012 (3) | 0.265630 |
PaintCorrectionLocalWhites2012 (4) | 0.234380 |
PaintCorrectionLocalWhites2012 | 0.000000 |
PaintCorrectionLuminanceNoise | 0.000000 |
PaintCorrectionMaskCenterWeight (6) | 0.000000 |
PaintCorrectionMaskCenterWeight | 0.010704 |
PaintCorrectionMaskFlow (21) | 0.535000 |
PaintCorrectionMaskFlow | 0.702000 |
PaintCorrectionMaskRadius (1) | 0.050839 |
PaintCorrectionMaskRadius (10) | 0.007065 |
PaintCorrectionMaskRadius (11) | 0.007072 |
PaintCorrectionMaskRadius (13) | 0.006994 |
PaintCorrectionMaskRadius (15) | 0.006955 |
PaintCorrectionMaskRadius (16) | 0.006966 |
PaintCorrectionMaskRadius (17) | 0.006916 |
PaintCorrectionMaskRadius (18) | 0.006843 |
PaintCorrectionMaskRadius (19) | 0.006870 |
PaintCorrectionMaskRadius (2) | 0.048851 |
PaintCorrectionMaskRadius (20) | 0.006919 |
PaintCorrectionMaskRadius (21) | 0.006941 |
PaintCorrectionMaskRadius (22) | 0.006958 |
PaintCorrectionMaskRadius (23) | 0.050854 |
PaintCorrectionMaskRadius (24) | 0.050848 |
PaintCorrectionMaskRadius (25) | 0.101945 |
PaintCorrectionMaskRadius (26) | 0.101507 |
PaintCorrectionMaskRadius (27) | 0.013968 |
PaintCorrectionMaskRadius (28) | 0.016631 |
PaintCorrectionMaskRadius (29) | 0.030969 |
PaintCorrectionMaskRadius (3) | 0.048891 |
PaintCorrectionMaskRadius (30) | 0.030992 |
PaintCorrectionMaskRadius (31) | 0.030983 |
PaintCorrectionMaskRadius (32) | 0.030715 |
PaintCorrectionMaskRadius (33) | 0.030827 |
PaintCorrectionMaskRadius (34) | 0.018911 |
PaintCorrectionMaskRadius (35) | 0.045193 |
PaintCorrectionMaskRadius (36) | 0.045743 |
PaintCorrectionMaskRadius (37) | 0.107384 |
PaintCorrectionMaskRadius (38) | 0.109687 |
PaintCorrectionMaskRadius (39) | 0.100777 |
PaintCorrectionMaskRadius (4) | 0.047875 |
PaintCorrectionMaskRadius (40) | 0.099353 |
PaintCorrectionMaskRadius (5) | 0.048965 |
PaintCorrectionMaskRadius (6) | 0.049124 |
PaintCorrectionMaskRadius (7) | 0.049433 |
PaintCorrectionMaskRadius (8) | 0.050781 |
PaintCorrectionMaskRadius (9) | 0.007070 |
PaintCorrectionMaskRadius | 0.101631 |
PaintCorrectionMaskValue (17) | 0.700000 |
PaintCorrectionMaskValue (36) | 0.803000 |
PaintCorrectionMaskValue | 0.438000 |
PaintCorrectionMaskWhat | Mask/Paint |
PaintCorrectionMoire | 0.000000 |
PaintCorrectionSaturation (11) | 0.140630 |
PaintCorrectionSaturation | 0.000000 |
PaintCorrectionShadows2012 (1) | 0.281250 |
PaintCorrectionShadows2012 (3) | 0.218750 |
PaintCorrectionShadows2012 (6) | -0.109370 |
PaintCorrectionShadows2012 | 0.000000 |
PaintCorrectionSharpness | 0.000000 |
PaintCorrectionTemperature (2) | 0.125000 |
PaintCorrectionTemperature (5) | 0.000000 |
PaintCorrectionTemperature (6) | 0.062500 |
PaintCorrectionTemperature | 0.361110 |
PaintCorrectionTint (3) | 0.000000 |
PaintCorrectionTint | 0.097220 |
PaintCorrectionWhat | Correction |
ParametricDarks | 0 |
ParametricHighlights | 0 |
ParametricHighlightSplit | 75 |
ParametricLights | 0 |
ParametricMidtoneSplit | 50 |
ParametricShadows | 0 |
ParametricShadowSplit | 25 |
PerspectiveAspect | 0 |
PerspectiveHorizontal | 0 |
PerspectiveRotate | 0.0 |
PerspectiveScale | 100 |
PerspectiveUpright | 0 |
PerspectiveVertical | 0 |
PerspectiveX | 0.00 |
PerspectiveY | 0.00 |
PostCropVignetteAmount | -19 |
PostCropVignetteFeather | 67 |
PostCropVignetteHighlightContrast | 0 |
PostCropVignetteMidpoint | 0 |
PostCropVignetteRoundness | 0 |
PostCropVignetteStyle | 1 |
PreservedFileName | _CHA6231.NEF |
ProcessVersion | 11.0 |
Rating | 3 |
RawFileName | _CHA6231.NEF |
RedHue | 0 |
RedSaturation | 0 |
Rights | CATO HANSEN |
Saturation (1) | +10 |
Saturation | Normal |
SaturationAdjustmentAqua | 0 |
SaturationAdjustmentBlue | 0 |
SaturationAdjustmentGreen | 0 |
SaturationAdjustmentMagenta | 0 |
SaturationAdjustmentOrange | +26 |
SaturationAdjustmentPurple | 0 |
SaturationAdjustmentRed | +32 |
SaturationAdjustmentYellow | +26 |
ScaleFactor35efl | 1.0 |
SceneCaptureType | Standard |
SceneType | Directly photographed |
SensingMethod | One-chip color area |
SensitivityType | Recommended Exposure Index |
SerialNumber | 6013221 |
Shadows2012 | +77 |
ShadowTint | 0 |
SharpenDetail | 25 |
SharpenEdgeMasking | 51 |
SharpenRadius | +1.0 |
Sharpness (1) | 90 |
Sharpness | Hard |
ShutterSpeed | 1/5 |
ShutterSpeedValue | 1/5 |
Software | Windows Photo Editor 10.0.10011.16384 |
SplitToningBalance | 0 |
SplitToningHighlightHue | 0 |
SplitToningHighlightSaturation | 0 |
SplitToningShadowHue | 0 |
SplitToningShadowSaturation | 0 |
SubjectDistanceRange | Unknown |
Texture | +16 |
Tint | +28 |
ToneCurve | 0, 0, 255, 255 |
ToneCurveBlue | 0, 0, 255, 255 |
ToneCurveGreen | 0, 0, 255, 255 |
ToneCurveName | Linear |
ToneCurveName2012 | Linear |
ToneCurvePV2012 | 0, 0, 255, 255 |
ToneCurvePV2012Blue | 0, 0, 255, 255 |
ToneCurvePV2012Green | 0, 0, 255, 255 |
ToneCurvePV2012Red | 0, 0, 255, 255 |
ToneCurveRed | 0, 0, 255, 255 |
ToneMapStrength | 0 |
Version | 12.2 |
Vibrance | +17 |
VignetteAmount | 0 |
VignetteCorrectionAlreadyApplied | True |
WhiteBalance (1) | Custom |
WhiteBalance | Auto |
Whites2012 | -13 |