Felt | Verdi |
ApertureValue | 8.0 |
ApproximateFocusDistance | 4294967295 |
Artist | YngveSPhoto Mob 90642102 |
BitsPerSample | 8 |
Blacks2012 | -30 |
By-line | YngveSPhoto Mob 90642102 |
CircleOfConfusion | 0.005 mm |
Clarity2012 | +19 |
ColorComponents | 3 |
ColorNoiseReductionDetail | 50 |
ColorSpace | Uncalibrated |
ColorTemperature | 5900 |
Contrast2012 | +59 |
Copyright | Mail:yngves@me.com |
CopyrightNotice | Mail:yngves@me.com |
CreateDate | 2020:06:06 11:52:48 |
Creator | YngveSPhoto Mob 90642102 |
CreatorTool | Elements Organizer 15.0 |
CustomRendered | Normal |
DateCreated (1) | 2020:06:06 |
DateTimeOriginal | 2020:06:06 11:52:48 |
DefringeGreenAmount | 0 |
DefringePurpleAmount | 0 |
DefringePurpleHueLo | 30 |
Dehaze | 0 |
ExifImageWidth | 1024 |
ExposureCompensation | -1/3 |
ExposureMode | Auto |
ExposureTime | 1/320 |
Flash (1) | Off, Did not fire |
FlashCompensation | 0 |
FlashFired | False |
FlashMode | Off |
FlashReturn | No return detection |
FNumber | 8.0 |
FocalLength (1) | 200.0 mm |
FocalLength35efl | 200.0 mm (35 mm equivalent: 1197.9 mm) |
Format | image/jpeg |
GrainAmount | 0 |
GreenHue | 0 |
GreenSaturation | 0 |
HasSettings | True |
HueAdjustmentBlue | 0 |
HueAdjustmentGreen | 0 |
HueAdjustmentMagenta | 0 |
HueAdjustmentOrange | 0 |
HueAdjustmentPurple | 0 |
HueAdjustmentRed | 0 |
ImageNumber | 0 |
ImageSize | 1024x536 |
ImageWidth | 1024 |
ISO | 125 |
LensID (1) | 242 |
LensID | Canon EF 70-200mm f/4L IS USM |
LensModel | EF70-200mm f/4L IS USM |
LensProfileSetup | LensDefaults |
LensSerialNumber (1) | 000081ce61 |
LightValue | 14.0 |
LuminanceAdjustmentAqua | 0 |
LuminanceAdjustmentBlue | 0 |
LuminanceAdjustmentGreen | 0 |
LuminanceAdjustmentMagenta | 0 |
LuminanceAdjustmentOrange | 0 |
LuminanceSmoothing | 0 |
Make | Canon |
MaxApertureValue | 4.0 |
MeteringMode | Multi-segment |
Model | Canon EOS 5D Mark III |
ModifyDate (1) | 2020:06:07 14:23:34+02:00 |
ModifyDate | 2020:06:07 14:23:34 |
ParametricHighlights | 0 |
ParametricHighlightSplit | 75 |
ParametricLights | 0 |
ParametricShadows | 0 |
ParametricShadowSplit | 25 |
PerspectiveAspect | 0 |
PerspectiveRotate | 0.0 |
PerspectiveX | 0.00 |
PerspectiveY | 0.00 |
ProcessVersion | 6.7 |
ProfileDescription | sRGB IEC61966-2.1 |
Rating | 0 |
RawFileName | _MG_4424.CR2 |
RecommendedExposureIndex | 125 |
RedHue | 0 |
Rights | Mail:yngves@me.com |
SaturationAdjustmentAqua | 0 |
SaturationAdjustmentBlue | 0 |
SaturationAdjustmentGreen | 0 |
SaturationAdjustmentMagenta | 0 |
SaturationAdjustmentRed | 0 |
ScaleFactor35efl | 6.0 |
SceneCaptureType (1) | Standard |
SensitivityType | Recommended Exposure Index |
SerialNumber | 053024009708 |
ShadowTint | 0 |
SharpenDetail | 25 |
SharpenEdgeMasking | 0 |
SharpenRadius | +1.0 |
ShutterSpeedValue | 1/320 |
SplitToningBalance | 0 |
SplitToningHighlightHue | 0 |
SplitToningHighlightSaturation | 0 |
Tint | +15 |
ToneCurve | 0, 0, 32, 22, 64, 56, 128, 128, 192, 196, 255, 255 |
ToneCurvePV2012Green | 0, 0, 255, 255 |
ToneCurvePV2012Red | 0, 0, 255, 255 |
ToneCurveRed | 0, 0, 255, 255 |
ToneMapStrength | 0 |
Version | 9.10 |
VignetteAmount | 0 |
WhiteBalance | Auto |