Felt | Verdi |
AlreadyApplied | True |
Aperture | 1.8 |
ApertureValue | 1.8 |
AutoLateralCA | 0 |
BitsPerSample | 8 |
Blacks2012 | 0 |
BlueHue | 0 |
BlueSaturation | 0 |
BrightnessValue | 8.013481598 |
CameraProfile | Embedded |
CircGradBasedCorrActive | true |
CircGradBasedCorrAmount | 1.000000 |
CircGradBasedCorrBrightness | 0.000000 |
CircGradBasedCorrClarity2012 | 0.000000 |
CircGradBasedCorrContrast2012 | 0.000000 |
CircGradBasedCorrCorrectionRangeMaskColorAmount | 0.500000 |
CircGradBasedCorrCorrectionRangeMaskDepthFeather | 0.500000 |
CircGradBasedCorrCorrectionRangeMaskDepthMax | 1.000000 |
CircGradBasedCorrCorrectionRangeMaskDepthMin | 0.000000 |
CircGradBasedCorrCorrectionRangeMaskLumFeather | 0.500000 |
CircGradBasedCorrCorrectionRangeMaskLumMax | 1.000000 |
CircGradBasedCorrCorrectionRangeMaskLumMin | 0.000000 |
CircGradBasedCorrCorrectionRangeMaskType | 0 |
CircGradBasedCorrCorrectionRangeMaskVersion | +2 |
CircGradBasedCorrDefringe | 0.000000 |
CircGradBasedCorrExposure2012 | -0.174000 |
CircGradBasedCorrHighlights2012 | 0.000000 |
CircGradBasedCorrHue | 0.000000 |
CircGradBasedCorrLocalBlacks2012 | 0.000000 |
CircGradBasedCorrLocalDehaze | 0.000000 |
CircGradBasedCorrLocalTexture | 0.000000 |
CircGradBasedCorrLocalWhites2012 | 0.000000 |
CircGradBasedCorrLuminanceNoise | 0.000000 |
CircGradBasedCorrMaskAngle | -26.502900 |
CircGradBasedCorrMaskBottom | 0.674778 |
CircGradBasedCorrMaskFeather | +34 |
CircGradBasedCorrMaskFlipped | false |
CircGradBasedCorrMaskLeft | 0.212752 |
CircGradBasedCorrMaskMidpoint | +50 |
CircGradBasedCorrMaskRight | 0.678728 |
CircGradBasedCorrMaskRoundness | 0 |
CircGradBasedCorrMaskTop | 0.236119 |
CircGradBasedCorrMaskValue | 1.000000 |
CircGradBasedCorrMaskVersion | +2 |
CircGradBasedCorrMaskWhat | Mask/CircularGradient |
CircGradBasedCorrMoire | 0.000000 |
CircGradBasedCorrSaturation (1) | 0.173910 |
CircGradBasedCorrSaturation | 0.000000 |
CircGradBasedCorrShadows2012 | 0.000000 |
CircGradBasedCorrSharpness | 0.000000 |
CircGradBasedCorrTemperature | 0.000000 |
CircGradBasedCorrTint | -0.108700 |
CircGradBasedCorrWhat | Correction |
CircleOfConfusion | 0.004 mm |
Clarity2012 | 0 |
ColorComponents | 3 |
ColorNoiseReduction | 0 |
ColorSpace | Uncalibrated |
ColorTransform | YCbCr |
Contrast2012 | 0 |
ConvertToGrayscale | False |
CreateDate (1) | 2019:07:28 15:47:45.494 |
CreateDate | 2019:07:28 15:47:45 |
CropAngle | -3.68216 |
CropBottom | 0.938695 |
CropConstrainToWarp | 0 |
CropLeft | 0.142031 |
CropRight | 0.627843 |
CropTop | 0.082797 |
DateCreated (1) | 2019:07:28 |
DateCreated | 2019:07:28 15:47:45.494 |
DateTimeOriginal | 2019:07:28 15:47:45 |
DefringeGreenAmount | 0 |
DefringeGreenHueHi | 60 |
DefringeGreenHueLo | 40 |
DefringePurpleAmount | 0 |
DefringePurpleHueHi | 70 |
DefringePurpleHueLo | 30 |
Dehaze | 0 |
Exposure2012 | +0.50 |
ExposureCompensation | 0 |
ExposureMode | Auto |
ExposureProgram | Program AE |
ExposureTime | 1/500 |
Flash | Auto, Did not fire |
FNumber | 1.8 |
FocalLength | 4.0 mm |
FocalLength35efl | 4.0 mm (35 mm equivalent: 28.0 mm) |
FocalLengthIn35mmFormat | 28 mm |
Format | image/jpeg |
FOV | 65.5 deg |
GradientBasedCorrActive | true |
GradientBasedCorrAmount | 1.000000 |
GradientBasedCorrBrightness | 0.000000 |
GradientBasedCorrClarity2012 | 0.000000 |
GradientBasedCorrContrast2012 | 0.000000 |
GradientBasedCorrCorrectionRangeMaskColorAmount | 0.500000 |
GradientBasedCorrCorrectionRangeMaskDepthFeather | 0.500000 |
GradientBasedCorrCorrectionRangeMaskDepthMax | 1.000000 |
GradientBasedCorrCorrectionRangeMaskDepthMin | 0.000000 |
GradientBasedCorrCorrectionRangeMaskLumFeather | 0.500000 |
GradientBasedCorrCorrectionRangeMaskLumMax | 1.000000 |
GradientBasedCorrCorrectionRangeMaskLumMin | 0.000000 |
GradientBasedCorrCorrectionRangeMaskType | 0 |
GradientBasedCorrCorrectionRangeMaskVersion | +2 |
GradientBasedCorrDefringe | 0.000000 |
GradientBasedCorrExposure2012 (1) | -1.000000 |
GradientBasedCorrExposure2012 (2) | -0.478250 |
GradientBasedCorrExposure2012 (3) | -0.521750 |
GradientBasedCorrExposure2012 (4) | -0.369500 |
GradientBasedCorrExposure2012 | -0.239250 |
GradientBasedCorrHighlights2012 | 0.000000 |
GradientBasedCorrHue | 0.000000 |
GradientBasedCorrLocalBlacks2012 (4) | 0.000000 |
GradientBasedCorrLocalBlacks2012 | -0.043480 |
GradientBasedCorrLocalDehaze | 0.000000 |
GradientBasedCorrLocalTexture | 0.000000 |
GradientBasedCorrLocalWhites2012 | 0.000000 |
GradientBasedCorrLuminanceNoise | 0.000000 |
GradientBasedCorrMaskFullX (1) | 0.182040 |
GradientBasedCorrMaskFullX (2) | 0.967351 |
GradientBasedCorrMaskFullX (3) | 0.551534 |
GradientBasedCorrMaskFullX (4) | 0.735625 |
GradientBasedCorrMaskFullX | 0.540708 |
GradientBasedCorrMaskFullY (1) | 0.938197 |
GradientBasedCorrMaskFullY (2) | 0.825380 |
GradientBasedCorrMaskFullY (3) | 0.116411 |
GradientBasedCorrMaskFullY (4) | 0.784603 |
GradientBasedCorrMaskFullY | 0.201652 |
GradientBasedCorrMaskValue | 1.000000 |
GradientBasedCorrMaskWhat | Mask/Gradient |
GradientBasedCorrMaskZeroX (1) | 0.452293 |
GradientBasedCorrMaskZeroX (2) | 0.746487 |
GradientBasedCorrMaskZeroX (3) | 0.531164 |
GradientBasedCorrMaskZeroX (4) | 0.512257 |
GradientBasedCorrMaskZeroX | 0.484777 |
GradientBasedCorrMaskZeroY (1) | 0.704279 |
GradientBasedCorrMaskZeroY (2) | 0.790899 |
GradientBasedCorrMaskZeroY (3) | 0.249116 |
GradientBasedCorrMaskZeroY (4) | 0.765794 |
GradientBasedCorrMaskZeroY | 0.285399 |
GradientBasedCorrMoire | 0.000000 |
GradientBasedCorrSaturation (7) | 0.173910 |
GradientBasedCorrSaturation | 0.000000 |
GradientBasedCorrShadows2012 (1) | -0.260870 |
GradientBasedCorrShadows2012 (4) | -0.239130 |
GradientBasedCorrShadows2012 | 0.000000 |
GradientBasedCorrSharpness | 0.000000 |
GradientBasedCorrTemperature | 0.000000 |
GradientBasedCorrTint | -0.108700 |
GradientBasedCorrWhat | Correction |
GrainAmount | 0 |
GreenHue | 0 |
GreenSaturation | 0 |
HasCrop | True |
HasExtendedXMP | FAB0F2168733ACA478DB0A282EDE572C |
HasSettings | True |
Highlights2012 | 0 |
HueAdjustmentAqua | 0 |
HueAdjustmentBlue | 0 |
HueAdjustmentGreen | 0 |
HueAdjustmentMagenta | 0 |
HueAdjustmentOrange | 0 |
HueAdjustmentPurple | 0 |
HueAdjustmentRed | 0 |
HueAdjustmentYellow | 0 |
HyperfocalDistance | 2.07 m |
ImageHeight | 1789 |
ImageSize | 2709x1789 |
ImageWidth | 2709 |
IncrementalTemperature | 0 |
IncrementalTint | 0 |
ISO | 20 |
Lens | iPhone 7 back camera 3.99mm f/1.8 |
LensInfo (1) | 3.99000000953743mm f/1.8 |
LensInfo | 3.99000001mm f/1.8 |
LensMake | Apple |
LensManualDistortionAmount | 0 |
LensModel | iPhone 7 back camera 3.99mm f/1.8 |
LensProfileEnable | 0 |
LensProfileSetup | LensDefaults |
LightValue | 13.0 |
LookAmount | 1.000000 |
LookCluster | Adobe |
LookGroup | Artistic |
LookName | Artistic 05 |
LookParametersConvertToGrayscale | False |
LookParametersLookTable | E1095149FDB39D7A057BAB208837E2E1 |
LookParametersProcessVersion | 11.0 |
LookParametersRGBTable | 887848C4E24524268E17603B26A576B3 |
LookParametersRGBTableAmount | 0.25 |
LookParametersVersion | 12.0 |
LookSupportsMonochrome | false |
LuminanceAdjustmentAqua | +9 |
LuminanceAdjustmentBlue | -43 |
LuminanceAdjustmentGreen | 0 |
LuminanceAdjustmentMagenta | 0 |
LuminanceAdjustmentOrange | 0 |
LuminanceAdjustmentPurple | -30 |
LuminanceAdjustmentRed | 0 |
LuminanceAdjustmentYellow | 0 |
LuminanceSmoothing | 0 |
Make | Apple |
Megapixels | 4.8 |
MeteringMode | Multi-segment |
Model | iPhone 7 |
ModifyDate (1) | 2019:11:17 20:03:34+01:00 |
ModifyDate | 2019:11:17 20:03:34 |
ObjectName | Worn Out |
OverrideLookVignette | False |
PaintCorrectionActive | true |
PaintCorrectionAmount | 1.000000 |
PaintCorrectionBrightness | 0.000000 |
PaintCorrectionClarity2012 | 0.000000 |
PaintCorrectionContrast2012 (1) | 0.695650 |
PaintCorrectionContrast2012 (2) | -0.304350 |
PaintCorrectionContrast2012 | 0.000000 |
PaintCorrectionCorrectionRangeMaskColorAmount | 0.500000 |
PaintCorrectionCorrectionRangeMaskDepthFeather | 0.500000 |
PaintCorrectionCorrectionRangeMaskDepthMax | 1.000000 |
PaintCorrectionCorrectionRangeMaskDepthMin | 0.000000 |
PaintCorrectionCorrectionRangeMaskLumFeather | 0.500000 |
PaintCorrectionCorrectionRangeMaskLumMax | 1.000000 |
PaintCorrectionCorrectionRangeMaskLumMin | 0.000000 |
PaintCorrectionCorrectionRangeMaskType | 0 |
PaintCorrectionCorrectionRangeMaskVersion | +2 |
PaintCorrectionDefringe | 0.000000 |
PaintCorrectionExposure2012 (1) | 0.021750 |
PaintCorrectionExposure2012 (2) | -0.369500 |
PaintCorrectionExposure2012 (3) | -0.152250 |
PaintCorrectionExposure2012 | -0.239250 |
PaintCorrectionHighlights2012 (2) | -1.000000 |
PaintCorrectionHighlights2012 | 0.000000 |
PaintCorrectionHue | 0.000000 |
PaintCorrectionLocalBlacks2012 (1) | 0.021740 |
PaintCorrectionLocalBlacks2012 (3) | 0.000000 |
PaintCorrectionLocalBlacks2012 | -0.260870 |
PaintCorrectionLocalDehaze | 0.000000 |
PaintCorrectionLocalTexture | 0.000000 |
PaintCorrectionLocalWhites2012 (1) | -0.521740 |
PaintCorrectionLocalWhites2012 (2) | 0.000000 |
PaintCorrectionLocalWhites2012 | 0.173910 |
PaintCorrectionLuminanceNoise | 0.000000 |
PaintCorrectionMaskCenterWeight (7) | 0.000000 |
PaintCorrectionMaskCenterWeight | 0.033675 |
PaintCorrectionMaskFlow (2) | 0.990000 |
PaintCorrectionMaskFlow | 1.000000 |
PaintCorrectionMaskRadius (1) | 0.078497 |
PaintCorrectionMaskRadius (10) | 0.010487 |
PaintCorrectionMaskRadius (11) | 0.010912 |
PaintCorrectionMaskRadius (12) | 0.012866 |
PaintCorrectionMaskRadius (13) | 0.012931 |
PaintCorrectionMaskRadius (14) | 0.009324 |
PaintCorrectionMaskRadius (15) | 0.009239 |
PaintCorrectionMaskRadius (16) | 0.009323 |
PaintCorrectionMaskRadius (17) | 0.003799 |
PaintCorrectionMaskRadius (18) | 0.003829 |
PaintCorrectionMaskRadius (19) | 0.003804 |
PaintCorrectionMaskRadius (2) | 0.006441 |
PaintCorrectionMaskRadius (20) | 0.003776 |
PaintCorrectionMaskRadius (21) | 0.003755 |
PaintCorrectionMaskRadius (22) | 0.004222 |
PaintCorrectionMaskRadius (23) | 0.004311 |
PaintCorrectionMaskRadius (24) | 0.004520 |
PaintCorrectionMaskRadius (25) | 0.004636 |
PaintCorrectionMaskRadius (26) | 0.003858 |
PaintCorrectionMaskRadius (27) | 0.003834 |
PaintCorrectionMaskRadius (28) | 0.003848 |
PaintCorrectionMaskRadius (29) | 0.003818 |
PaintCorrectionMaskRadius (3) | 0.015545 |
PaintCorrectionMaskRadius (31) | 0.003795 |
PaintCorrectionMaskRadius (33) | 0.003777 |
PaintCorrectionMaskRadius (34) | 0.003793 |
PaintCorrectionMaskRadius (35) | 0.003825 |
PaintCorrectionMaskRadius (36) | 0.003789 |
PaintCorrectionMaskRadius (37) | 0.005994 |
PaintCorrectionMaskRadius (38) | 0.005930 |
PaintCorrectionMaskRadius (39) | 0.005857 |
PaintCorrectionMaskRadius (4) | 0.021202 |
PaintCorrectionMaskRadius (40) | 0.006179 |
PaintCorrectionMaskRadius (41) | 0.006259 |
PaintCorrectionMaskRadius (42) | 0.006407 |
PaintCorrectionMaskRadius (43) | 0.005955 |
PaintCorrectionMaskRadius (44) | 0.005741 |
PaintCorrectionMaskRadius (45) | 0.015063 |
PaintCorrectionMaskRadius (46) | 0.013522 |
PaintCorrectionMaskRadius (47) | 0.015565 |
PaintCorrectionMaskRadius (48) | 0.013347 |
PaintCorrectionMaskRadius (49) | 0.039093 |
PaintCorrectionMaskRadius (5) | 0.026879 |
PaintCorrectionMaskRadius (50) | 0.038446 |
PaintCorrectionMaskRadius (6) | 0.090043 |
PaintCorrectionMaskRadius (7) | 0.010963 |
PaintCorrectionMaskRadius (8) | 0.014426 |
PaintCorrectionMaskRadius (9) | 0.069035 |
PaintCorrectionMaskRadius | 0.013420 |
PaintCorrectionMaskValue (2) | 0.000000 |
PaintCorrectionMaskValue | 1.000000 |
PaintCorrectionMaskWhat | Mask/Paint |
PaintCorrectionMoire | 0.000000 |
PaintCorrectionSaturation (5) | 0.173910 |
PaintCorrectionSaturation | 0.000000 |
PaintCorrectionShadows2012 (1) | 0.065220 |
PaintCorrectionShadows2012 (2) | -0.239130 |
PaintCorrectionShadows2012 | 0.000000 |
PaintCorrectionSharpness | 0.000000 |
PaintCorrectionTemperature (1) | 0.021740 |
PaintCorrectionTemperature (2) | 0.000000 |
PaintCorrectionTemperature | 0.086960 |
PaintCorrectionTint (3) | -0.108700 |
PaintCorrectionTint | 0.000000 |
PaintCorrectionWhat | Correction |
ParametricDarks | 0 |
ParametricHighlights | 0 |
ParametricHighlightSplit | 75 |
ParametricLights | 0 |
ParametricMidtoneSplit | 50 |
ParametricShadows | 0 |
ParametricShadowSplit | 25 |
PerspectiveAspect | +86 |
PerspectiveHorizontal | 0 |
PerspectiveRotate | +7.6 |
PerspectiveScale | 100 |
PerspectiveUpright | 0 |
PerspectiveVertical | -64 |
PerspectiveX | -2.38 |
PerspectiveY | -9.52 |
PostCropVignetteAmount | 0 |
PreservedFileName | IMG_0582.JPG |
ProcessVersion | 11.0 |
ProfileDescription | Adobe RGB (1998) |
Rating | 2 |
RawFileName | |
RedHue | 0 |
RedSaturation | 0 |
Saturation | 0 |
SaturationAdjustmentAqua | +4 |
SaturationAdjustmentBlue | +44 |
SaturationAdjustmentGreen | -100 |
SaturationAdjustmentMagenta | 0 |
SaturationAdjustmentOrange | +94 |
SaturationAdjustmentPurple | +47 |
SaturationAdjustmentRed | 0 |
SaturationAdjustmentYellow | +33 |
ScaleFactor35efl | 7.0 |
SceneCaptureType | Standard |
SceneType | Directly photographed |
SensingMethod | One-chip color area |
Shadows2012 | 0 |
ShadowTint | 0 |
SharpenDetail | 25 |
SharpenEdgeMasking | 0 |
SharpenRadius | +1.0 |
Sharpness | 11 |
ShutterSpeed | 1/500 |
ShutterSpeedValue | 1/500 |
Software | Adobe Photoshop Lightroom Classic 9.0 (Windows) |
SplitToningBalance | 0 |
SplitToningHighlightHue | 0 |
SplitToningHighlightSaturation | 0 |
SplitToningShadowHue | 0 |
SplitToningShadowSaturation | 0 |
SubjectArea | 2015 1511 2217 1330 |
Texture | 0 |
Title | Worn Out |
ToneCurve | 0, 0, 255, 255 |
ToneCurveBlue | 0, 0, 255, 255 |
ToneCurveGreen | 0, 0, 255, 255 |
ToneCurveName | Linear |
ToneCurveName2012 | Linear |
ToneCurvePV2012 | 0, 0, 255, 255 |
ToneCurvePV2012Blue | 0, 0, 255, 255 |
ToneCurvePV2012Green | 0, 0, 255, 255 |
ToneCurvePV2012Red | 0, 0, 255, 255 |
ToneCurveRed | 0, 0, 255, 255 |
ToneMapStrength | 0 |
Version | 12.0 |
Vibrance | 0 |
VignetteAmount | 0 |
WhiteBalance (1) | As Shot |
WhiteBalance | Auto |
Whites2012 | -33 |