Felt | Verdi |
AlreadyApplied | True |
Aperture | 2.8 |
ApertureValue | 2.8 |
Artist | Picasa |
BitsPerSample (1) | 16 16 16 |
BitsPerSample | 8 |
Blacks2012 | +53 |
By-line | Picasa |
CircleOfConfusion | 0.010 mm |
Clarity2012 | 0 |
ColorComponents | 3 |
ColorMode | RGB |
ColorSpace | Uncalibrated |
Contrast | High |
Contrast2012 | +18 |
CreateDate | 2017:02:11 15:32:45 |
Creator | Picasa |
CreatorTool | Adobe Photoshop Lightroom 6.8 (Macintosh) |
CustomRendered | Normal |
DateCreated (1) | 2017:02:11 15:32:45 |
DateCreated | 2017:02:11 |
DateTimeOriginal | 2017:02:11 15:32:45 |
Dehaze | +100 |
DigitalZoomRatio | 0 |
ExifImageHeight | 1336 |
ExifImageWidth | 2000 |
Exposure2012 | -0.30 |
ExposureCompensation | 0 |
ExposureMode | Auto |
ExposureProgram | Aperture-priority AE |
ExposureTime | 1/350 |
Flash | No Flash |
FNumber | 2.8 |
FocalLength | 28.0 mm |
FocalLength35efl | 28.0 mm (35 mm equivalent: 83.3 mm) |
Format | image/jpeg |
FOV | 24.4 deg |
GPSAltitude (1) | 0 m |
GPSAltitude | 0 m Above Sea Level |
GPSAltitudeRef | Above Sea Level |
GPSDOP | 0 |
GPSSpeed | 0 |
GPSStatus | Measurement Void |
GPSTrack | 0 |
GPSVersionID | 2.2.0.0 |
GrainAmount | 0 |
HasCrop | False |
HasSettings | True |
Highlights2012 | +26 |
HyperfocalDistance | 27.72 m |
ICCProfileName | ProPhoto RGB |
ImageHeight (1) | 3992 |
ImageHeight | 1336 |
ImageSize | 2000x1336 |
ImageWidth (1) | 5976 |
ImageWidth | 2000 |
ISO | 800 |
Lens | Summicron-M 1:2/28 ASPH. |
LensInfo | 28mm f/2-16 |
LensMake | Leica Camera AG |
LensManualDistortionAmount | 0 |
LensModel | Summicron-M 1:2/28 ASPH. |
LensProfileEnable | 0 |
LensProfileSetup | LensDefaults |
LensSerialNumber | ------- |
LightSource | Unknown |
LightValue | 8.4 |
LuminanceNoiseReductionContrast | 0 |
LuminanceNoiseReductionDetail | 50 |
LuminanceSmoothing | 28 |
Make | Leica Camera AG |
MaxApertureValue | 2.0 |
Megapixels | 2.7 |
MeteringMode | Multi-spot |
Model | LEICA M MONOCHROM (Typ 246) |
ModifyDate (1) | 2017:02:13 02:04:37+01:00 |
ModifyDate | 2017:02:13 02:04:37 |
ParametricDarks | -19 |
ParametricHighlights | 0 |
ParametricHighlightSplit | 75 |
ParametricLights | +23 |
ParametricMidtoneSplit | 50 |
ParametricShadows | +15 |
ParametricShadowSplit | 25 |
PerspectiveAspect | 0 |
PerspectiveHorizontal | 0 |
PerspectiveRotate | 0.0 |
PerspectiveScale | 100 |
PerspectiveUpright | 0 |
PerspectiveVertical | 0 |
PerspectiveX | 0.00 |
PerspectiveY | 0.00 |
PhotometricInterpretation | RGB |
PlanarConfiguration | Chunky |
PostCropVignetteAmount | -33 |
PostCropVignetteFeather | 50 |
PostCropVignetteMidpoint | 50 |
PostCropVignetteRoundness | 0 |
PostCropVignetteStyle | 3 |
ProcessVersion | 6.7 |
ProfileDescription | ProPhoto RGB |
RelatedImageHeight | 3992 |
RelatedImageWidth | 5976 |
SamplesPerPixel | 3 |
ScaleFactor35efl | 3.0 |
SceneCaptureType | Standard |
SceneType | Directly photographed |
SerialNumber | 4974401 |
Shadows2012 | -68 |
SharpenDetail | 25 |
SharpenEdgeMasking | 0 |
SharpenRadius | +1.0 |
Sharpness (1) | 150 |
Sharpness | Hard |
ShutterSpeed | 1/350 |
ShutterSpeedValue | 1/350 |
Software | Adobe Photoshop CC 2015.5 (Macintosh) |
SplitToningBalance | 0 |
SplitToningHighlightHue | 0 |
SplitToningHighlightSaturation | 0 |
SplitToningShadowHue | 0 |
SplitToningShadowSaturation | 0 |
ToneCurve | 0, 0, 255, 255 |
ToneCurveBlue | 0, 0, 255, 255 |
ToneCurveGreen | 0, 0, 255, 255 |
ToneCurveName | Linear |
ToneCurveName2012 | Linear |
ToneCurvePV2012 | 0, 0, 255, 255 |
ToneCurvePV2012Blue | 0, 0, 255, 255 |
ToneCurvePV2012Green | 0, 0, 255, 255 |
ToneCurvePV2012Red | 0, 0, 255, 255 |
ToneCurveRed | 0, 0, 255, 255 |
ToneMapStrength | 0 |
URL_List | |
Version | 9.8 |
VignetteAmount | 0 |
Whites2012 | -38 |