Felt | Verdi |
AlreadyApplied | True |
Aperture | 11.0 |
ApertureValue | 11.0 |
ApproximateFocusDistance | 4294967295 |
Artist | Sven Fredriksen |
AutoLateralCA | 1 |
AutoWhiteVersion | 134348800 |
BitsPerSample | 8 |
Blacks2012 | 0 |
BlueHue | 0 |
BlueSaturation | 0 |
By-line | Sven Fredriksen |
CameraProfile | Adobe Standard |
CircleOfConfusion | 0.006 mm |
Clarity2012 | +23 |
ColorComponents | 3 |
ColorNoiseReduction | 25 |
ColorNoiseReductionDetail | 50 |
ColorNoiseReductionSmoothness | 50 |
ColorSpace | sRGB |
ColorTemperature | 8400 |
ColorTransform | YCbCr |
Contrast2012 | 0 |
ConvertToGrayscale | False |
Copyright | (C) Sven Erik Fredriksen |
CopyrightFlag | True |
CopyrightNotice | (C) Sven Erik Fredriksen |
CreateDate (1) | 2016:09:16 15:19:33.00 |
CreateDate | 2016:09:16 15:19:33 |
Creator | Sven Fredriksen |
CreatorAddress | Omvn 26 |
CreatorCity | Stokmarknes |
CreatorCountry | Norway |
CreatorPostalCode | 8450 |
CreatorTool | Adobe Photoshop Lightroom 6.6.1 (Macintosh) |
CreatorWorkEmail | sven.fredriksen58@gmail.com |
CreatorWorkTelephone | 004790557417 |
CropAngle | 0 |
CropBottom | 0.987952 |
CropConstrainToWarp | 0 |
CropLeft | 0 |
CropRight | 0.987952 |
CropTop | 0 |
CustomRendered | Normal |
DateCreated (1) | 2016:09:16 |
DateCreated | 2016:09:16 15:19:33.00 |
DateTimeOriginal | 2016:09:16 15:19:33 |
DefringeGreenAmount | 0 |
DefringeGreenHueHi | 60 |
DefringeGreenHueLo | 40 |
DefringePurpleAmount | 0 |
DefringePurpleHueHi | 70 |
DefringePurpleHueLo | 30 |
Dehaze | 0 |
DOF | inf (4.14 m - inf) |
Exposure2012 | 0.00 |
ExposureCompensation | -1/2 |
ExposureMode | Auto |
ExposureProgram | Aperture-priority AE |
ExposureTime | 1/20 |
Firmware | 1.1.3 |
Flash | Off, Did not fire |
FlashCompensation | 0 |
FNumber | 11.0 |
FocalLength | 16.0 mm |
FocalLength35efl | 16.0 mm (35 mm equivalent: 85.5 mm) |
Format | image/jpeg |
FOV | 23.8 deg |
GrainAmount | 0 |
GreenHue | 0 |
GreenSaturation | 0 |
HasCrop | True |
HasExtendedXMP | 5350FF69059D6E508F46E865CB99FA67 |
HasSettings | True |
Highlights2012 | -100 |
HueAdjustmentAqua | 0 |
HueAdjustmentBlue | +1 |
HueAdjustmentGreen | 0 |
HueAdjustmentMagenta | 0 |
HueAdjustmentOrange | +3 |
HueAdjustmentPurple | 0 |
HueAdjustmentRed | 0 |
HueAdjustmentYellow | -14 |
HyperfocalDistance | 4.14 m |
ImageHeight | 683 |
ImageNumber | 0 |
ImageSize | 1024x683 |
ImageWidth | 1024 |
ISO | 200 |
Keywords | Blåvannet, Lyngen, Lyngsalpan, Nothern Norway, Troms |
Lens | EF16-35mm f/2.8L II USM |
LensID (1) | 246 |
LensID | Canon EF 16-35mm f/2.8L II USM |
LensInfo | 16-35mm f/? |
LensManualDistortionAmount | 0 |
LensModel | EF16-35mm f/2.8L II USM |
LensProfileChromaticAberrationScale | 100 |
LensProfileDistortionScale | 100 |
LensProfileEnable | 1 |
LensProfileFilename | Canon EOS 5D Mark II (Canon EF 16-35mm f2.8 L II USM) - RAW.lcp |
LensProfileName | Adobe (Canon EF 16-35mm f/2.8 L II USM) |
LensProfileSetup | LensDefaults |
LensProfileVignettingScale | 100 |
LensSerialNumber | 000082f37d |
LightValue | 10.2 |
LuminanceAdjustmentAqua | -2 |
LuminanceAdjustmentBlue | -40 |
LuminanceAdjustmentGreen | 0 |
LuminanceAdjustmentMagenta | 0 |
LuminanceAdjustmentOrange | 0 |
LuminanceAdjustmentPurple | 0 |
LuminanceAdjustmentRed | 0 |
LuminanceAdjustmentYellow | 0 |
LuminanceSmoothing | 0 |
Make | Canon |
Marked | True |
MaxApertureValue | 2.8 |
Megapixels | 0.699 |
MeteringMode | Multi-segment |
Model | Canon EOS 6D |
ModifyDate (1) | 2016:10:01 19:12:52+02:00 |
ModifyDate | 2016:10:01 19:12:52 |
PaintCorrectionActive | true |
PaintCorrectionAmount | 1.000000 |
PaintCorrectionBrightness | 0.000000 |
PaintCorrectionClarity2012 | 0.000000 |
PaintCorrectionContrast2012 | 0.000000 |
PaintCorrectionDefringe | 0.000000 |
PaintCorrectionExposure2012 (1) | 0.145960 |
PaintCorrectionExposure2012 | 0.393197 |
PaintCorrectionHighlights2012 (1) | 0.000000 |
PaintCorrectionHighlights2012 | 0.345274 |
PaintCorrectionHue | 240.000000 |
PaintCorrectionLocalBlacks2012 | 0.000000 |
PaintCorrectionLocalDehaze | 0.000000 |
PaintCorrectionLocalWhites2012 | 0.000000 |
PaintCorrectionLuminanceNoise | 0.000000 |
PaintCorrectionMaskCenterWeight | 0.244291 |
PaintCorrectionMaskFlow (1) | 0.030679 |
PaintCorrectionMaskFlow (10) | 0.001448 |
PaintCorrectionMaskFlow (11) | 0.008631 |
PaintCorrectionMaskFlow (12) | 0.000362 |
PaintCorrectionMaskFlow (13) | 0.011834 |
PaintCorrectionMaskFlow (14) | 0.000724 |
PaintCorrectionMaskFlow (15) | 0.032050 |
PaintCorrectionMaskFlow (16) | 0.023773 |
PaintCorrectionMaskFlow (17) | 0.025854 |
PaintCorrectionMaskFlow (18) | 0.061399 |
PaintCorrectionMaskFlow (19) | 0.036822 |
PaintCorrectionMaskFlow (2) | 0.019238 |
PaintCorrectionMaskFlow (20) | 0.027927 |
PaintCorrectionMaskFlow (21) | 0.024120 |
PaintCorrectionMaskFlow (22) | 0.016781 |
PaintCorrectionMaskFlow (23) | 0.006127 |
PaintCorrectionMaskFlow (24) | 0.061075 |
PaintCorrectionMaskFlow (26) | 0.039530 |
PaintCorrectionMaskFlow (27) | 0.006485 |
PaintCorrectionMaskFlow (28) | 0.021336 |
PaintCorrectionMaskFlow (29) | 0.008274 |
PaintCorrectionMaskFlow (3) | 0.049259 |
PaintCorrectionMaskFlow (30) | 0.022730 |
PaintCorrectionMaskFlow (31) | 0.076122 |
PaintCorrectionMaskFlow (32) | 0.049922 |
PaintCorrectionMaskFlow (33) | 0.010413 |
PaintCorrectionMaskFlow (34) | 0.035463 |
PaintCorrectionMaskFlow (35) | 0.026546 |
PaintCorrectionMaskFlow (36) | 0.007559 |
PaintCorrectionMaskFlow (37) | 0.044908 |
PaintCorrectionMaskFlow (38) | 0.046911 |
PaintCorrectionMaskFlow (4) | 0.056510 |
PaintCorrectionMaskFlow (5) | 0.016429 |
PaintCorrectionMaskFlow (6) | 0.012189 |
PaintCorrectionMaskFlow (8) | 0.062048 |
PaintCorrectionMaskFlow (9) | 0.011124 |
PaintCorrectionMaskFlow | 0.028272 |
PaintCorrectionMaskRadius (1) | 0.037922 |
PaintCorrectionMaskRadius (10) | 0.014886 |
PaintCorrectionMaskRadius (12) | 0.014836 |
PaintCorrectionMaskRadius (13) | 0.014776 |
PaintCorrectionMaskRadius (14) | 0.014752 |
PaintCorrectionMaskRadius (15) | 0.015167 |
PaintCorrectionMaskRadius (16) | 0.015092 |
PaintCorrectionMaskRadius (17) | 0.014939 |
PaintCorrectionMaskRadius (18) | 0.014857 |
PaintCorrectionMaskRadius (19) | 0.014955 |
PaintCorrectionMaskRadius (2) | 0.037903 |
PaintCorrectionMaskRadius (20) | 0.016183 |
PaintCorrectionMaskRadius (21) | 0.016100 |
PaintCorrectionMaskRadius (22) | 0.016287 |
PaintCorrectionMaskRadius (23) | 0.016283 |
PaintCorrectionMaskRadius (24) | 0.016064 |
PaintCorrectionMaskRadius (25) | 0.016062 |
PaintCorrectionMaskRadius (26) | 0.016330 |
PaintCorrectionMaskRadius (27) | 0.016542 |
PaintCorrectionMaskRadius (28) | 0.016433 |
PaintCorrectionMaskRadius (29) | 0.016531 |
PaintCorrectionMaskRadius (3) | 0.037943 |
PaintCorrectionMaskRadius (30) | 0.016529 |
PaintCorrectionMaskRadius (31) | 0.016364 |
PaintCorrectionMaskRadius (32) | 0.016063 |
PaintCorrectionMaskRadius (33) | 0.016024 |
PaintCorrectionMaskRadius (34) | 0.016007 |
PaintCorrectionMaskRadius (35) | 0.016023 |
PaintCorrectionMaskRadius (36) | 0.016032 |
PaintCorrectionMaskRadius (37) | 0.016291 |
PaintCorrectionMaskRadius (38) | 0.016294 |
PaintCorrectionMaskRadius (4) | 0.037888 |
PaintCorrectionMaskRadius (5) | 0.014983 |
PaintCorrectionMaskRadius (6) | 0.014945 |
PaintCorrectionMaskRadius (7) | 0.015104 |
PaintCorrectionMaskRadius (8) | 0.015089 |
PaintCorrectionMaskRadius (9) | 0.015033 |
PaintCorrectionMaskRadius | 0.015022 |
PaintCorrectionMaskValue | 0.609003 |
PaintCorrectionMaskWhat | Mask/Paint |
PaintCorrectionMoire | 0.000000 |
PaintCorrectionSaturation | 0.000000 |
PaintCorrectionShadows2012 (1) | 0.720274 |
PaintCorrectionShadows2012 | 0.204840 |
PaintCorrectionSharpness | 0.000000 |
PaintCorrectionTemperature | 0.000000 |
PaintCorrectionTint | 0.000000 |
PaintCorrectionWhat | Correction |
ParametricDarks | 0 |
ParametricHighlights | 0 |
ParametricHighlightSplit | 75 |
ParametricLights | 0 |
ParametricMidtoneSplit | 50 |
ParametricShadows | 0 |
ParametricShadowSplit | 25 |
PerspectiveAspect | 0 |
PerspectiveHorizontal | 0 |
PerspectiveRotate | 0.0 |
PerspectiveScale | 100 |
PerspectiveUpright | 0 |
PerspectiveVertical | 0 |
PerspectiveX | 0.00 |
PerspectiveY | 0.00 |
PostCropVignetteAmount | 0 |
ProcessVersion | 6.7 |
ProfileDescription | sRGB IEC61966-2.1 |
Rating | 5 |
RecommendedExposureIndex | 200 |
RedHue | 0 |
RedSaturation | 0 |
Rights | (C) Sven Erik Fredriksen |
Saturation | 0 |
SaturationAdjustmentAqua | 0 |
SaturationAdjustmentBlue | -11 |
SaturationAdjustmentGreen | 0 |
SaturationAdjustmentMagenta | 0 |
SaturationAdjustmentOrange | 0 |
SaturationAdjustmentPurple | 0 |
SaturationAdjustmentRed | 0 |
SaturationAdjustmentYellow | 0 |
ScaleFactor35efl | 5.3 |
SceneCaptureType | Standard |
SensitivityType | Recommended Exposure Index |
SerialNumber | 053024015013 |
Shadows2012 | +63 |
ShadowTint | 0 |
SharpenDetail | 25 |
SharpenEdgeMasking | 0 |
SharpenRadius | +1.0 |
Sharpness | 25 |
ShutterSpeed | 1/20 |
ShutterSpeedValue | 1/20 |
Software | Adobe Photoshop Lightroom 6.6.1 (Macintosh) |
SplitToningBalance | 0 |
SplitToningHighlightHue | 0 |
SplitToningHighlightSaturation | 0 |
SplitToningShadowHue | 0 |
SplitToningShadowSaturation | 0 |
Subject | Blåvannet, Lyngen, Lyngsalpan, Nothern Norway, Troms |
Tint | +17 |
ToneCurve | 0, 0, 255, 255 |
ToneCurveBlue | 0, 0, 255, 255 |
ToneCurveGreen | 0, 0, 255, 255 |
ToneCurveName | Linear |
ToneCurveName2012 | Custom |
ToneCurvePV2012 | 0, 0, 78, 85, 183, 198, 255, 255 |
ToneCurvePV2012Blue | 0, 0, 255, 255 |
ToneCurvePV2012Green | 0, 0, 255, 255 |
ToneCurvePV2012Red | 0, 0, 255, 255 |
ToneCurveRed | 0, 0, 255, 255 |
ToneMapStrength | 0 |
UsageTerms | No use of photos without permission from photographer |
Version | 9.6 |
Vibrance | +9 |
VignetteAmount | 0 |
WhiteBalance (1) | Custom |
WhiteBalance | Manual |
Whites2012 | 0 |