Felt | Verdi |
AlreadyApplied | True |
Aperture | 10.0 |
ApertureValue | 10.0 |
ApproximateFocusDistance | 12.6 |
AutoLateralCA | 1 |
AutoWhiteVersion | 134348800 |
BitsPerSample | 8 |
Blacks2012 | 0 |
BlueHue | 0 |
BlueSaturation | 0 |
CameraProfile | Embedded |
CircleOfConfusion | 0.030 mm |
Clarity2012 | 0 |
ColorComponents | 3 |
ColorNoiseReduction | 36 |
ColorNoiseReductionDetail | 50 |
ColorNoiseReductionSmoothness | 50 |
ColorSpace | Uncalibrated |
ColorTransform | YCbCr |
Contrast | Normal |
Contrast2012 | 0 |
ConvertToGrayscale | False |
CreateDate | 2016:06:02 19:48:13 |
CreatorTool | Adobe Photoshop Lightroom 6.1 (Macintosh) |
CustomRendered | Normal |
DateCreated (1) | 2016:06:02 19:48:13 |
DateCreated | 2016:06:02 |
DateTimeOriginal | 2016:06:02 19:48:13 |
DefringeGreenAmount | 0 |
DefringeGreenHueHi | 60 |
DefringeGreenHueLo | 40 |
DefringePurpleAmount | 0 |
DefringePurpleHueHi | 70 |
DefringePurpleHueLo | 30 |
Dehaze | 0 |
DigitalZoomRatio | 1 |
DOF | inf (2.17 m - inf) |
Exposure2012 | -0.15 |
ExposureCompensation | -2 |
ExposureMode | Manual |
ExposureProgram | Manual |
ExposureTime | 1/160 |
Flash | No Flash |
FNumber | 10.0 |
FocalLength | 28.0 mm |
FocalLength35efl | 28.0 mm (35 mm equivalent: 28.0 mm) |
FocalLengthIn35mmFormat | 28 mm |
Format | image/jpeg |
FOV | 65.5 deg |
GainControl | None |
GradientBasedCorrActive | true |
GradientBasedCorrAmount | 1.000000 |
GradientBasedCorrBrightness | 0.000000 |
GradientBasedCorrClarity2012 | 0.000000 |
GradientBasedCorrContrast2012 | 0.000000 |
GradientBasedCorrDefringe | 0.000000 |
GradientBasedCorrExposure2012 | -0.079786 |
GradientBasedCorrHighlights2012 | -0.527313 |
GradientBasedCorrHue | 13.105500 |
GradientBasedCorrLocalBlacks2012 | 0.000000 |
GradientBasedCorrLocalWhites2012 | 0.000000 |
GradientBasedCorrLuminanceNoise | 0.000000 |
GradientBasedCorrMaskFullX | 0.523106 |
GradientBasedCorrMaskFullY | 0.071271 |
GradientBasedCorrMaskValue | 1.000000 |
GradientBasedCorrMaskWhat | Mask/Gradient |
GradientBasedCorrMaskZeroX | 0.528642 |
GradientBasedCorrMaskZeroY | 0.268932 |
GradientBasedCorrMoire | 0.000000 |
GradientBasedCorrSaturation | 0.000000 |
GradientBasedCorrShadows2012 | -0.016197 |
GradientBasedCorrSharpness | 0.017111 |
GradientBasedCorrTemperature | 0.000000 |
GradientBasedCorrTint | 0.000000 |
GradientBasedCorrWhat | Correction |
GrainAmount | 0 |
GreenHue | 0 |
GreenSaturation | 0 |
HasCrop | False |
HasExtendedXMP | F6A9BD96425D828AA8AF217CF6ABFAAF |
HasSettings | True |
Highlights2012 | 0 |
HueAdjustmentAqua | 0 |
HueAdjustmentBlue | 0 |
HueAdjustmentGreen | 0 |
HueAdjustmentMagenta | 0 |
HueAdjustmentOrange | -18 |
HueAdjustmentPurple | 0 |
HueAdjustmentRed | 0 |
HueAdjustmentYellow | -20 |
HyperfocalDistance | 2.61 m |
ImageHeight | 2828 |
ImageNumber | 200380 |
ImageSize | 4250x2828 |
ImageWidth | 4250 |
IncrementalTemperature | 0 |
IncrementalTint | 0 |
IsMergedHDR | True |
ISO | 100 |
LateralChromaticAberrationCorrectionAlreadyApplied | True |
Lens | 28.0-300.0 mm f/3.5-5.6 |
LensID (1) | 165 |
LensID | AF-S Nikkor 28-300mm f/3.5-5.6G ED VR |
LensInfo | 28-300mm f/3.5-5.6 |
LensManualDistortionAmount | 0 |
LensModel | 28.0-300.0 mm f/3.5-5.6 |
LensProfileEnable | 1 |
LensProfileSetup | LensDefaults |
LightSource | Unknown |
LightValue | 14.0 |
LuminanceAdjustmentAqua | 0 |
LuminanceAdjustmentBlue | 0 |
LuminanceAdjustmentGreen | 0 |
LuminanceAdjustmentMagenta | 0 |
LuminanceAdjustmentOrange | 0 |
LuminanceAdjustmentPurple | 0 |
LuminanceAdjustmentRed | 0 |
LuminanceAdjustmentYellow | 0 |
LuminanceNoiseReductionContrast | 36 |
LuminanceNoiseReductionDetail | 50 |
LuminanceSmoothing | 30 |
Make | NIKON CORPORATION |
MaxApertureValue | 3.6 |
Megapixels | 12.0 |
MeteringMode | Multi-segment |
Model | NIKON D3S |
ModifyDate (1) | 2016:06:03 15:35:49+02:00 |
ModifyDate | 2016:06:03 15:35:49 |
Orientation | Horizontal (normal) |
PaintCorrectionActive | true |
PaintCorrectionAmount | 1.000000 |
PaintCorrectionBrightness | 0.000000 |
PaintCorrectionClarity2012 (1) | -0.423413 |
PaintCorrectionClarity2012 | 0.013656 |
PaintCorrectionContrast2012 | 0.000000 |
PaintCorrectionDefringe | 0.000000 |
PaintCorrectionExposure2012 (10) | -0.156988 |
PaintCorrectionExposure2012 (12) | -0.122908 |
PaintCorrectionExposure2012 (13) | -0.008612 |
PaintCorrectionExposure2012 (14) | -0.028974 |
PaintCorrectionExposure2012 (15) | -0.071850 |
PaintCorrectionExposure2012 (16) | -0.046260 |
PaintCorrectionExposure2012 (17) | -0.107530 |
PaintCorrectionExposure2012 (2) | 0.230500 |
PaintCorrectionExposure2012 (4) | -0.086307 |
PaintCorrectionExposure2012 (5) | 0.023807 |
PaintCorrectionExposure2012 (6) | 0.078740 |
PaintCorrectionExposure2012 (7) | -0.077571 |
PaintCorrectionExposure2012 (8) | -0.035310 |
PaintCorrectionExposure2012 (9) | -0.092274 |
PaintCorrectionExposure2012 | 0.000000 |
PaintCorrectionHighlights2012 (11) | 0.074680 |
PaintCorrectionHighlights2012 (3) | 0.114727 |
PaintCorrectionHighlights2012 | 0.000000 |
PaintCorrectionHue | 13.105500 |
PaintCorrectionLocalBlacks2012 | 0.000000 |
PaintCorrectionLocalWhites2012 (2) | 0.184240 |
PaintCorrectionLocalWhites2012 | 0.000000 |
PaintCorrectionLuminanceNoise | 0.000000 |
PaintCorrectionMaskCenterWeight | 0.000000 |
PaintCorrectionMaskFlow | 0.973769 |
PaintCorrectionMaskRadius (1) | 0.079107 |
PaintCorrectionMaskRadius (11) | 0.033890 |
PaintCorrectionMaskRadius (12) | 0.112726 |
PaintCorrectionMaskRadius (13) | 0.272649 |
PaintCorrectionMaskRadius (15) | 0.144948 |
PaintCorrectionMaskRadius (23) | 0.089804 |
PaintCorrectionMaskRadius (38) | 0.215077 |
PaintCorrectionMaskRadius (43) | 0.075115 |
PaintCorrectionMaskRadius (46) | 0.027434 |
PaintCorrectionMaskRadius (47) | 0.067948 |
PaintCorrectionMaskRadius (50) | 0.104967 |
PaintCorrectionMaskRadius (53) | 0.161769 |
PaintCorrectionMaskRadius (54) | 0.018496 |
PaintCorrectionMaskRadius (57) | 0.013670 |
PaintCorrectionMaskRadius (58) | 0.009083 |
PaintCorrectionMaskRadius (74) | 0.006679 |
PaintCorrectionMaskRadius (78) | 0.003940 |
PaintCorrectionMaskRadius (88) | 0.012316 |
PaintCorrectionMaskRadius (89) | 0.136714 |
PaintCorrectionMaskRadius (96) | 0.040465 |
PaintCorrectionMaskRadius | 0.217977 |
PaintCorrectionMaskValue | 1.000000 |
PaintCorrectionMaskWhat | Mask/Paint |
PaintCorrectionMoire | 0.000000 |
PaintCorrectionSaturation | 0.000000 |
PaintCorrectionShadows2012 (2) | -0.016197 |
PaintCorrectionShadows2012 | -0.111836 |
PaintCorrectionSharpness | 0.017111 |
PaintCorrectionTemperature (10) | 0.247478 |
PaintCorrectionTemperature (2) | 0.300074 |
PaintCorrectionTemperature (3) | 0.132628 |
PaintCorrectionTemperature (6) | 0.297490 |
PaintCorrectionTemperature | 0.000000 |
PaintCorrectionTint (2) | 0.272699 |
PaintCorrectionTint (3) | 0.132628 |
PaintCorrectionTint (6) | 0.247170 |
PaintCorrectionTint | 0.000000 |
PaintCorrectionWhat | Correction |
ParametricDarks | 0 |
ParametricHighlights | 0 |
ParametricHighlightSplit | 75 |
ParametricLights | 0 |
ParametricMidtoneSplit | 50 |
ParametricShadows | 0 |
ParametricShadowSplit | 25 |
PerspectiveAspect | 0 |
PerspectiveHorizontal | 0 |
PerspectiveRotate | 0.0 |
PerspectiveScale | 100 |
PerspectiveUpright | 0 |
PerspectiveVertical | 0 |
PostCropVignetteAmount | 0 |
ProcessVersion | 6.7 |
ProfileDescription | sRGB IEC61966-2.1 |
Rating | 5 |
RawFileName | DSC_7350-HDR-2.jpg |
RedHue | 0 |
RedSaturation | 0 |
Saturation (1) | -8 |
Saturation | Normal |
SaturationAdjustmentAqua | 0 |
SaturationAdjustmentBlue | 0 |
SaturationAdjustmentGreen | 0 |
SaturationAdjustmentMagenta | 0 |
SaturationAdjustmentOrange | +29 |
SaturationAdjustmentPurple | 0 |
SaturationAdjustmentRed | +29 |
SaturationAdjustmentYellow | +27 |
ScaleFactor35efl | 1.0 |
SceneCaptureType | Standard |
SceneType | Directly photographed |
SensingMethod | One-chip color area |
SerialNumber | 2058033 |
Shadows2012 | 0 |
ShadowTint | 0 |
SharpenDetail | 41 |
SharpenEdgeMasking | 34 |
SharpenRadius | +1.5 |
Sharpness (1) | 53 |
Sharpness | Normal |
ShutterSpeed | 1/160 |
ShutterSpeedValue | 1/160 |
Software | Adobe Photoshop Lightroom 6.1 (Macintosh) |
SplitToningBalance | 0 |
SplitToningHighlightHue | 0 |
SplitToningHighlightSaturation | 0 |
SplitToningShadowHue | 0 |
SplitToningShadowSaturation | 0 |
SubjectDistanceRange | Unknown |
ToneCurve | 0, 0, 255, 255 |
ToneCurveBlue | 0, 0, 255, 255 |
ToneCurveGreen | 0, 0, 255, 255 |
ToneCurveName | Linear |
ToneCurveName2012 | Linear |
ToneCurvePV2012 | 0, 0, 255, 255 |
ToneCurvePV2012Blue | 0, 0, 255, 255 |
ToneCurvePV2012Green | 0, 0, 255, 255 |
ToneCurvePV2012Red | 0, 0, 255, 255 |
ToneCurveRed | 0, 0, 255, 255 |
ToneMapStrength | 0 |
Version | 9.1 |
Vibrance | 0 |
VignetteAmount | 0 |
WhiteBalance (1) | As Shot |
WhiteBalance | Auto |
Whites2012 | 0 |