Felt | Verdi |
AlreadyApplied | True |
Aperture | 2.8 |
ApertureValue | 2.8 |
ApproximateFocusDistance | 4294967295 |
Artist | Zoltan Tot |
AutoLateralCA | 0 |
AutoWhiteVersion | 134348800 |
BitsPerSample | 8 8 8 |
Blacks2012 | 0 |
BlueHue | 0 |
BlueSaturation | 0 |
By-line | Zoltan Tot |
CameraProfile | Adobe Standard |
CFAPattern | [Red,Green][Green,Blue] |
CircleOfConfusion | 0.030 mm |
Clarity2012 | +9 |
ColorMode | RGB |
ColorNoiseReduction | 59 |
ColorNoiseReductionDetail | 18 |
ColorNoiseReductionSmoothness | 50 |
ColorSpace | Uncalibrated |
ColorTemperature | 5900 |
Contrast | Normal |
Contrast2012 | 0 |
ConvertToGrayscale | False |
Copyright | Zoltan ToT |
CopyrightNotice | Zoltan ToT |
CreateDate | 2015:04:02 23:11:04 |
Creator | Zoltan Tot |
CreatorTool | Ver.1.02 |
CropAngle | -0.434051 |
CropBottom | 0.90662 |
CropConstrainToWarp | 1 |
CropLeft | 0.011277 |
CropRight | 0.988515 |
CropTop | 0.052282 |
CustomRendered | Custom |
DateCreated (1) | 2015:04:02 23:11:04.009 |
DateCreated | 2015:04:02 |
DateTimeOriginal | 2015:04:02 23:11:04 |
DefringeGreenAmount | 0 |
DefringeGreenHueHi | 60 |
DefringeGreenHueLo | 40 |
DefringePurpleAmount | 0 |
DefringePurpleHueHi | 70 |
DefringePurpleHueLo | 30 |
DigitalZoomRatio | 1 |
DOF | inf (2.33 m - inf) |
ExifImageHeight | 2875 |
ExifImageWidth | 5113 |
Exposure2012 | +1.40 |
ExposureCompensation | 0 |
ExposureMode | Manual |
ExposureProgram | Manual |
ExposureTime | 2 |
Flash | Off, Did not fire |
FNumber | 2.8 |
FocalLength | 14.0 mm |
FocalLength35efl | 14.0 mm (35 mm equivalent: 14.0 mm) |
FocalLengthIn35mmFormat | 14 mm |
Format | image/tiff |
FOV | 104.3 deg |
GainControl | Low gain up |
GradientBasedCorrActive | true |
GradientBasedCorrAmount | 1.000000 |
GradientBasedCorrBrightness | 0.000000 |
GradientBasedCorrClarity | 0.000000 |
GradientBasedCorrClarity2012 (1) | 0.810000 |
GradientBasedCorrClarity2012 (2) | 0.460000 |
GradientBasedCorrClarity2012 | 0.000000 |
GradientBasedCorrContrast | 0.000000 |
GradientBasedCorrContrast2012 (1) | 0.230000 |
GradientBasedCorrContrast2012 (2) | -0.100000 |
GradientBasedCorrContrast2012 | 0.300000 |
GradientBasedCorrDefringe | 0.000000 |
GradientBasedCorrExposure | 0.000000 |
GradientBasedCorrExposure2012 (1) | -0.162500 |
GradientBasedCorrExposure2012 (2) | -0.187500 |
GradientBasedCorrExposure2012 | -0.137500 |
GradientBasedCorrHighlights2012 (2) | 0.240000 |
GradientBasedCorrHighlights2012 | 0.000000 |
GradientBasedCorrHue | 329.000000 |
GradientBasedCorrLuminanceNoise | 0.000000 |
GradientBasedCorrMaskFullX (1) | 0.483548 |
GradientBasedCorrMaskFullX (2) | 0.450757 |
GradientBasedCorrMaskFullX | 1.005279 |
GradientBasedCorrMaskFullY (1) | 0.015833 |
GradientBasedCorrMaskFullY (2) | 0.944003 |
GradientBasedCorrMaskFullY | 0.597379 |
GradientBasedCorrMaskValue | 1.000000 |
GradientBasedCorrMaskWhat | Mask/Gradient |
GradientBasedCorrMaskZeroX (1) | 0.490467 |
GradientBasedCorrMaskZeroX (2) | 0.447149 |
GradientBasedCorrMaskZeroX | 0.758818 |
GradientBasedCorrMaskZeroY (1) | 0.679774 |
GradientBasedCorrMaskZeroY (2) | 0.384549 |
GradientBasedCorrMaskZeroY | 0.565199 |
GradientBasedCorrMoire | 0.000000 |
GradientBasedCorrSaturation (1) | 0.370000 |
GradientBasedCorrSaturation (5) | 0.190000 |
GradientBasedCorrSaturation | 0.000000 |
GradientBasedCorrShadows2012 (1) | 0.600000 |
GradientBasedCorrShadows2012 (2) | 0.170000 |
GradientBasedCorrShadows2012 | 0.000000 |
GradientBasedCorrSharpness | 0.000000 |
GradientBasedCorrTemperature (1) | 0.090000 |
GradientBasedCorrTemperature (2) | -0.150000 |
GradientBasedCorrTemperature | 0.000000 |
GradientBasedCorrTint (1) | -0.110000 |
GradientBasedCorrTint | 0.000000 |
GradientBasedCorrWhat | Correction |
GrainAmount | 0 |
GreenHue | 0 |
GreenSaturation | 0 |
HasCrop | True |
HasSettings | True |
Highlights2012 | -77 |
HueAdjustmentAqua | 0 |
HueAdjustmentBlue | 0 |
HueAdjustmentGreen | 0 |
HueAdjustmentMagenta | 0 |
HueAdjustmentOrange | 0 |
HueAdjustmentPurple | 0 |
HueAdjustmentRed | 0 |
HueAdjustmentYellow | 0 |
HyperfocalDistance | 2.33 m |
ICCProfileName | Adobe RGB (1998) |
ImageHeight | 2875 |
ImageNumber | 8105 |
ImageSize | 5113x2875 |
ImageWidth | 5113 |
ISO | 560 |
Lens | 14.0 mm f/2.8 |
LensID (1) | 74 |
LensID | Samyang AE 14mm f/2.8 ED AS IF UMC |
LensInfo | 14mm f/2.8-1.4 |
LensManualDistortionAmount | +20 |
LensModel | 14.0 mm f/2.8 |
LensProfileEnable | 0 |
LensProfileSetup | LensDefaults |
LightSource | Unknown |
LightValue | -0.5 |
LuminanceAdjustmentAqua | 0 |
LuminanceAdjustmentBlue | -49 |
LuminanceAdjustmentGreen | -54 |
LuminanceAdjustmentMagenta | 0 |
LuminanceAdjustmentOrange | +23 |
LuminanceAdjustmentPurple | 0 |
LuminanceAdjustmentRed | -50 |
LuminanceAdjustmentYellow | -48 |
LuminanceNoiseReductionContrast | 20 |
LuminanceNoiseReductionDetail | 9 |
LuminanceSmoothing | 30 |
Make | NIKON CORPORATION |
MaxApertureValue | 2.8 |
Megapixels | 14.7 |
MeteringMode | Center-weighted average |
Model | NIKON D600 |
ModifyDate (1) | 2015:04:03 01:51:45+02:00 |
ModifyDate | 2015:04:03 01:51:45 |
Orientation | Horizontal (normal) |
PaintCorrectionActive | true |
PaintCorrectionAmount | 1.000000 |
PaintCorrectionBrightness | 0.000000 |
PaintCorrectionClarity | 0.000000 |
PaintCorrectionClarity2012 (1) | 0.590000 |
PaintCorrectionClarity2012 | 0.620000 |
PaintCorrectionContrast | 0.000000 |
PaintCorrectionContrast2012 (1) | 0.000000 |
PaintCorrectionContrast2012 | 0.040000 |
PaintCorrectionDefringe | 0.000000 |
PaintCorrectionExposure | 0.000000 |
PaintCorrectionExposure2012 (1) | -0.187500 |
PaintCorrectionExposure2012 | -0.100000 |
PaintCorrectionHighlights2012 (1) | -0.170000 |
PaintCorrectionHighlights2012 | -0.240000 |
PaintCorrectionHue | 329.000000 |
PaintCorrectionLuminanceNoise | 0.000000 |
PaintCorrectionMaskCenterWeight | 0.035858 |
PaintCorrectionMaskFlow | 0.888889 |
PaintCorrectionMaskRadius | 0.238837 |
PaintCorrectionMaskValue | 1.000000 |
PaintCorrectionMaskWhat | Mask/Paint |
PaintCorrectionMoire | 0.000000 |
PaintCorrectionSaturation (1) | 0.850000 |
PaintCorrectionSaturation (3) | -0.050000 |
PaintCorrectionSaturation | 0.000000 |
PaintCorrectionShadows2012 (1) | -0.420000 |
PaintCorrectionShadows2012 | -0.430000 |
PaintCorrectionSharpness | 0.000000 |
PaintCorrectionTemperature (1) | -0.840000 |
PaintCorrectionTemperature | -0.810000 |
PaintCorrectionTint | 0.000000 |
PaintCorrectionWhat | Correction |
ParametricDarks | 0 |
ParametricHighlights | 0 |
ParametricHighlightSplit | 75 |
ParametricLights | 0 |
ParametricMidtoneSplit | 50 |
ParametricShadows | 0 |
ParametricShadowSplit | 25 |
PerspectiveAspect | 0 |
PerspectiveHorizontal | 0 |
PerspectiveRotate | 0.0 |
PerspectiveScale | 100 |
PerspectiveUpright | 0 |
PerspectiveVertical | 0 |
PhotometricInterpretation | RGB |
PlanarConfiguration | Chunky |
PostCropVignetteAmount | 0 |
ProcessVersion | 6.7 |
ProfileDescription | Adobe RGB (1998) |
Rating | 0 |
RawFileName | _DSC7808.NEF |
RedHue | 0 |
RedSaturation | 0 |
Rights | Zoltan ToT |
RowsPerStrip | 2875 |
SamplesPerPixel | 3 |
Saturation (1) | +15 |
Saturation | Normal |
SaturationAdjustmentAqua | 0 |
SaturationAdjustmentBlue | 0 |
SaturationAdjustmentGreen | 0 |
SaturationAdjustmentMagenta | 0 |
SaturationAdjustmentOrange | -29 |
SaturationAdjustmentPurple | 0 |
SaturationAdjustmentRed | +64 |
SaturationAdjustmentYellow | -41 |
ScaleFactor35efl | 1.0 |
SceneCaptureType | Standard |
SceneType | Directly photographed |
SensingMethod | One-chip color area |
SensitivityType | Recommended Exposure Index |
SerialNumber | 6015639 |
Shadows2012 | +61 |
ShadowTint | 0 |
SharpenDetail | 8 |
SharpenEdgeMasking | 75 |
SharpenRadius | +0.8 |
Sharpness (1) | 117 |
Sharpness | Normal |
ShutterSpeed | 2 |
ShutterSpeedValue | 2 |
Software | Adobe Photoshop CC 2014 (Macintosh) |
SplitToningBalance | 0 |
SplitToningHighlightHue | 0 |
SplitToningHighlightSaturation | 0 |
SplitToningShadowHue | 0 |
SplitToningShadowSaturation | 0 |
StripByteCounts | 44099625 |
StripOffsets | 57066 |
SubfileType | Full-resolution Image |
SubjectDistanceRange | Unknown |
Tint | 0 |
ToneCurve | 0, 0, 32, 22, 64, 56, 128, 128, 192, 196, 255, 255 |
ToneCurveBlue | 0, 0, 255, 255 |
ToneCurveGreen | 0, 0, 255, 255 |
ToneCurveName | Medium Contrast |
ToneCurveName2012 | Linear |
ToneCurvePV2012 | 0, 0, 255, 255 |
ToneCurvePV2012Blue | 0, 0, 255, 255 |
ToneCurvePV2012Green | 0, 0, 255, 255 |
ToneCurvePV2012Red | 0, 0, 255, 255 |
ToneCurveRed | 0, 0, 255, 255 |
URL_List | |
Version | 8.8 |
Vibrance | +19 |
VignetteAmount | +40 |
VignetteMidpoint | 29 |
WhiteBalance (1) | Manual |
WhiteBalance | Custom |
Whites2012 | -77 |