Felt | Verdi |
AlreadyApplied | True |
Aperture | 6.3 |
ApertureValue | 6.3 |
ApproximateFocusDistance | 4294967295 |
Artist | Vidar Lotveit |
AutoLateralCA | 1 |
AutoWhiteVersion | 134348800 |
BitsPerSample | 8 |
Blacks2012 | -10 |
BlueHue | 0 |
BlueSaturation | 0 |
By-line | Vidar Lotveit |
CameraProfile | Adobe Standard |
CircleOfConfusion | 0.031 mm |
Clarity2012 | +26 |
ColorComponents | 3 |
ColorNoiseReduction | 25 |
ColorNoiseReductionDetail | 50 |
ColorNoiseReductionSmoothness | 50 |
ColorSpace | sRGB |
ColorTemperature | 6405 |
ColorTransform | YCbCr |
Contrast2012 | +33 |
ConvertToGrayscale | False |
CreateDate (1) | 2015:03:18 18:29:21.52 |
CreateDate | 2015:03:18 18:29:21 |
Creator | Vidar Lotveit |
CreatorTool | Adobe Photoshop Lightroom 5.6 (Windows) |
CropAngle | 0.721327 |
CropBottom | 0.809136 |
CropConstrainToWarp | 0 |
CropLeft | 0.005288 |
CropRight | 0.994712 |
CropTop | 0.160279 |
CustomRendered | Normal |
DateCreated (1) | 2015:03:18 |
DateCreated | 2015:03:18 18:29:21.52 |
DateTimeOriginal | 2015:03:18 18:29:21 |
DefringeGreenAmount | 0 |
DefringeGreenHueHi | 60 |
DefringeGreenHueLo | 40 |
DefringePurpleAmount | 0 |
DefringePurpleHueHi | 70 |
DefringePurpleHueLo | 30 |
DOF | inf (3.22 m - inf) |
Exposure2012 | 0.00 |
ExposureCompensation | 0 |
ExposureMode | Manual |
ExposureProgram | Manual |
ExposureTime | 30 |
Firmware | 2.1.2 |
Flash | Off, Did not fire |
FlashCompensation | 0 |
FNumber | 6.3 |
FocalLength | 25.0 mm |
FocalLength35efl | 25.0 mm (35 mm equivalent: 24.4 mm) |
Format | image/jpeg |
FOV | 72.8 deg |
GradientBasedCorrActive | true |
GradientBasedCorrAmount | 1.000000 |
GradientBasedCorrBrightness | 0.000000 |
GradientBasedCorrClarity2012 | 0.000000 |
GradientBasedCorrContrast2012 | 0.000000 |
GradientBasedCorrDefringe | 0.000000 |
GradientBasedCorrExposure2012 | -0.448250 |
GradientBasedCorrHighlights2012 | 0.241380 |
GradientBasedCorrHue | 0.000000 |
GradientBasedCorrLuminanceNoise | 0.000000 |
GradientBasedCorrMaskFullX | 0.441574 |
GradientBasedCorrMaskFullY | -0.086980 |
GradientBasedCorrMaskValue | 1.000000 |
GradientBasedCorrMaskWhat | Mask/Gradient |
GradientBasedCorrMaskZeroX | 0.426373 |
GradientBasedCorrMaskZeroY | 0.711744 |
GradientBasedCorrMoire | 0.000000 |
GradientBasedCorrSaturation (1) | 0.011490 |
GradientBasedCorrSaturation | 0.000000 |
GradientBasedCorrShadows2012 | 0.172410 |
GradientBasedCorrSharpness | 0.000000 |
GradientBasedCorrTemperature | 0.563220 |
GradientBasedCorrTint | 0.000000 |
GradientBasedCorrWhat | Correction |
GrainAmount | 0 |
GreenHue | 0 |
GreenSaturation | 0 |
HasCrop | True |
HasExtendedXMP | AF087BD83100BF3AD2FAAB586314BAFF |
HasSettings | True |
Highlights2012 | -100 |
HueAdjustmentAqua | +2 |
HueAdjustmentBlue | 0 |
HueAdjustmentGreen | 0 |
HueAdjustmentMagenta | 0 |
HueAdjustmentOrange | 0 |
HueAdjustmentPurple | +100 |
HueAdjustmentRed | 0 |
HueAdjustmentYellow | 0 |
HyperfocalDistance | 3.22 m |
ImageHeight | 2359 |
ImageNumber | 0 |
ImageSize | 5586x2359 |
ImageWidth | 5586 |
ISO | 200 |
Lens | EF16-35mm f/2.8L II USM |
LensID (1) | 246 |
LensID | Canon EF 16-35mm f/2.8L II USM |
LensInfo | 16-35mm f/? |
LensManualDistortionAmount | 0 |
LensModel | EF16-35mm f/2.8L II USM |
LensProfileChromaticAberrationScale | 100 |
LensProfileDistortionScale | 100 |
LensProfileEnable | 1 |
LensProfileFilename | Canon EOS 5D Mark II (Canon EF 16-35mm f2.8 L II USM) - RAW.lcp |
LensProfileName | Adobe (Canon EF 16-35mm f/2.8 L II USM) |
LensProfileSetup | LensDefaults |
LensProfileVignettingScale | 100 |
LightValue | -0.6 |
LuminanceAdjustmentAqua | +2 |
LuminanceAdjustmentBlue | -31 |
LuminanceAdjustmentGreen | +2 |
LuminanceAdjustmentMagenta | 0 |
LuminanceAdjustmentOrange | 0 |
LuminanceAdjustmentPurple | 0 |
LuminanceAdjustmentRed | 0 |
LuminanceAdjustmentYellow | 0 |
LuminanceNoiseReductionContrast | 0 |
LuminanceNoiseReductionDetail | 50 |
LuminanceSmoothing | 35 |
Make | Canon |
MaxApertureValue | 2.8 |
Megapixels | 13.2 |
MeteringMode | Multi-segment |
Model | Canon EOS 5D Mark II |
ModifyDate (1) | 2015:03:19 18:42:14+01:00 |
ModifyDate | 2015:03:19 18:42:14 |
OwnerName | Vidar Lotveit |
PaintCorrectionActive | true |
PaintCorrectionAmount | 1.000000 |
PaintCorrectionBrightness | 0.000000 |
PaintCorrectionClarity2012 | 0.000000 |
PaintCorrectionContrast2012 | 0.000000 |
PaintCorrectionDefringe | 0.000000 |
PaintCorrectionExposure2012 | 0.047500 |
PaintCorrectionHighlights2012 | 0.000000 |
PaintCorrectionHue | 0.000000 |
PaintCorrectionLuminanceNoise | 0.000000 |
PaintCorrectionMaskCenterWeight | 0.000000 |
PaintCorrectionMaskFlow | 0.620000 |
PaintCorrectionMaskRadius (1) | 0.056256 |
PaintCorrectionMaskRadius (10) | 0.030565 |
PaintCorrectionMaskRadius (11) | 0.031000 |
PaintCorrectionMaskRadius (12) | 0.030568 |
PaintCorrectionMaskRadius (13) | 0.031090 |
PaintCorrectionMaskRadius (14) | 0.030803 |
PaintCorrectionMaskRadius (15) | 0.030798 |
PaintCorrectionMaskRadius (16) | 0.030642 |
PaintCorrectionMaskRadius (17) | 0.030704 |
PaintCorrectionMaskRadius (18) | 0.031091 |
PaintCorrectionMaskRadius (19) | 0.110537 |
PaintCorrectionMaskRadius (2) | 0.056465 |
PaintCorrectionMaskRadius (20) | 0.111244 |
PaintCorrectionMaskRadius (21) | 0.112736 |
PaintCorrectionMaskRadius (22) | 0.112757 |
PaintCorrectionMaskRadius (23) | 0.110422 |
PaintCorrectionMaskRadius (24) | 0.110479 |
PaintCorrectionMaskRadius (25) | 0.110365 |
PaintCorrectionMaskRadius (26) | 0.112350 |
PaintCorrectionMaskRadius (27) | 0.056357 |
PaintCorrectionMaskRadius (29) | 0.055614 |
PaintCorrectionMaskRadius (3) | 0.030596 |
PaintCorrectionMaskRadius (30) | 0.055403 |
PaintCorrectionMaskRadius (31) | 0.055835 |
PaintCorrectionMaskRadius (32) | 0.055703 |
PaintCorrectionMaskRadius (33) | 0.055484 |
PaintCorrectionMaskRadius (34) | 0.055766 |
PaintCorrectionMaskRadius (35) | 0.055625 |
PaintCorrectionMaskRadius (36) | 0.055469 |
PaintCorrectionMaskRadius (37) | 0.055870 |
PaintCorrectionMaskRadius (38) | 0.056018 |
PaintCorrectionMaskRadius (39) | 0.018851 |
PaintCorrectionMaskRadius (4) | 0.031278 |
PaintCorrectionMaskRadius (40) | 0.018933 |
PaintCorrectionMaskRadius (41) | 0.018914 |
PaintCorrectionMaskRadius (42) | 0.018929 |
PaintCorrectionMaskRadius (43) | 0.028612 |
PaintCorrectionMaskRadius (5) | 0.030627 |
PaintCorrectionMaskRadius (6) | 0.030657 |
PaintCorrectionMaskRadius (7) | 0.030726 |
PaintCorrectionMaskRadius (8) | 0.031252 |
PaintCorrectionMaskRadius (9) | 0.031315 |
PaintCorrectionMaskRadius | 0.029140 |
PaintCorrectionMaskValue | 1.000000 |
PaintCorrectionMaskWhat | Mask/Paint |
PaintCorrectionMoire | 0.000000 |
PaintCorrectionSaturation (3) | 0.023810 |
PaintCorrectionSaturation | 0.000000 |
PaintCorrectionShadows2012 | 0.000000 |
PaintCorrectionSharpness | 0.000000 |
PaintCorrectionTemperature | 0.586210 |
PaintCorrectionTint | 0.000000 |
PaintCorrectionWhat | Correction |
ParametricDarks | 0 |
ParametricHighlights | 0 |
ParametricHighlightSplit | 75 |
ParametricLights | 0 |
ParametricMidtoneSplit | 50 |
ParametricShadows | 0 |
ParametricShadowSplit | 25 |
PerspectiveAspect | 0 |
PerspectiveHorizontal | 0 |
PerspectiveRotate | 0.0 |
PerspectiveScale | 100 |
PerspectiveUpright | 1 |
PerspectiveVertical | 0 |
PostCropVignetteAmount | -12 |
PostCropVignetteFeather | 50 |
PostCropVignetteHighlightContrast | 0 |
PostCropVignetteMidpoint | 50 |
PostCropVignetteRoundness | 0 |
PostCropVignetteStyle | 1 |
ProcessVersion | 6.7 |
ProfileDescription | sRGB IEC61966-2.1 |
RedHue | 0 |
RedSaturation | 0 |
Saturation | 0 |
SaturationAdjustmentAqua | -4 |
SaturationAdjustmentBlue | 0 |
SaturationAdjustmentGreen | +2 |
SaturationAdjustmentMagenta | 0 |
SaturationAdjustmentOrange | 0 |
SaturationAdjustmentPurple | +2 |
SaturationAdjustmentRed | 0 |
SaturationAdjustmentYellow | 0 |
ScaleFactor35efl | 1.0 |
SceneCaptureType | Standard |
SerialNumber | 1330824139 |
Shadows2012 | +100 |
ShadowTint | 0 |
SharpenDetail | 25 |
SharpenEdgeMasking | 0 |
SharpenRadius | +1.0 |
Sharpness | 66 |
ShutterSpeed | 30 |
ShutterSpeedValue | 30 |
Software | Adobe Photoshop Lightroom 5.6 (Windows) |
SplitToningBalance | -5 |
SplitToningHighlightHue | 0 |
SplitToningHighlightSaturation | 0 |
SplitToningShadowHue | 0 |
SplitToningShadowSaturation | 0 |
Tint | -11 |
ToneCurve | 0, 0, 255, 255 |
ToneCurveBlue | 0, 0, 255, 255 |
ToneCurveGreen | 0, 0, 255, 255 |
ToneCurveName | Linear |
ToneCurveName2012 | Linear |
ToneCurvePV2012 | 0, 0, 255, 255 |
ToneCurvePV2012Blue | 0, 0, 255, 255 |
ToneCurvePV2012Green | 0, 0, 255, 255 |
ToneCurvePV2012Red | 0, 0, 255, 255 |
ToneCurveRed | 0, 0, 255, 255 |
Version | 8.6 |
Vibrance | +62 |
VignetteAmount | 0 |
WhiteBalance (1) | Custom |
WhiteBalance | Manual |
Whites2012 | +26 |