Felt | Verdi |
AlreadyApplied | True |
Aperture | 9.0 |
ApertureValue | 9.0 |
Artist | StinniFoto |
AutoLateralCA | 1 |
AutoWhiteVersion | 134348800 |
BitsPerSample | 8 |
Blacks2012 | -49 |
BlueHue | 0 |
BlueSaturation | 0 |
By-line | StinniFoto |
CameraProfile | Adobe Standard |
CircleOfConfusion | 0.020 mm |
Clarity2012 | +23 |
ColorComponents | 3 |
ColorMode | RGB |
ColorNoiseReduction | 25 |
ColorNoiseReductionDetail | 50 |
ColorNoiseReductionSmoothness | 50 |
ColorSpace | Uncalibrated |
ColorTemperature | 5300 |
ColorTransform | YCbCr |
Contrast | Normal |
Contrast2012 | +4 |
ConvertToGrayscale | False |
Copyright | StinniFoto |
CopyrightNotice | StinniFoto |
CreateDate | 2014:08:19 16:25:08 |
Creator | StinniFoto |
CreatorTool | K-5 Ver 1.14 |
CropAngle | -0.406998 |
CropBottom | 0.989389 |
CropConstrainToWarp | 0 |
CropLeft | 0.002978 |
CropRight | 0.997022 |
CropTop | 0.010611 |
CustomRendered | Normal |
DateCreated (1) | 2014:08:19 |
DateCreated | 2014:08:19 16:25:08 |
DateTimeOriginal | 2014:08:19 16:25:08 |
DefringeGreenAmount | 0 |
DefringeGreenHueHi | 60 |
DefringeGreenHueLo | 40 |
DefringePurpleAmount | 0 |
DefringePurpleHueHi | 70 |
DefringePurpleHueLo | 30 |
ExifImageHeight | 2346 |
ExifImageWidth | 3128 |
Exposure2012 | +0.40 |
ExposureCompensation | 0 |
ExposureMode | Auto |
ExposureProgram | Aperture-priority AE |
ExposureTime | 1/200 |
Flash | Off, Did not fire |
FNumber | 9.0 |
FocalLength | 100.0 mm |
FocalLength35efl | 100.0 mm (35 mm equivalent: 150.0 mm) |
FocalLengthIn35mmFormat | 150 mm |
Format | image/jpeg |
FOV | 13.7 deg |
GrainAmount | 0 |
GreenHue | 0 |
GreenSaturation | 0 |
HasCrop | True |
HasSettings | True |
HierarchicalSubject | 19 08 2014, dag 02 grønland, miljø |
Highlights2012 | -46 |
HueAdjustmentAqua | 0 |
HueAdjustmentBlue | 0 |
HueAdjustmentGreen | 0 |
HueAdjustmentMagenta | 0 |
HueAdjustmentOrange | 0 |
HueAdjustmentPurple | -47 |
HueAdjustmentRed | 0 |
HueAdjustmentYellow | 0 |
HyperfocalDistance | 55.47 m |
ICCProfileName | Adobe RGB (1998) |
ImageHeight | 2346 |
ImageSize | 3128x2346 |
ImageWidth | 3128 |
ISO | 100 |
Keywords | 19 08 2014, dag 02 grønland, miljø |
Label | |
Lens | Sigma Lens |
LensID (1) | 3 0 |
LensID | Sigma |
LensManualDistortionAmount | 0 |
LensModel | Sigma Lens |
LensProfileEnable | 1 |
LensProfileSetup | LensDefaults |
LightValue | 14.0 |
LuminanceAdjustmentAqua | 0 |
LuminanceAdjustmentBlue | -25 |
LuminanceAdjustmentGreen | +51 |
LuminanceAdjustmentMagenta | 0 |
LuminanceAdjustmentOrange | 0 |
LuminanceAdjustmentPurple | 0 |
LuminanceAdjustmentRed | 0 |
LuminanceAdjustmentYellow | 0 |
LuminanceNoiseReductionContrast | 0 |
LuminanceNoiseReductionDetail | 50 |
LuminanceSmoothing | 24 |
Make | PENTAX |
Megapixels | 7.3 |
MeteringMode | Multi-segment |
Model | PENTAX K-5 |
ModifyDate (1) | 2015:03:16 22:46:27+01:00 |
ModifyDate | 2015:03:16 22:46:27 |
Orientation | Horizontal (normal) |
ParametricDarks | -6 |
ParametricHighlights | 0 |
ParametricHighlightSplit | 75 |
ParametricLights | +8 |
ParametricMidtoneSplit | 50 |
ParametricShadows | 0 |
ParametricShadowSplit | 25 |
PerspectiveAspect | 0 |
PerspectiveHorizontal | 0 |
PerspectiveRotate | 0.0 |
PerspectiveScale | 100 |
PerspectiveUpright | 0 |
PerspectiveVertical | 0 |
PostCropVignetteAmount | +8 |
PostCropVignetteFeather | 50 |
PostCropVignetteMidpoint | 50 |
PostCropVignetteRoundness | 0 |
PostCropVignetteStyle | 1 |
ProcessVersion | 6.7 |
ProfileDescription | Adobe RGB (1998) |
Rating | 2 |
RawFileName | _IGP7411.DNG |
RedHue | 0 |
RedSaturation | 0 |
Rights | StinniFoto |
Saturation (1) | 0 |
Saturation | Normal |
SaturationAdjustmentAqua | 0 |
SaturationAdjustmentBlue | +36 |
SaturationAdjustmentGreen | 0 |
SaturationAdjustmentMagenta | 0 |
SaturationAdjustmentOrange | 0 |
SaturationAdjustmentPurple | 0 |
SaturationAdjustmentRed | 0 |
SaturationAdjustmentYellow | 0 |
ScaleFactor35efl | 1.5 |
SceneCaptureType | Standard |
SensingMethod | One-chip color area |
Shadows2012 | +59 |
ShadowTint | 0 |
SharpenDetail | 25 |
SharpenEdgeMasking | 28 |
SharpenRadius | +1.0 |
Sharpness (1) | 55 |
Sharpness | Normal |
ShutterSpeed | 1/200 |
ShutterSpeedValue | 1/200 |
Software | Adobe Photoshop CS6 (Macintosh) |
SplitToningBalance | 0 |
SplitToningHighlightHue | 54 |
SplitToningHighlightSaturation | 13 |
SplitToningShadowHue | 0 |
SplitToningShadowSaturation | 0 |
Subject | 19 08 2014, dag 02 grønland, miljø |
SubjectDistanceRange | Distant |
Tint | +8 |
ToneCurveName2012 | Linear |
ToneCurvePV2012 | 0, 0, 255, 255 |
ToneCurvePV2012Blue | 0, 0, 255, 255 |
ToneCurvePV2012Green | 0, 0, 255, 255 |
ToneCurvePV2012Red | 0, 0, 255, 255 |
URL_List | |
Version | 8.2 |
Vibrance | +27 |
VignetteAmount | 0 |
WhiteBalance (1) | Custom |
WhiteBalance | Manual |
Whites2012 | -27 |